BEGIN:VCALENDAR
VERSION:2.0
PRODID:-//Corte Constitucional del Ecuador - ECPv6.10.2//NONSGML v1.0//EN
CALSCALE:GREGORIAN
METHOD:PUBLISH
X-ORIGINAL-URL:https://www.corteconstitucional.gob.ec
X-WR-CALDESC:Eventos para Corte Constitucional del Ecuador
REFRESH-INTERVAL;VALUE=DURATION:PT1H
X-Robots-Tag:noindex
X-PUBLISHED-TTL:PT1H
BEGIN:VTIMEZONE
TZID:America/Bogota
BEGIN:STANDARD
TZOFFSETFROM:-0500
TZOFFSETTO:-0500
TZNAME:-05
DTSTART:20250101T000000
END:STANDARD
END:VTIMEZONE
BEGIN:VEVENT
DTSTART;TZID=America/Bogota:20251117T100000
DTEND;TZID=America/Bogota:20251117T163000
DTSTAMP:20260419T131145
CREATED:20251107T150644Z
LAST-MODIFIED:20251107T150644Z
UID:278374-1763373600-1763397000@www.corteconstitucional.gob.ec
SUMMARY:Audiencia pública telemática del Caso 341-22-EP
DESCRIPTION:El juez sustanciador Raúl Llasag Fernández presidirá la audiencia pública telemática del Caso 341-22-EP. \nConoce más AQUÍ
URL:https://www.corteconstitucional.gob.ec/event/audiencia-publica-telematica-del-caso-341-22-ep/
CATEGORIES:Audiencias Públicas
END:VEVENT
BEGIN:VEVENT
DTSTART;TZID=America/Bogota:20251120T100000
DTEND;TZID=America/Bogota:20251120T163000
DTSTAMP:20260419T131145
CREATED:20251119T214306Z
LAST-MODIFIED:20251119T214645Z
UID:278446-1763632800-1763656200@www.corteconstitucional.gob.ec
SUMMARY:Sesión jurisdiccional ordinaria 048-O-2025
DESCRIPTION:Las juezas y jueces que conforman el Pleno de la Corte Constitucional realizarán la Sesión jurisdiccional ordinaria 047-O-2025\, el jueves 20 de noviembre del 2025\, a partir de las 10h00. \nConoce el orden del día AQUÍ
URL:https://www.corteconstitucional.gob.ec/event/sesion-jurisdiccional-ordinaria-048-o-2025-2/
CATEGORIES:Sesiones del Pleno
END:VEVENT
BEGIN:VEVENT
DTSTART;TZID=America/Bogota:20251121T100000
DTEND;TZID=America/Bogota:20251121T163000
DTSTAMP:20260419T131145
CREATED:20251116T193143Z
LAST-MODIFIED:20251120T195309Z
UID:278473-1763719200-1763742600@www.corteconstitucional.gob.ec
SUMMARY:Audiencia pública telemática del Caso 3946-23-JP
DESCRIPTION:El juez sustanciador José Luis Terán Suárez presidirá la audiencia pública telemática del Caso 3946-23-JP. \nConoce más AQUÍ
URL:https://www.corteconstitucional.gob.ec/event/audiencia-publica-telematica-del-caso-3946-23-jp/
CATEGORIES:Audiencias Públicas
END:VEVENT
BEGIN:VEVENT
DTSTART;TZID=America/Bogota:20251121T100000
DTEND;TZID=America/Bogota:20251121T163000
DTSTAMP:20260419T131145
CREATED:20251117T131718Z
LAST-MODIFIED:20251117T133659Z
UID:278433-1763719200-1763742600@www.corteconstitucional.gob.ec
SUMMARY:Audiencia pública telemática del Caso 1732-25-EP
DESCRIPTION:La jueza sustanciadora Alejandra Cárdenas Reyes presidirá la audiencia pública telemática del Caso 1732-25-EP. \nConoce más AQUÍ
URL:https://www.corteconstitucional.gob.ec/event/audiencia-publica-telematica-del-caso-1732-25-ep/
CATEGORIES:Audiencias Públicas
END:VEVENT
BEGIN:VEVENT
DTSTART;TZID=America/Bogota:20251121T140000
DTEND;TZID=America/Bogota:20251121T170000
DTSTAMP:20260419T131145
CREATED:20251120T175344Z
LAST-MODIFIED:20251120T175411Z
UID:278464-1763733600-1763744400@www.corteconstitucional.gob.ec
SUMMARY:Segundo Tribunal de Sala de Admisión
DESCRIPTION:Los jueces constitucionales José Luis Terán Suárez y Richard Ortiz Ortiz; y la jueza constitucional Alejandra Cárdenas Reyes integrantes del Segundo Tribunal de Sala de Admisión sesionarán el viernes 21 de noviembre de 2025\, a las 14h00. \n 
URL:https://www.corteconstitucional.gob.ec/event/segundo-tribunal-de-sala-de-admision-14/
CATEGORIES:Sesiones de Salas de Admisión, Selección y Revisión
END:VEVENT
BEGIN:VEVENT
DTSTART;TZID=America/Bogota:20251121T150000
DTEND;TZID=America/Bogota:20251121T170000
DTSTAMP:20260419T131145
CREATED:20251120T174953Z
LAST-MODIFIED:20251120T174953Z
UID:278459-1763737200-1763744400@www.corteconstitucional.gob.ec
SUMMARY:Primera Sala de Revisión
DESCRIPTION:Los jueces constitucionales José Luis Terán Suárez y Richard Ortiz Ortiz; y la jueza constitucional Alejandra Cárdenas Reyes integrantes de la Primera Sala de Revisión sesionarán el 21 de noviembre de 2025\, a partir de las las 15h00.
URL:https://www.corteconstitucional.gob.ec/event/primera-sala-de-revision-2/
CATEGORIES:Sesiones de Salas de Admisión, Selección y Revisión
END:VEVENT
BEGIN:VEVENT
DTSTART;TZID=America/Bogota:20251126T113000
DTEND;TZID=America/Bogota:20251126T123000
DTSTAMP:20260419T131145
CREATED:20251124T170931Z
LAST-MODIFIED:20251124T170931Z
UID:278480-1764156600-1764160200@www.corteconstitucional.gob.ec
SUMMARY:Audiencia Pública del Pleno de la Corte Constitucional del Caso 12-22-EI
DESCRIPTION:El juez sustanciador José Luis Terán Suárez convoca a las partes procesales\, terceros con interés y amicus curiae a la Audiencia Pública del Pleno de la Corte Constitucional del Caso 12-22-EI. \nConoce más AQUÍ
URL:https://www.corteconstitucional.gob.ec/event/audiencia-publica-del-pleno-de-la-corte-constitucional-del-caso-12-22-ei/
CATEGORIES:Audiencias Públicas
END:VEVENT
BEGIN:VEVENT
DTSTART;TZID=America/Bogota:20251127T103000
DTEND;TZID=America/Bogota:20251127T170000
DTSTAMP:20260419T131145
CREATED:20251126T182805Z
LAST-MODIFIED:20251126T182805Z
UID:278485-1764239400-1764262800@www.corteconstitucional.gob.ec
SUMMARY:Sesión administrativa ordinaria 049-O-2025
DESCRIPTION:Las y los jueces que conforman el Pleno de la Corte Constitucional realizarán la Sesión administrativa ordinaria 049-O-2025\, el 27 de noviembre a partir de las 10h30. \nConoce el orden del día AQUÍ
URL:https://www.corteconstitucional.gob.ec/event/sesion-administrativa-ordinaria-049-o-2025/
CATEGORIES:Sesiones del Pleno
END:VEVENT
BEGIN:VEVENT
DTSTART;TZID=America/Bogota:20251127T110000
DTEND;TZID=America/Bogota:20251127T170000
DTSTAMP:20260419T131145
CREATED:20251126T183759Z
LAST-MODIFIED:20251126T183759Z
UID:278492-1764241200-1764262800@www.corteconstitucional.gob.ec
SUMMARY:Sesión jurisdiccional ordinaria 050-O-2025
DESCRIPTION:Las juezas y jueces que conforman el Pleno de la Corte Constitucional realizarán la Sesión jurisdiccional ordinaria 050-O-2025\, el jueves 27 de noviembre del 2025\, a partir de las 11h00. \nConoce el orden del día AQUÍ
URL:https://www.corteconstitucional.gob.ec/event/sesion-jurisdiccional-ordinaria-050-o-2025/
CATEGORIES:Sesiones del Pleno
END:VEVENT
BEGIN:VEVENT
DTSTART;TZID=America/Bogota:20251128T103000
DTEND;TZID=America/Bogota:20251128T163000
DTSTAMP:20260419T131145
CREATED:20251128T014828Z
LAST-MODIFIED:20251128T014828Z
UID:278503-1764325800-1764347400@www.corteconstitucional.gob.ec
SUMMARY:Sesión jurisdiccional extraordinaria 024-E-2025
DESCRIPTION:Las y los jueces constitucionales que conforman el Pleno de la Corte Constitucional realizarán la Sesión jurisdiccional extraordinaria 024-E-2025\, el 28 de noviembre del 2025\, a partir de las 10h30. \nConoce el orden del día AQUÍ
URL:https://www.corteconstitucional.gob.ec/event/sesion-jurisdiccional-extraordinaria-024-e-2025/
CATEGORIES:Sesiones del Pleno
END:VEVENT
BEGIN:VEVENT
DTSTART;TZID=America/Bogota:20251201T113000
DTEND;TZID=America/Bogota:20251201T163000
DTSTAMP:20260419T131145
CREATED:20251114T223849Z
LAST-MODIFIED:20251120T195231Z
UID:278426-1764588600-1764606600@www.corteconstitucional.gob.ec
SUMMARY:Audiencia pública telemática del Caso 1995-23-EP
DESCRIPTION:El juez sustanciador Jorge Benavides Ordóñez presidirá la audiencia pública telemática del Caso 1995-23-EP. \nConoce más AQUÍ
URL:https://www.corteconstitucional.gob.ec/event/audiencia-publica-telematica-del-caso-1995-23-ep/
CATEGORIES:Audiencias Públicas
END:VEVENT
BEGIN:VEVENT
DTSTART;TZID=America/Bogota:20251201T140000
DTEND;TZID=America/Bogota:20251201T163000
DTSTAMP:20260419T131145
CREATED:20251117T172002Z
LAST-MODIFIED:20251203T172307Z
UID:278549-1764597600-1764606600@www.corteconstitucional.gob.ec
SUMMARY:Primera Sala de Revisión
DESCRIPTION:La jueza constitucional Alejandra Cárdenas Reyes y los jueces constitucionales José Luis Terán y Richard Ortiz Ortiz\, integrantes de la Primera Sala de Revisión sesionarán el 01 de diciembre del 2025\, a partir de las 14h00. \n 
URL:https://www.corteconstitucional.gob.ec/event/primera-sala-de-revision-3/
CATEGORIES:Sesiones de Salas de Admisión, Selección y Revisión
END:VEVENT
BEGIN:VEVENT
DTSTART;TZID=America/Bogota:20251203T100000
DTEND;TZID=America/Bogota:20251203T110000
DTSTAMP:20260419T131145
CREATED:20251128T120020Z
LAST-MODIFIED:20251202T220824Z
UID:278542-1764756000-1764759600@www.corteconstitucional.gob.ec
SUMMARY:Sesión jurisdiccional extraordinaria 025-E-2025
DESCRIPTION:Las y los jueces constitucionales que conforman el Pleno de la Corte Constitucional realizarán la Sesión jurisdiccional extraordinaria 025-E-2025\, el 03 de diciembre del 2025\, a partir de las 10h00. \nConoce el orden del día AQUÍ
URL:https://www.corteconstitucional.gob.ec/event/sesion-jurisdiccional-extraordinaria-025-e-2025/
CATEGORIES:Sesiones del Pleno
END:VEVENT
BEGIN:VEVENT
DTSTART;TZID=America/Bogota:20251203T100000
DTEND;TZID=America/Bogota:20251203T113000
DTSTAMP:20260419T131145
CREATED:20251202T160133Z
LAST-MODIFIED:20251202T160133Z
UID:278521-1764756000-1764761400@www.corteconstitucional.gob.ec
SUMMARY:Audiencia Pública del Pleno de la Corte Constitucional del Caso 6-23-EI
DESCRIPTION:El Pleno de la Corte Constitucional convoca a las partes procesales\, terceros con interés y amicus curiae a la Audiencia Pública del caso 6-23-EI. \nConoce más AQUÍ
URL:https://www.corteconstitucional.gob.ec/event/audiencia-publica-del-pleno-de-la-corte-constitucional-del-caso-6-23-ei/
CATEGORIES:Audiencias Públicas
END:VEVENT
BEGIN:VEVENT
DTSTART;TZID=America/Bogota:20251203T113000
DTEND;TZID=America/Bogota:20251203T130000
DTSTAMP:20260419T131145
CREATED:20251202T160928Z
LAST-MODIFIED:20251202T160928Z
UID:278528-1764761400-1764766800@www.corteconstitucional.gob.ec
SUMMARY:Audiencia Pública del Pleno de la Corte Constitucional del Caso 8-23-EI
DESCRIPTION:El Pleno de la Corte Constitucional convoca a las partes procesales\, terceros con interés y amicus curiae a la Audiencia Pública del caso 8-23-EI. \nConoce más AQUÍ
URL:https://www.corteconstitucional.gob.ec/event/audiencia-publica-del-pleno-de-la-corte-constitucional-del-caso-8-23-ei/
CATEGORIES:Audiencias Públicas
END:VEVENT
BEGIN:VEVENT
DTSTART;TZID=America/Bogota:20251203T130000
DTEND;TZID=America/Bogota:20251203T143000
DTSTAMP:20260419T131145
CREATED:20251202T161433Z
LAST-MODIFIED:20251202T161433Z
UID:278535-1764766800-1764772200@www.corteconstitucional.gob.ec
SUMMARY:Audiencia Pública del Pleno de la Corte Constitucional del Caso 1-24-EI
DESCRIPTION:El Pleno de la Corte Constitucional convoca a las partes procesales\, terceros con interés y amicus curiae a la Audiencia Pública del caso 1-24-EI. \nConoce más AQUÍ
URL:https://www.corteconstitucional.gob.ec/event/audiencia-publica-del-pleno-de-la-corte-constitucional-del-caso-1-24-ei/
CATEGORIES:Audiencias Públicas
END:VEVENT
BEGIN:VEVENT
DTSTART;TZID=America/Bogota:20251204T100000
DTEND;TZID=America/Bogota:20251204T163000
DTSTAMP:20260419T131145
CREATED:20251203T204727Z
LAST-MODIFIED:20251204T022249Z
UID:278574-1764842400-1764865800@www.corteconstitucional.gob.ec
SUMMARY:Sesión jurisdiccional ordinaria 051-O-2025
DESCRIPTION:Las juezas y jueces que conforman el Pleno de la Corte Constitucional realizarán la Sesión jurisdiccional ordinaria 051-O-2025\, el jueves 04 de diciembre del 2025\, a partir de las 10h00. \nConoce el orden del día AQUÍ 
URL:https://www.corteconstitucional.gob.ec/event/sesion-jurisdiccional-ordinaria-051-o-2025/
CATEGORIES:Sesiones del Pleno
END:VEVENT
BEGIN:VEVENT
DTSTART;TZID=America/Bogota:20251209T133000
DTEND;TZID=America/Bogota:20251209T170000
DTSTAMP:20260419T131145
CREATED:20251208T200222Z
LAST-MODIFIED:20251211T201757Z
UID:278598-1765287000-1765299600@www.corteconstitucional.gob.ec
SUMMARY:Primera Sala de Revisión
DESCRIPTION:La jueza constitucional Alejandra Cárdenas Reyes y los jueces constitucionales José Luis Terán Suárez y Richard Ortiz Ortiz integrantes de la Primera Sala de Revisión\, sesionarán el 09 de diciembre de 2025\, a las 14h00.
URL:https://www.corteconstitucional.gob.ec/event/primera-sala-de-revision-4/
CATEGORIES:Sesiones de Salas de Admisión, Selección y Revisión
END:VEVENT
BEGIN:VEVENT
DTSTART;TZID=America/Bogota:20251211T100000
DTEND;TZID=America/Bogota:20251211T163000
DTSTAMP:20260419T131145
CREATED:20251210T211854Z
LAST-MODIFIED:20251210T212054Z
UID:278581-1765447200-1765470600@www.corteconstitucional.gob.ec
SUMMARY:Sesión jurisdiccional ordinaria 052-O-2025
DESCRIPTION:Las y los jueces que conforman el Pleno de la Corte Constitucional realizaran la Sesión jurisdiccional ordinaria 052-O-2025\, el 11 de diciembre a partir de las 10h00. \nConoce el orden del día AQUÍ
URL:https://www.corteconstitucional.gob.ec/event/sesion-jurisdiccional-ordinaria-052-o-2025/
CATEGORIES:Sesiones del Pleno
END:VEVENT
BEGIN:VEVENT
DTSTART;TZID=America/Bogota:20251215T100000
DTEND;TZID=America/Bogota:20251215T170000
DTSTAMP:20260419T131145
CREATED:20251203T174304Z
LAST-MODIFIED:20251212T133600Z
UID:278563-1765792800-1765818000@www.corteconstitucional.gob.ec
SUMMARY:Tercera Sala de Selección
DESCRIPTION:Los jueces constitucionales Alí Lozada Prado y Raúl Llasag Fernández; y la jueza constitucional Karla Andrade Quevedo\, integrantes de la Tercera Sala de Selección\, sesionarán el 15 de diciembre\, a partir de las 10h00.
URL:https://www.corteconstitucional.gob.ec/event/tercera-sala-de-seleccion-3/
CATEGORIES:Sesiones de Salas de Admisión, Selección y Revisión
END:VEVENT
BEGIN:VEVENT
DTSTART;TZID=America/Bogota:20251215T123000
DTEND;TZID=America/Bogota:20251215T170000
DTSTAMP:20260419T131145
CREATED:20251212T142357Z
LAST-MODIFIED:20251212T142357Z
UID:278619-1765801800-1765818000@www.corteconstitucional.gob.ec
SUMMARY:Tercera Sala de Revisión
DESCRIPTION:Las juezas constitucionales Karla Andrade Quevedo y Claudia Salgado Levy\, y el juez constitucional Raúl Llasag Fernández\, integrantes de la Tercera Sala de Revisión\, sesionarán el 15 de diciembre del 2025\, a partir de las 12h30.
URL:https://www.corteconstitucional.gob.ec/event/tercera-sala-de-revision-3/
CATEGORIES:Sesiones de Salas de Admisión, Selección y Revisión
END:VEVENT
BEGIN:VEVENT
DTSTART;TZID=America/Bogota:20251215T150000
DTEND;TZID=America/Bogota:20251215T170000
DTSTAMP:20260419T131145
CREATED:20251211T201156Z
LAST-MODIFIED:20251211T201412Z
UID:278602-1765810800-1765818000@www.corteconstitucional.gob.ec
SUMMARY:Segunda Sala de Revisión
DESCRIPTION:Los jueces constitucionales Alí Lozada Prado\, Jorge Benavides Ordóñez y Jhoel Escudero Soliz\, integrantes de la Segunda Sala de Revisión\, sesionarán el 15 de diciembre\, a partir de las 15h00.
URL:https://www.corteconstitucional.gob.ec/event/segunda-sala-de-revision-4/
CATEGORIES:Sesiones de Salas de Admisión, Selección y Revisión
END:VEVENT
BEGIN:VEVENT
DTSTART;TZID=America/Bogota:20251217T080000
DTEND;TZID=America/Bogota:20251217T170000
DTSTAMP:20260419T131145
CREATED:20251216T230629Z
LAST-MODIFIED:20251217T162811Z
UID:278652-1765958400-1765990800@www.corteconstitucional.gob.ec
SUMMARY:Sesión jurisdiccional ordinaria 053-O-2025
DESCRIPTION:Las y los jueces constitucionales que conforman el Pleno de la Corte Constitucional sesionarán el 17 de diciembre\, a partir de las 10h00\, en la Sesión jurisdiccional ordinaria 053-O-2025. \nConoce el orden del día AQUÍ
URL:https://www.corteconstitucional.gob.ec/event/sesion-jurisdiccional-ordinaria-053-o-2025/
CATEGORIES:Sesiones del Pleno
END:VEVENT
BEGIN:VEVENT
DTSTART;TZID=America/Bogota:20251218T093000
DTEND;TZID=America/Bogota:20251218T123000
DTSTAMP:20260419T131145
CREATED:20251203T173347Z
LAST-MODIFIED:20251203T173347Z
UID:278557-1766050200-1766061000@www.corteconstitucional.gob.ec
SUMMARY:Primer Tribunal de Sala de Admisión
DESCRIPTION:Los jueces constitucionales Jhoel Escudero Soliz\, Raúl Llasag Fernandez y Richard Ortiz Ortiz\, integrantes del Primer Tribunal de Sala de Admisión sesionarán el 18 de diciembre\, a partir de las 09h30. \n  \n  \n 
URL:https://www.corteconstitucional.gob.ec/event/primer-tribunal-de-sala-de-admision-15/
CATEGORIES:Sesiones de Salas de Admisión, Selección y Revisión
END:VEVENT
BEGIN:VEVENT
DTSTART;TZID=America/Bogota:20251219T100000
DTEND;TZID=America/Bogota:20251219T170000
DTSTAMP:20260419T131145
CREATED:20251215T151357Z
LAST-MODIFIED:20251215T151357Z
UID:278629-1766138400-1766163600@www.corteconstitucional.gob.ec
SUMMARY:Tercer Tribunal de Sala de Admisión
DESCRIPTION:Las juezas constitucionales Karla Andrade Quevedo y Claudia Salgado Levy\, y el juez constitucional José Luis Terán Suárez\, integrantes del Tercer Tribunal de Sala de Admisión sesionarán el 19 de diciembre\, a partir de las 10h00.
URL:https://www.corteconstitucional.gob.ec/event/tercer-tribunal-de-sala-de-admision-15/
CATEGORIES:Sesiones de Salas de Admisión, Selección y Revisión
END:VEVENT
BEGIN:VEVENT
DTSTART;TZID=America/Bogota:20251219T110000
DTEND;TZID=America/Bogota:20251219T170000
DTSTAMP:20260419T131145
CREATED:20251211T202514Z
LAST-MODIFIED:20251211T202514Z
UID:278609-1766142000-1766163600@www.corteconstitucional.gob.ec
SUMMARY:Segundo Tribunal de Sala de Admisión
DESCRIPTION:Los jueces constitucionales Alí Lozada Prado y Jorge Benavides\, y la jueza constitucional Alejandra Cárdenas Reyes\, integrantes del Segundo Tribunal de Sala de Admisión\, sesionarán el 19 de diciembre\, a partir de las 11h00.
URL:https://www.corteconstitucional.gob.ec/event/segundo-tribunal-de-sala-de-admision-15/
CATEGORIES:Sesiones de Salas de Admisión, Selección y Revisión
END:VEVENT
BEGIN:VEVENT
DTSTART;TZID=America/Bogota:20260108T100000
DTEND;TZID=America/Bogota:20260108T170000
DTSTAMP:20260419T131145
CREATED:20260107T215416Z
LAST-MODIFIED:20260107T215416Z
UID:278679-1767866400-1767891600@www.corteconstitucional.gob.ec
SUMMARY:Sesión administrativa ordinaria 001-O-2026
DESCRIPTION:Las y los jueces que conforman el Pleno de la Corte Constitucional realizarán la Sesión administrativa ordinaria 001-O-2026\, el jueves 08 de enero del 2026\, a partir de las 10h00. \nConoce el orden del día AQUÍ
URL:https://www.corteconstitucional.gob.ec/event/sesion-administrativa-ordinaria-001-o-2026/
CATEGORIES:Sesiones del Pleno
END:VEVENT
BEGIN:VEVENT
DTSTART;TZID=America/Bogota:20260115T100000
DTEND;TZID=America/Bogota:20260115T103000
DTSTAMP:20260419T131145
CREATED:20260114T164322Z
LAST-MODIFIED:20260114T164322Z
UID:278698-1768471200-1768473000@www.corteconstitucional.gob.ec
SUMMARY:Sesión administrativa ordinaria 002-O-2026
DESCRIPTION:Las y los jueces constitucionales que conforman el Pleno de la Corte Constitucional realizarán la Sesión administrativa ordinaria 002-O-2026\, el 15 de enero\, a partir de las 10h00. \nConoce el orden del día aquí
URL:https://www.corteconstitucional.gob.ec/event/sesion-administrativa-ordinaria-002-o-2026/
CATEGORIES:Sesiones del Pleno
END:VEVENT
BEGIN:VEVENT
DTSTART;TZID=America/Bogota:20260115T103000
DTEND;TZID=America/Bogota:20260115T170000
DTSTAMP:20260419T131145
CREATED:20260114T162458Z
LAST-MODIFIED:20260114T164628Z
UID:278693-1768473000-1768496400@www.corteconstitucional.gob.ec
SUMMARY:Sesión jurisdiccional ordinaria 003-O-2026
DESCRIPTION:Las y los jueces constitucionales que conforman el Pleno de la Corte Constitucional realizarán la Sesión jurisdiccional ordinaria 003-O-2026\, el 15 de enero del 2026\, a partir de las 10h00. \nConoce el orden del día AQUÍ
URL:https://www.corteconstitucional.gob.ec/event/sesion-jurisdiccional-ordinaria-003-o-2026/
CATEGORIES:Sesiones del Pleno
END:VEVENT
BEGIN:VEVENT
DTSTART;TZID=America/Bogota:20260121T100000
DTEND;TZID=America/Bogota:20260121T170000
DTSTAMP:20260419T131145
CREATED:20260121T204344Z
LAST-MODIFIED:20260121T204344Z
UID:278973-1768989600-1769014800@www.corteconstitucional.gob.ec
SUMMARY:Primera Sala de Revisión
DESCRIPTION:La jueza constitucional Alejandra Cárdenas Reyes y los jueces constitucionales José Terán Suárez y Richard Ortiz Ortiz\, integrantes de la Primera Sala de Revisión\, sesionarán el 21 de enero del 2026\, a partir de las 10h00.
URL:https://www.corteconstitucional.gob.ec/event/primera-sala-de-revision-5/
CATEGORIES:Sesiones de Salas de Admisión, Selección y Revisión
END:VEVENT
END:VCALENDAR