BEGIN:VCALENDAR
VERSION:2.0
PRODID:-//Corte Constitucional del Ecuador - ECPv6.10.2//NONSGML v1.0//EN
CALSCALE:GREGORIAN
METHOD:PUBLISH
X-WR-CALNAME:Corte Constitucional del Ecuador
X-ORIGINAL-URL:https://www.corteconstitucional.gob.ec
X-WR-CALDESC:Eventos para Corte Constitucional del Ecuador
REFRESH-INTERVAL;VALUE=DURATION:PT1H
X-Robots-Tag:noindex
X-PUBLISHED-TTL:PT1H
BEGIN:VTIMEZONE
TZID:America/Bogota
BEGIN:STANDARD
TZOFFSETFROM:-0500
TZOFFSETTO:-0500
TZNAME:-05
DTSTART:20240101T000000
END:STANDARD
END:VTIMEZONE
BEGIN:VEVENT
DTSTART;TZID=America/Bogota:20240319T100000
DTEND;TZID=America/Bogota:20240319T130000
DTSTAMP:20260420T150511
CREATED:20240319T161512Z
LAST-MODIFIED:20240319T163316Z
UID:270112-1710842400-1710853200@www.corteconstitucional.gob.ec
SUMMARY:Sesión jurisdiccional extraordinaria 007-E-2024
DESCRIPTION:Las juezas y jueces constitucionales que conforman el Pleno de la Corte Constitucional realizarán la Sesión jurisdiccional extraordinaria Nro. 007-E-2024. \nConoce el orden del día AQUÍ
URL:https://www.corteconstitucional.gob.ec/event/sesion-jurisdiccional-extraordinaria-007-e-2024/
CATEGORIES:Sesiones del Pleno
END:VEVENT
BEGIN:VEVENT
DTSTART;TZID=America/Bogota:20240319T100000
DTEND;TZID=America/Bogota:20240319T130000
DTSTAMP:20260420T150511
CREATED:20240319T161512Z
LAST-MODIFIED:20240319T161512Z
UID:275176-1710842400-1710853200@www.corteconstitucional.gob.ec
SUMMARY:Sesión jurisdiccional extraordinaria 007-E-2024
DESCRIPTION:Las juezas y jueces constitucionales que conforman el Pleno de la Corte Constitucional realizarán la Sesión jurisdiccional extraordinaria Nro. 007-E-2024. \nConoce el orden del día AQUÍ
URL:https://www.corteconstitucional.gob.ec/event/sesion-jurisdiccional-extraordinaria-007-e-2024-2/
CATEGORIES:Sesiones del Pleno
END:VEVENT
BEGIN:VEVENT
DTSTART;TZID=America/Bogota:20240319T100000
DTEND;TZID=America/Bogota:20240319T133000
DTSTAMP:20260420T150511
CREATED:20240320T154657Z
LAST-MODIFIED:20240320T154657Z
UID:275178-1710842400-1710855000@www.corteconstitucional.gob.ec
SUMMARY:Audiencia Pública telemática del caso Nro. 4-17-EI
DESCRIPTION:El juez sustanciador Jhoel Escudero Soliz convoca a las partes procesales\, terceros interesados y amicus curiae a la audiencia pública telemática del Caso Nro. 4-17-EI. \nLéelo AQUÍ 
URL:https://www.corteconstitucional.gob.ec/event/audiencia-publica-telematica-del-caso-nro-4-17-ei-2/
CATEGORIES:Sesiones del Pleno
END:VEVENT
BEGIN:VEVENT
DTSTART;TZID=America/Bogota:20240319T100000
DTEND;TZID=America/Bogota:20240319T133000
DTSTAMP:20260420T150511
CREATED:20240320T154657Z
LAST-MODIFIED:20240320T172715Z
UID:270201-1710842400-1710855000@www.corteconstitucional.gob.ec
SUMMARY:Audiencia Pública telemática del caso Nro. 4-17-EI
DESCRIPTION:El juez sustanciador Jhoel Escudero Soliz convoca a las partes procesales\, terceros interesados y amicus curiae a la audiencia pública telemática del Caso Nro. 4-17-EI. \nLéelo AQUÍ 
URL:https://www.corteconstitucional.gob.ec/event/audiencia-publica-telematica-del-caso-nro-4-17-ei/
CATEGORIES:Sesiones del Pleno
END:VEVENT
BEGIN:VEVENT
DTSTART;TZID=America/Bogota:20240319T110000
DTEND;TZID=America/Bogota:20240319T140000
DTSTAMP:20260420T150511
CREATED:20240320T154915Z
LAST-MODIFIED:20240320T154915Z
UID:275179-1710846000-1710856800@www.corteconstitucional.gob.ec
SUMMARY:Audiencia Pública telemática del caso Nro. 8-22-EI
DESCRIPTION:El juez sustanciador Enrique Herrería Bonnet convoca a las partes procesales\, terceros interesados y amicus curiae a la audiencia pública telemática del Caso Nro. 8-22-EI. \nLéelo más AQUÍ 
URL:https://www.corteconstitucional.gob.ec/event/audiencia-publica-telematica-del-caso-nro-8-22-ei-2/
CATEGORIES:Sesiones del Pleno
END:VEVENT
BEGIN:VEVENT
DTSTART;TZID=America/Bogota:20240319T110000
DTEND;TZID=America/Bogota:20240319T140000
DTSTAMP:20260420T150511
CREATED:20240320T154915Z
LAST-MODIFIED:20240320T173332Z
UID:270204-1710846000-1710856800@www.corteconstitucional.gob.ec
SUMMARY:Audiencia Pública telemática del caso Nro. 8-22-EI
DESCRIPTION:El juez sustanciador Enrique Herrería Bonnet convoca a las partes procesales\, terceros interesados y amicus curiae a la audiencia pública telemática del Caso Nro. 8-22-EI. \nLéelo más AQUÍ 
URL:https://www.corteconstitucional.gob.ec/event/audiencia-publica-telematica-del-caso-nro-8-22-ei/
CATEGORIES:Sesiones del Pleno
END:VEVENT
BEGIN:VEVENT
DTSTART;TZID=America/Bogota:20240319T120000
DTEND;TZID=America/Bogota:20240319T150000
DTSTAMP:20260420T150511
CREATED:20240320T155056Z
LAST-MODIFIED:20240320T155056Z
UID:275180-1710849600-1710860400@www.corteconstitucional.gob.ec
SUMMARY:Audiencia Pública telemática del caso Nro. 8-20-EI
DESCRIPTION:La jueza sustanciadora Daniela Salazar Marín convoca a las partes procesales\, terceros interesados y amicus curiae a la audiencia pública telemática del Caso Nro. 8-20-EI. \nLéelo AQUÍ 
URL:https://www.corteconstitucional.gob.ec/event/audiencia-publica-telematica-del-caso-nro-8-20-ei-2/
CATEGORIES:Sesiones del Pleno
END:VEVENT
BEGIN:VEVENT
DTSTART;TZID=America/Bogota:20240319T120000
DTEND;TZID=America/Bogota:20240319T150000
DTSTAMP:20260420T150511
CREATED:20240320T155056Z
LAST-MODIFIED:20240320T173510Z
UID:270206-1710849600-1710860400@www.corteconstitucional.gob.ec
SUMMARY:Audiencia Pública telemática del caso Nro. 8-20-EI
DESCRIPTION:La jueza sustanciadora Daniela Salazar Marín convoca a las partes procesales\, terceros interesados y amicus curiae a la audiencia pública telemática del Caso Nro. 8-20-EI. \nLéelo AQUÍ 
URL:https://www.corteconstitucional.gob.ec/event/audiencia-publica-telematica-del-caso-nro-8-20-ei/
CATEGORIES:Sesiones del Pleno
END:VEVENT
END:VCALENDAR