BEGIN:VCALENDAR
VERSION:2.0
PRODID:-//Corte Constitucional del Ecuador - ECPv6.10.2//NONSGML v1.0//EN
CALSCALE:GREGORIAN
METHOD:PUBLISH
X-ORIGINAL-URL:https://www.corteconstitucional.gob.ec
X-WR-CALDESC:Eventos para Corte Constitucional del Ecuador
REFRESH-INTERVAL;VALUE=DURATION:PT1H
X-Robots-Tag:noindex
X-PUBLISHED-TTL:PT1H
BEGIN:VTIMEZONE
TZID:America/Bogota
BEGIN:STANDARD
TZOFFSETFROM:-0500
TZOFFSETTO:-0500
TZNAME:-05
DTSTART:20230101T000000
END:STANDARD
END:VTIMEZONE
BEGIN:VEVENT
DTSTART;TZID=America/Bogota:20231220T100000
DTEND;TZID=America/Bogota:20231220T110000
DTSTAMP:20260420T185317
CREATED:20231222T155927Z
LAST-MODIFIED:20231222T155927Z
UID:275151-1703066400-1703070000@www.corteconstitucional.gob.ec
SUMMARY:Sesión administrativa ordinaria 048-O-2023
DESCRIPTION:Las juezas y jueces que conforman el Pleno de la Corte Constitucional realizarán la sesión administrativa ordinaria 047-O-2023. \nOrden del día AQUÍ
URL:https://www.corteconstitucional.gob.ec/event/sesion-administrativa-ordinaria-047-o-2023-2/
CATEGORIES:Sesiones del Pleno
END:VEVENT
BEGIN:VEVENT
DTSTART;TZID=America/Bogota:20231220T100000
DTEND;TZID=America/Bogota:20231220T110000
DTSTAMP:20260420T185317
CREATED:20231222T155927Z
LAST-MODIFIED:20231222T155948Z
UID:268947-1703066400-1703070000@www.corteconstitucional.gob.ec
SUMMARY:Sesión administrativa ordinaria 048-O-2023
DESCRIPTION:Las juezas y jueces que conforman el Pleno de la Corte Constitucional realizarán la sesión administrativa ordinaria 047-O-2023. \nOrden del día AQUÍ
URL:https://www.corteconstitucional.gob.ec/event/sesion-administrativa-ordinaria-047-o-2023/
CATEGORIES:Sesiones del Pleno
END:VEVENT
BEGIN:VEVENT
DTSTART;TZID=America/Bogota:20231220T110000
DTEND;TZID=America/Bogota:20231220T170000
DTSTAMP:20260420T185317
CREATED:20231222T155722Z
LAST-MODIFIED:20231222T155722Z
UID:275150-1703070000-1703091600@www.corteconstitucional.gob.ec
SUMMARY:Sesión jurisdiccional ordinaria 047-O-2023
DESCRIPTION:Las juezas y jueces constitucionales que conforman el pleno realizarán la Sesión jurisdiccional ordinaria 047-O-2023. \nOrden del día AQUÍ
URL:https://www.corteconstitucional.gob.ec/event/sesion-jurisdiccional-ordinaria-047-o-2023-2/
CATEGORIES:Sesiones del Pleno
END:VEVENT
BEGIN:VEVENT
DTSTART;TZID=America/Bogota:20231220T110000
DTEND;TZID=America/Bogota:20231220T170000
DTSTAMP:20260420T185317
CREATED:20231222T155722Z
LAST-MODIFIED:20231222T155722Z
UID:268945-1703070000-1703091600@www.corteconstitucional.gob.ec
SUMMARY:Sesión jurisdiccional ordinaria 047-O-2023
DESCRIPTION:Las juezas y jueces constitucionales que conforman el pleno realizarán la Sesión jurisdiccional ordinaria 047-O-2023. \nOrden del día AQUÍ
URL:https://www.corteconstitucional.gob.ec/event/sesion-jurisdiccional-ordinaria-047-o-2023/
CATEGORIES:Sesiones del Pleno
END:VEVENT
END:VCALENDAR