BEGIN:VCALENDAR
VERSION:2.0
PRODID:-//Corte Constitucional del Ecuador - ECPv6.10.2//NONSGML v1.0//EN
CALSCALE:GREGORIAN
METHOD:PUBLISH
X-WR-CALNAME:Corte Constitucional del Ecuador
X-ORIGINAL-URL:https://www.corteconstitucional.gob.ec
X-WR-CALDESC:Eventos para Corte Constitucional del Ecuador
REFRESH-INTERVAL;VALUE=DURATION:PT1H
X-Robots-Tag:noindex
X-PUBLISHED-TTL:PT1H
BEGIN:VTIMEZONE
TZID:America/Bogota
BEGIN:STANDARD
TZOFFSETFROM:-0500
TZOFFSETTO:-0500
TZNAME:-05
DTSTART:20230101T000000
END:STANDARD
END:VTIMEZONE
BEGIN:VEVENT
DTSTART;TZID=America/Bogota:20231122T113000
DTEND;TZID=America/Bogota:20231122T163000
DTSTAMP:20260420T195236
CREATED:20231121T190252Z
LAST-MODIFIED:20231121T190252Z
UID:275146-1700652600-1700670600@www.corteconstitucional.gob.ec
SUMMARY:Sesión Jurisdiccional Ordinaria Nro. 044-O-2023
DESCRIPTION:Las juezas y jueces que conforman el Pleno de la Corte Constitucional sesionarán este 22 de noviembre. \nConoce el orden del día AQUÍ
URL:https://www.corteconstitucional.gob.ec/event/sesion-jurisdiccional-ordinaria-nro-044-o-2023-2/
CATEGORIES:Sesiones del Pleno
END:VEVENT
BEGIN:VEVENT
DTSTART;TZID=America/Bogota:20231122T113000
DTEND;TZID=America/Bogota:20231122T163000
DTSTAMP:20260420T195236
CREATED:20231121T190252Z
LAST-MODIFIED:20231121T190252Z
UID:268489-1700652600-1700670600@www.corteconstitucional.gob.ec
SUMMARY:Sesión Jurisdiccional Ordinaria Nro. 044-O-2023
DESCRIPTION:Las juezas y jueces que conforman el Pleno de la Corte Constitucional sesionarán este 22 de noviembre. \nConoce el orden del día AQUÍ
URL:https://www.corteconstitucional.gob.ec/event/sesion-jurisdiccional-ordinaria-nro-044-o-2023/
CATEGORIES:Sesiones del Pleno
END:VEVENT
END:VCALENDAR