BEGIN:VCALENDAR
VERSION:2.0
PRODID:-//Corte Constitucional del Ecuador - ECPv6.10.2//NONSGML v1.0//EN
CALSCALE:GREGORIAN
METHOD:PUBLISH
X-WR-CALNAME:Corte Constitucional del Ecuador
X-ORIGINAL-URL:https://www.corteconstitucional.gob.ec
X-WR-CALDESC:Eventos para Corte Constitucional del Ecuador
REFRESH-INTERVAL;VALUE=DURATION:PT1H
X-Robots-Tag:noindex
X-PUBLISHED-TTL:PT1H
BEGIN:VTIMEZONE
TZID:America/Bogota
BEGIN:STANDARD
TZOFFSETFROM:-0500
TZOFFSETTO:-0500
TZNAME:-05
DTSTART:20230101T000000
END:STANDARD
END:VTIMEZONE
BEGIN:VEVENT
DTSTART;TZID=America/Bogota:20231025T113000
DTEND;TZID=America/Bogota:20231025T163000
DTSTAMP:20260420T205550
CREATED:20231115T003141Z
LAST-MODIFIED:20231115T003141Z
UID:268322-1698233400-1698251400@www.corteconstitucional.gob.ec
SUMMARY:Sesión jurisdiccional ordinaria 039-O-2023
DESCRIPTION:Las juezas y jueces constitucionales que conforman el Pleno de la Corte Constitucional realizarán la sesión jurisdiccional ordinaria Nro. 039-O-2023\, el miércoles 25 de ocutbre a partitr de las 11h30. \nAccede a la convocatoria AQUÍ 
URL:https://www.corteconstitucional.gob.ec/event/sesion-jurisdiccional-ordinaria-039-o-2023/
CATEGORIES:Sesiones del Pleno
END:VEVENT
BEGIN:VEVENT
DTSTART;TZID=America/Bogota:20231025T113000
DTEND;TZID=America/Bogota:20231025T163000
DTSTAMP:20260420T205550
CREATED:20231115T003141Z
LAST-MODIFIED:20231115T003141Z
UID:275130-1698233400-1698251400@www.corteconstitucional.gob.ec
SUMMARY:Sesión jurisdiccional ordinaria 039-O-2023
DESCRIPTION:Las juezas y jueces constitucionales que conforman el Pleno de la Corte Constitucional realizarán la sesión jurisdiccional ordinaria Nro. 039-O-2023\, el miércoles 25 de ocutbre a partitr de las 11h30. \nAccede a la convocatoria AQUÍ 
URL:https://www.corteconstitucional.gob.ec/event/sesion-jurisdiccional-ordinaria-039-o-2023-2/
CATEGORIES:Sesiones del Pleno
END:VEVENT
END:VCALENDAR