BEGIN:VCALENDAR
VERSION:2.0
PRODID:-//Corte Constitucional del Ecuador - ECPv6.10.2//NONSGML v1.0//EN
CALSCALE:GREGORIAN
METHOD:PUBLISH
X-ORIGINAL-URL:https://www.corteconstitucional.gob.ec
X-WR-CALDESC:Eventos para Corte Constitucional del Ecuador
REFRESH-INTERVAL;VALUE=DURATION:PT1H
X-Robots-Tag:noindex
X-PUBLISHED-TTL:PT1H
BEGIN:VTIMEZONE
TZID:America/Bogota
BEGIN:STANDARD
TZOFFSETFROM:-0500
TZOFFSETTO:-0500
TZNAME:-05
DTSTART:20230101T000000
END:STANDARD
END:VTIMEZONE
BEGIN:VEVENT
DTSTART;TZID=America/Bogota:20230816T080000
DTEND;TZID=America/Bogota:20230816T170000
DTSTAMP:20260420T232311
CREATED:20230815T140355Z
LAST-MODIFIED:20230815T140355Z
UID:275097-1692172800-1692205200@www.corteconstitucional.gob.ec
SUMMARY:Sesión Jurisdiccional Ordinaria Nro. 027-O-2023
DESCRIPTION:Las juezas y jueces que conforman el Pleno de la Corte Constitucional del Ecuador realizarán la sesión jurisdiccional ordinaria Nro. 027-O-2023\, el miércoles 16 de agosto\, a partir de las 11h30. \nAccede a la convocatoria AQUÍ
URL:https://www.corteconstitucional.gob.ec/event/sesion-jurisdiccional-ordinaria-nro-027-o-2023-2/
CATEGORIES:Sesiones del Pleno
END:VEVENT
BEGIN:VEVENT
DTSTART;TZID=America/Bogota:20230816T080000
DTEND;TZID=America/Bogota:20230816T170000
DTSTAMP:20260420T232311
CREATED:20230815T140355Z
LAST-MODIFIED:20230828T173657Z
UID:267014-1692172800-1692205200@www.corteconstitucional.gob.ec
SUMMARY:Sesión Jurisdiccional Ordinaria Nro. 027-O-2023
DESCRIPTION:Las juezas y jueces que conforman el Pleno de la Corte Constitucional del Ecuador realizarán la sesión jurisdiccional ordinaria Nro. 027-O-2023\, el miércoles 16 de agosto\, a partir de las 11h30. \nAccede a la convocatoria AQUÍ
URL:https://www.corteconstitucional.gob.ec/event/sesion-jurisdiccional-ordinaria-nro-027-o-2023/
CATEGORIES:Sesiones del Pleno
END:VEVENT
END:VCALENDAR