BEGIN:VCALENDAR
VERSION:2.0
PRODID:-//Corte Constitucional del Ecuador - ECPv6.10.2//NONSGML v1.0//EN
CALSCALE:GREGORIAN
METHOD:PUBLISH
X-WR-CALNAME:Corte Constitucional del Ecuador
X-ORIGINAL-URL:https://www.corteconstitucional.gob.ec
X-WR-CALDESC:Eventos para Corte Constitucional del Ecuador
REFRESH-INTERVAL;VALUE=DURATION:PT1H
X-Robots-Tag:noindex
X-PUBLISHED-TTL:PT1H
BEGIN:VTIMEZONE
TZID:America/Bogota
BEGIN:STANDARD
TZOFFSETFROM:-0500
TZOFFSETTO:-0500
TZNAME:-05
DTSTART:20230101T000000
END:STANDARD
END:VTIMEZONE
BEGIN:VEVENT
DTSTART;TZID=America/Bogota:20230724T101500
DTEND;TZID=America/Bogota:20230724T113000
DTSTAMP:20260421T002817
CREATED:20230721T232545Z
LAST-MODIFIED:20230721T232545Z
UID:266771-1690193700-1690198200@www.corteconstitucional.gob.ec
SUMMARY:Sesión extraordinaria administrativa Nro. 015-E-2023
DESCRIPTION:Las juezas y jueces constitucionales que conforman el Pleno de la Corte Constitucional realizarán la Sesión extraordinaria administrativa Nro. 015-E-2023. \nConoce el orden del día AQUÍ \nSigue la sesión en vivo por YouTube AQUÍ
URL:https://www.corteconstitucional.gob.ec/event/sesion-extraordinaria-administrativa-nro-015-e-2023/
CATEGORIES:Sesiones del Pleno
END:VEVENT
BEGIN:VEVENT
DTSTART;TZID=America/Bogota:20230724T101500
DTEND;TZID=America/Bogota:20230724T113000
DTSTAMP:20260421T002817
CREATED:20230721T232545Z
LAST-MODIFIED:20230721T232545Z
UID:275085-1690193700-1690198200@www.corteconstitucional.gob.ec
SUMMARY:Sesión extraordinaria administrativa Nro. 015-E-2023
DESCRIPTION:Las juezas y jueces constitucionales que conforman el Pleno de la Corte Constitucional realizarán la Sesión extraordinaria administrativa Nro. 015-E-2023. \nConoce el orden del día AQUÍ \nSigue la sesión en vivo por YouTube AQUÍ
URL:https://www.corteconstitucional.gob.ec/event/sesion-extraordinaria-administrativa-nro-015-e-2023-2/
CATEGORIES:Sesiones del Pleno
END:VEVENT
END:VCALENDAR