BEGIN:VCALENDAR
VERSION:2.0
PRODID:-//Corte Constitucional del Ecuador - ECPv6.10.2//NONSGML v1.0//EN
CALSCALE:GREGORIAN
METHOD:PUBLISH
X-ORIGINAL-URL:https://www.corteconstitucional.gob.ec
X-WR-CALDESC:Eventos para Corte Constitucional del Ecuador
REFRESH-INTERVAL;VALUE=DURATION:PT1H
X-Robots-Tag:noindex
X-PUBLISHED-TTL:PT1H
BEGIN:VTIMEZONE
TZID:America/Bogota
BEGIN:STANDARD
TZOFFSETFROM:-0500
TZOFFSETTO:-0500
TZNAME:-05
DTSTART:20250101T000000
END:STANDARD
END:VTIMEZONE
BEGIN:VEVENT
DTSTART;TZID=America/Bogota:20250109T110000
DTEND;TZID=America/Bogota:20250109T113000
DTSTAMP:20260419T092106
CREATED:20250109T191400Z
LAST-MODIFIED:20250109T191400Z
UID:275278-1736420400-1736422200@www.corteconstitucional.gob.ec
SUMMARY:Sesión administrativa ordinaria 002-O-2025
DESCRIPTION:Las juezas y jueces que conforman el Pleno de la Corte Constitucional realizarán la Sesión Ordinaria No. 002-O-2025\, este 09 de enero de 2025\, a partir de las 10h00. \nAccede al orden del día AQUÍ
URL:https://www.corteconstitucional.gob.ec/event/sesion-administrativa-ordinaria-002-o-2025/
CATEGORIES:Sesiones del Pleno
END:VEVENT
BEGIN:VEVENT
DTSTART;TZID=America/Bogota:20250109T110000
DTEND;TZID=America/Bogota:20250109T163000
DTSTAMP:20260419T092106
CREATED:20250108T190030Z
LAST-MODIFIED:20250108T190030Z
UID:273950-1736420400-1736440200@www.corteconstitucional.gob.ec
SUMMARY:Sesión jurisdiccional ordinaria 001-O-2025
DESCRIPTION:Las juezas y jueces que conforman el Pleno de la Corte Constitucional realizarán la Sesión Ordinaria No. 001-O-2025\, este 09 de enero de 2025\, a partir de las 11h00. \nAccede al orden del día AQUÍ \n#CompromisoConstitucional
URL:https://www.corteconstitucional.gob.ec/event/sesion-jurisdiccional-ordinaria-001-o-2025/
CATEGORIES:Sesiones del Pleno
END:VEVENT
BEGIN:VEVENT
DTSTART;TZID=America/Bogota:20250116T100000
DTEND;TZID=America/Bogota:20250116T110000
DTSTAMP:20260419T092106
CREATED:20250115T151612Z
LAST-MODIFIED:20250115T151612Z
UID:275281-1737021600-1737025200@www.corteconstitucional.gob.ec
SUMMARY:Sesión administrativa ordinaria 004-O-2025
DESCRIPTION:Las juezas y jueces que conforman el Pleno de la Corte Constitucional del Ecuador realizarán la Sesión administrativa ordinaria 004-O-2025\, el 16 de enero del 2025\, a partir de las 10h00.
URL:https://www.corteconstitucional.gob.ec/event/sesion-administrativa-ordinaria-004-o-2025/
CATEGORIES:Sesiones del Pleno
END:VEVENT
BEGIN:VEVENT
DTSTART;TZID=America/Bogota:20250116T113000
DTEND;TZID=America/Bogota:20250116T163000
DTSTAMP:20260419T092106
CREATED:20250115T151954Z
LAST-MODIFIED:20250115T151954Z
UID:274191-1737027000-1737045000@www.corteconstitucional.gob.ec
SUMMARY:Sesión jurisdiccional ordinaria 003-O-2025
DESCRIPTION:Las juezas y jueces constitucionales que conforman el Pleno de la Corte Constitucional realizarán la Sesión jurisdiccional ordinaria 003-O-2025\, el 16 de enero del 2025\, a partir de las 11h30. \nConoce el orden del día AQUÍ
URL:https://www.corteconstitucional.gob.ec/event/sesion-jurisdiccional-ordinaria-003-o-2025/
CATEGORIES:Sesiones del Pleno
END:VEVENT
BEGIN:VEVENT
DTSTART;TZID=America/Bogota:20250123T113000
DTEND;TZID=America/Bogota:20250123T163000
DTSTAMP:20260419T092106
CREATED:20250121T214753Z
LAST-MODIFIED:20250121T214753Z
UID:274209-1737631800-1737649800@www.corteconstitucional.gob.ec
SUMMARY:Sesión jurisdiccional ordinaria 005-O-2025
DESCRIPTION:Las juezas y jueces constitucionales de la Corte Constitucional realizarán la Sesión jurisdiccional ordinaria 005-O-2025\, el 23 de enero del 2025\, a partir de las 11h30. \nConoce el orden del día AQUÍ
URL:https://www.corteconstitucional.gob.ec/event/sesion-jurisdiccional-ordinaria-005-o-2025/
CATEGORIES:Sesiones del Pleno
END:VEVENT
BEGIN:VEVENT
DTSTART;TZID=America/Bogota:20250128T103000
DTEND;TZID=America/Bogota:20250128T133000
DTSTAMP:20260419T092106
CREATED:20250127T193141Z
LAST-MODIFIED:20250127T193141Z
UID:275282-1738060200-1738071000@www.corteconstitucional.gob.ec
SUMMARY:Sesión jurisdiccional extraordinaria 001-E-2025
DESCRIPTION:Las juezas y jueces que conforman el Pleno de la Corte Constitucional realizarán la Sesión jurisdiccional extraordinaria 001-E-2025\, este 28 de enero de 2025\, a partir de las 10h30. \nConoce el orden del día AQUÍ
URL:https://www.corteconstitucional.gob.ec/event/sesion-jurisdiccional-extraordinaria-001-e-2025/
CATEGORIES:Sesiones del Pleno
END:VEVENT
BEGIN:VEVENT
DTSTART;TZID=America/Bogota:20250130T100000
DTEND;TZID=America/Bogota:20250130T110000
DTSTAMP:20260419T092106
CREATED:20250129T152104Z
LAST-MODIFIED:20250129T152104Z
UID:275287-1738231200-1738234800@www.corteconstitucional.gob.ec
SUMMARY:Sesión administrativa ordinaria 007-O-2025
DESCRIPTION:Las juezas y jueces constitucionales que conforman el Pleno de la Corte Constitucional realizarán la Sesión administrativa ordinaria 007-O-2025\, el 30 de enero del 2025\, a partir de las 10h00. \nConoce le orden del día AQUÍ
URL:https://www.corteconstitucional.gob.ec/event/sesion-administrativa-ordinaria-007-o-2025/
CATEGORIES:Sesiones del Pleno
END:VEVENT
BEGIN:VEVENT
DTSTART;TZID=America/Bogota:20250130T113000
DTEND;TZID=America/Bogota:20250130T163000
DTSTAMP:20260419T092106
CREATED:20250129T151756Z
LAST-MODIFIED:20250129T151756Z
UID:275286-1738236600-1738254600@www.corteconstitucional.gob.ec
SUMMARY:Sesión jurisdiccional ordinaria 006-O-2025
DESCRIPTION:Las juezas y jueces que conforman el Pleno de la Corte Constitucional realizarán la Sesión jurisdiccional ordinaria 006-O-2025\, el 30 de enero del 2025\, a partir de las 11h30. \nConoce el orden del día AQUÍ
URL:https://www.corteconstitucional.gob.ec/event/sesion-jurisdiccional-ordinaria-006-o-2025/
CATEGORIES:Sesiones del Pleno
END:VEVENT
END:VCALENDAR