BEGIN:VCALENDAR
VERSION:2.0
PRODID:-//Corte Constitucional del Ecuador - ECPv6.10.2//NONSGML v1.0//EN
CALSCALE:GREGORIAN
METHOD:PUBLISH
X-WR-CALNAME:Corte Constitucional del Ecuador
X-ORIGINAL-URL:https://www.corteconstitucional.gob.ec
X-WR-CALDESC:Eventos para Corte Constitucional del Ecuador
REFRESH-INTERVAL;VALUE=DURATION:PT1H
X-Robots-Tag:noindex
X-PUBLISHED-TTL:PT1H
BEGIN:VTIMEZONE
TZID:America/Bogota
BEGIN:STANDARD
TZOFFSETFROM:-0500
TZOFFSETTO:-0500
TZNAME:-05
DTSTART:20240101T000000
END:STANDARD
END:VTIMEZONE
BEGIN:VEVENT
DTSTART;TZID=America/Bogota:20240903T100000
DTEND;TZID=America/Bogota:20240903T160000
DTSTAMP:20260420T054639
CREATED:20240903T140925Z
LAST-MODIFIED:20240903T140925Z
UID:275250-1725357600-1725379200@www.corteconstitucional.gob.ec
SUMMARY:Sesión jurisdiccional extraordinaria  015-E-2024
DESCRIPTION:Las juezas y jueces que conforman el Pleno de la Corte Constitucional del Ecuador realizarán la Sesión jurisdiccional extraordinaria 015-E-2024. \nConoce más en el orden del día AQUÍ
URL:https://www.corteconstitucional.gob.ec/event/sesion-jurisdiccional-extraordinaria-015-e-2024-2/
CATEGORIES:Sesiones del Pleno
END:VEVENT
BEGIN:VEVENT
DTSTART;TZID=America/Bogota:20240903T100000
DTEND;TZID=America/Bogota:20240903T160000
DTSTAMP:20260420T054639
CREATED:20240903T140925Z
LAST-MODIFIED:20240903T140925Z
UID:271986-1725357600-1725379200@www.corteconstitucional.gob.ec
SUMMARY:Sesión jurisdiccional extraordinaria  015-E-2024
DESCRIPTION:Las juezas y jueces que conforman el Pleno de la Corte Constitucional del Ecuador realizarán la Sesión jurisdiccional extraordinaria 015-E-2024. \nConoce más en el orden del día AQUÍ
URL:https://www.corteconstitucional.gob.ec/event/sesion-jurisdiccional-extraordinaria-015-e-2024/
CATEGORIES:Sesiones del Pleno
END:VEVENT
BEGIN:VEVENT
DTSTART;TZID=America/Bogota:20240918T100000
DTEND;TZID=America/Bogota:20240918T110000
DTSTAMP:20260420T054639
CREATED:20240918T212835Z
LAST-MODIFIED:20240918T212835Z
UID:275252-1726653600-1726657200@www.corteconstitucional.gob.ec
SUMMARY:Sesión administrativa ordinaria 046-O-2024
DESCRIPTION:Las juezas y jueces que conforman el Pleno de la Corte Constitucional realizarán la Sesión administrativa ordinaria 046-O-2024. \nConoce el orden del día AQUÍ \nMíralo en vivo por YouTube.
URL:https://www.corteconstitucional.gob.ec/event/sesion-administrativa-ordinaria-046-o-2024-2/
CATEGORIES:Sesiones del Pleno
END:VEVENT
BEGIN:VEVENT
DTSTART;TZID=America/Bogota:20240918T100000
DTEND;TZID=America/Bogota:20240918T110000
DTSTAMP:20260420T054639
CREATED:20240918T212835Z
LAST-MODIFIED:20240918T212835Z
UID:272073-1726653600-1726657200@www.corteconstitucional.gob.ec
SUMMARY:Sesión administrativa ordinaria 046-O-2024
DESCRIPTION:Las juezas y jueces que conforman el Pleno de la Corte Constitucional realizarán la Sesión administrativa ordinaria 046-O-2024. \nConoce el orden del día AQUÍ \nMíralo en vivo por YouTube.
URL:https://www.corteconstitucional.gob.ec/event/sesion-administrativa-ordinaria-046-o-2024/
CATEGORIES:Sesiones del Pleno
END:VEVENT
BEGIN:VEVENT
DTSTART;TZID=America/Bogota:20240919T113000
DTEND;TZID=America/Bogota:20240919T153000
DTSTAMP:20260420T054639
CREATED:20240918T212329Z
LAST-MODIFIED:20240918T212329Z
UID:272064-1726745400-1726759800@www.corteconstitucional.gob.ec
SUMMARY:Sesión jurisdiccional ordinaria 045-O-2024
DESCRIPTION:Las juezas y jueces que conforman el Pleno de la Corte Constitucional sesionarán el 19 de septiembre\, a partir de las 11h30. \nConoce el orden del día AQUÍ
URL:https://www.corteconstitucional.gob.ec/event/sesion-jurisdiccional-ordinaria-045-o-2024/
CATEGORIES:Sesiones del Pleno
END:VEVENT
BEGIN:VEVENT
DTSTART;TZID=America/Bogota:20240919T113000
DTEND;TZID=America/Bogota:20240919T153000
DTSTAMP:20260420T054639
CREATED:20240918T212329Z
LAST-MODIFIED:20240918T212329Z
UID:275251-1726745400-1726759800@www.corteconstitucional.gob.ec
SUMMARY:Sesión jurisdiccional ordinaria 045-O-2024
DESCRIPTION:Las juezas y jueces que conforman el Pleno de la Corte Constitucional sesionarán el 19 de septiembre\, a partir de las 11h30. \nConoce el orden del día AQUÍ
URL:https://www.corteconstitucional.gob.ec/event/sesion-jurisdiccional-ordinaria-045-o-2024-2/
CATEGORIES:Sesiones del Pleno
END:VEVENT
BEGIN:VEVENT
DTSTART;TZID=America/Bogota:20240925T100000
DTEND;TZID=America/Bogota:20240925T110000
DTSTAMP:20260420T054639
CREATED:20240924T210255Z
LAST-MODIFIED:20240924T210255Z
UID:272170-1727258400-1727262000@www.corteconstitucional.gob.ec
SUMMARY:Sesión administrativa ordinaria 048-O-2024
DESCRIPTION:Las juezas y jueces que conforman el Pleno de la Corte Constitucional realizarán la Sesión administrativa ordinaria 048-O-2024\, el 25 de septiembre\, a partir de las 10h00. \nConoce el orden del día AQUÍ
URL:https://www.corteconstitucional.gob.ec/event/sesion-administrativa-ordinaria-048-o-2024/
CATEGORIES:Sesiones del Pleno
END:VEVENT
BEGIN:VEVENT
DTSTART;TZID=America/Bogota:20240925T100000
DTEND;TZID=America/Bogota:20240925T110000
DTSTAMP:20260420T054639
CREATED:20240924T210255Z
LAST-MODIFIED:20240924T210255Z
UID:275253-1727258400-1727262000@www.corteconstitucional.gob.ec
SUMMARY:Sesión administrativa ordinaria 048-O-2024
DESCRIPTION:Las juezas y jueces que conforman el Pleno de la Corte Constitucional realizarán la Sesión administrativa ordinaria 048-O-2024\, el 25 de septiembre\, a partir de las 10h00. \nConoce el orden del día AQUÍ
URL:https://www.corteconstitucional.gob.ec/event/sesion-administrativa-ordinaria-048-o-2024-2/
CATEGORIES:Sesiones del Pleno
END:VEVENT
BEGIN:VEVENT
DTSTART;TZID=America/Bogota:20240925T113000
DTEND;TZID=America/Bogota:20240925T163000
DTSTAMP:20260420T054639
CREATED:20240924T211503Z
LAST-MODIFIED:20240924T211503Z
UID:272178-1727263800-1727281800@www.corteconstitucional.gob.ec
SUMMARY:Sesión jurisdiccional ordinaria 047-O-2024
DESCRIPTION:Las juezas y jueces que conforman el Pleno de la Corte Constitucional realizarán la Sesión jurisdiccional ordinaria 047-O-2024\, el 25 de septiembre\, a partir de las 11h30. \nConoce el orden del día AQUÍ
URL:https://www.corteconstitucional.gob.ec/event/sesion-jurisdiccional-ordinaria-047-o-2024/
CATEGORIES:Sesiones del Pleno
END:VEVENT
BEGIN:VEVENT
DTSTART;TZID=America/Bogota:20240925T113000
DTEND;TZID=America/Bogota:20240925T163000
DTSTAMP:20260420T054639
CREATED:20240924T211503Z
LAST-MODIFIED:20240924T211503Z
UID:275254-1727263800-1727281800@www.corteconstitucional.gob.ec
SUMMARY:Sesión jurisdiccional ordinaria 047-O-2024
DESCRIPTION:Las juezas y jueces que conforman el Pleno de la Corte Constitucional realizarán la Sesión jurisdiccional ordinaria 047-O-2024\, el 25 de septiembre\, a partir de las 11h30. \nConoce el orden del día AQUÍ
URL:https://www.corteconstitucional.gob.ec/event/sesion-jurisdiccional-ordinaria-047-o-2024-2/
CATEGORIES:Sesiones del Pleno
END:VEVENT
END:VCALENDAR