BEGIN:VCALENDAR
VERSION:2.0
PRODID:-//Corte Constitucional del Ecuador - ECPv6.10.2//NONSGML v1.0//EN
CALSCALE:GREGORIAN
METHOD:PUBLISH
X-ORIGINAL-URL:https://www.corteconstitucional.gob.ec
X-WR-CALDESC:Eventos para Corte Constitucional del Ecuador
REFRESH-INTERVAL;VALUE=DURATION:PT1H
X-Robots-Tag:noindex
X-PUBLISHED-TTL:PT1H
BEGIN:VTIMEZONE
TZID:America/Bogota
BEGIN:STANDARD
TZOFFSETFROM:-0500
TZOFFSETTO:-0500
TZNAME:-05
DTSTART:20240101T000000
END:STANDARD
END:VTIMEZONE
BEGIN:VEVENT
DTSTART;TZID=America/Bogota:20240808T080000
DTEND;TZID=America/Bogota:20240808T170000
DTSTAMP:20260420T070148
CREATED:20240807T151550Z
LAST-MODIFIED:20240807T152106Z
UID:271641-1723104000-1723136400@www.corteconstitucional.gob.ec
SUMMARY:Sesión jurisdiccional ordinaria 037-O-2024
DESCRIPTION:Las juezas y jueces que conforman el Pleno de la Corte Constitucional realizarán la Sesión jurisdiccional ordinaria 037-O-2024\, el 08 de agosto a partir de las 11h30. \nConoce el orden del día AQUÍ
URL:https://www.corteconstitucional.gob.ec/event/sesion-jurisdiccional-ordinaria-037-o-2024/
CATEGORIES:Sesiones del Pleno
END:VEVENT
BEGIN:VEVENT
DTSTART;TZID=America/Bogota:20240808T080000
DTEND;TZID=America/Bogota:20240808T170000
DTSTAMP:20260420T070148
CREATED:20240807T151550Z
LAST-MODIFIED:20240807T151550Z
UID:275232-1723104000-1723136400@www.corteconstitucional.gob.ec
SUMMARY:Sesión jurisdiccional ordinaria 037-O-2024
DESCRIPTION:Las juezas y jueces que conforman el Pleno de la Corte Constitucional realizarán la Sesión jurisdiccional ordinaria 037-O-2024\, el 08 de agosto a partir de las 11h30. \nConoce el orden del día AQUÍ
URL:https://www.corteconstitucional.gob.ec/event/sesion-jurisdiccional-ordinaria-037-o-2024-2/
CATEGORIES:Sesiones del Pleno
END:VEVENT
BEGIN:VEVENT
DTSTART;TZID=America/Bogota:20240816T080000
DTEND;TZID=America/Bogota:20240816T170000
DTSTAMP:20260420T070148
CREATED:20240815T174411Z
LAST-MODIFIED:20240815T174551Z
UID:271698-1723795200-1723827600@www.corteconstitucional.gob.ec
SUMMARY:Sesión jurisdiccional ordinaria 038-O-2024
DESCRIPTION:Las juezas y jueces que conforman el Pleno de la Corte Constitucional realizarán la Sesión jurisdiccional ordinaria 038-O-2024\, el 16 de agosto a partir de las 11h30. \nConoce el orden del día AQUÍ
URL:https://www.corteconstitucional.gob.ec/event/sesion-jurisdiccional-ordinaria-038-o-2024/
CATEGORIES:Sesiones del Pleno
END:VEVENT
BEGIN:VEVENT
DTSTART;TZID=America/Bogota:20240816T080000
DTEND;TZID=America/Bogota:20240816T170000
DTSTAMP:20260420T070148
CREATED:20240815T174411Z
LAST-MODIFIED:20240815T174411Z
UID:275233-1723795200-1723827600@www.corteconstitucional.gob.ec
SUMMARY:Sesión jurisdiccional ordinaria 038-O-2024
DESCRIPTION:Las juezas y jueces que conforman el Pleno de la Corte Constitucional realizarán la Sesión jurisdiccional ordinaria 038-O-2024\, el 16 de agosto a partir de las 11h30. \nConoce el orden del día AQUÍ
URL:https://www.corteconstitucional.gob.ec/event/sesion-jurisdiccional-ordinaria-038-o-2024-2/
CATEGORIES:Sesiones del Pleno
END:VEVENT
BEGIN:VEVENT
DTSTART;TZID=America/Bogota:20240822T100000
DTEND;TZID=America/Bogota:20240822T170000
DTSTAMP:20260420T070148
CREATED:20240821T145053Z
LAST-MODIFIED:20240827T195248Z
UID:271835-1724320800-1724346000@www.corteconstitucional.gob.ec
SUMMARY:Sesión administrativa ordinaria Nro. 040-O-2024
DESCRIPTION:Las juezas y jueces que conforman el Pleno de la Corte Constitucional realizarán la Sesión administración ordinaria 040-O-2024\, el 22 de agosto a partir de las 10h00. \nLéelo AQUÍ
URL:https://www.corteconstitucional.gob.ec/event/sesion-administrativa-ordinaria-nro-040-o-2024/
CATEGORIES:Sesiones del Pleno
END:VEVENT
BEGIN:VEVENT
DTSTART;TZID=America/Bogota:20240822T100000
DTEND;TZID=America/Bogota:20240822T170000
DTSTAMP:20260420T070148
CREATED:20240821T145053Z
LAST-MODIFIED:20240821T145053Z
UID:275238-1724320800-1724346000@www.corteconstitucional.gob.ec
SUMMARY:Sesión administrativa ordinaria Nro. 040-O-2024
DESCRIPTION:Las juezas y jueces que conforman el Pleno de la Corte Constitucional realizarán la Sesión administración ordinaria 040-O-2024\, el 22 de agosto a partir de las 10h00. \nLéelo AQUÍ
URL:https://www.corteconstitucional.gob.ec/event/sesion-administrativa-ordinaria-nro-040-o-2024-2/
CATEGORIES:Sesiones del Pleno
END:VEVENT
BEGIN:VEVENT
DTSTART;TZID=America/Bogota:20240822T113000
DTEND;TZID=America/Bogota:20240822T130000
DTSTAMP:20260420T070148
CREATED:20240821T144932Z
LAST-MODIFIED:20240827T195505Z
UID:271833-1724326200-1724331600@www.corteconstitucional.gob.ec
SUMMARY:Sesión jurisdiccional ordinaria Nro. 039-O-2024
DESCRIPTION:Las juezas y jueces que conforman el Pleno de la Corte Constitucional realizarán la Sesión jurisdiccional ordinaria 039-O-2024\, el 22 de agosto a partir de las 11h30. \nLéelo AQUÍ
URL:https://www.corteconstitucional.gob.ec/event/sesion-jurisdiccional-ordinaria-nro-039-o-2024/
CATEGORIES:Sesiones del Pleno
END:VEVENT
BEGIN:VEVENT
DTSTART;TZID=America/Bogota:20240822T113000
DTEND;TZID=America/Bogota:20240822T130000
DTSTAMP:20260420T070148
CREATED:20240821T144932Z
LAST-MODIFIED:20240821T144932Z
UID:275237-1724326200-1724331600@www.corteconstitucional.gob.ec
SUMMARY:Sesión jurisdiccional ordinaria Nro. 039-O-2024
DESCRIPTION:Las juezas y jueces que conforman el Pleno de la Corte Constitucional realizarán la Sesión jurisdiccional ordinaria 039-O-2024\, el 22 de agosto a partir de las 11h30. \nLéelo AQUÍ
URL:https://www.corteconstitucional.gob.ec/event/sesion-jurisdiccional-ordinaria-nro-039-o-2024-2/
CATEGORIES:Sesiones del Pleno
END:VEVENT
BEGIN:VEVENT
DTSTART;TZID=America/Bogota:20240827T093000
DTEND;TZID=America/Bogota:20240827T113000
DTSTAMP:20260420T070148
CREATED:20240826T213821Z
LAST-MODIFIED:20240826T213821Z
UID:271887-1724751000-1724758200@www.corteconstitucional.gob.ec
SUMMARY:Sesión jurisdiccional extraordinaria No. 014-E-2024
DESCRIPTION:Las juezas y jueces que conforman el Pleno de la Corte Constitucional sesionarán mañana 27 de agostos de 2024. \nConoce el orden del día AQUÍ
URL:https://www.corteconstitucional.gob.ec/event/sesion-jurisdiccional-extraordinaria-no-014-e-2024/
CATEGORIES:Sesiones del Pleno
END:VEVENT
BEGIN:VEVENT
DTSTART;TZID=America/Bogota:20240827T093000
DTEND;TZID=America/Bogota:20240827T113000
DTSTAMP:20260420T070148
CREATED:20240826T213821Z
LAST-MODIFIED:20240826T213821Z
UID:275241-1724751000-1724758200@www.corteconstitucional.gob.ec
SUMMARY:Sesión jurisdiccional extraordinaria No. 014-E-2024
DESCRIPTION:Las juezas y jueces que conforman el Pleno de la Corte Constitucional sesionarán mañana 27 de agostos de 2024. \nConoce el orden del día AQUÍ
URL:https://www.corteconstitucional.gob.ec/event/sesion-jurisdiccional-extraordinaria-no-014-e-2024-2/
CATEGORIES:Sesiones del Pleno
END:VEVENT
BEGIN:VEVENT
DTSTART;TZID=America/Bogota:20240829T080000
DTEND;TZID=America/Bogota:20240829T170000
DTSTAMP:20260420T070148
CREATED:20240827T211011Z
LAST-MODIFIED:20240827T211011Z
UID:275245-1724918400-1724950800@www.corteconstitucional.gob.ec
SUMMARY:Sesión administrativa ordinaria 042-O-2024
DESCRIPTION:Las juezas y jueces que conforman el Pleno de la Corte Constitucional realizarán la Sesión administrativa ordinaria 042-O-2024\, el 29 de agosto de 2024\, a partir de las 10h00. \nConoce el orden del día AQUÍ
URL:https://www.corteconstitucional.gob.ec/event/sesion-administrativa-ordinaria-042-o-2024-2/
CATEGORIES:Sesiones del Pleno
END:VEVENT
BEGIN:VEVENT
DTSTART;TZID=America/Bogota:20240829T080000
DTEND;TZID=America/Bogota:20240829T170000
DTSTAMP:20260420T070148
CREATED:20240827T211011Z
LAST-MODIFIED:20240828T213814Z
UID:271938-1724918400-1724950800@www.corteconstitucional.gob.ec
SUMMARY:Sesión administrativa ordinaria 042-O-2024
DESCRIPTION:Las juezas y jueces que conforman el Pleno de la Corte Constitucional realizarán la Sesión administrativa ordinaria 042-O-2024\, el 29 de agosto de 2024\, a partir de las 10h00. \nConoce el orden del día AQUÍ
URL:https://www.corteconstitucional.gob.ec/event/sesion-administrativa-ordinaria-042-o-2024/
CATEGORIES:Sesiones del Pleno
END:VEVENT
BEGIN:VEVENT
DTSTART;TZID=America/Bogota:20240829T113000
DTEND;TZID=America/Bogota:20240829T163000
DTSTAMP:20260420T070148
CREATED:20240827T210546Z
LAST-MODIFIED:20240828T150105Z
UID:271936-1724931000-1724949000@www.corteconstitucional.gob.ec
SUMMARY:Sesión jurisdiccional ordinaria  041-O-2024
DESCRIPTION:Las juezas y jueces que conforman el Pleno de la Corte Constitucional realizarán la Sesión jurisdiccional ordinaria 041-O-2024\, el 29 de agosto de 2024\, a partir de las 11h30. \nConoce el orden del día AQUÍ
URL:https://www.corteconstitucional.gob.ec/event/sesion-jurisdiccional-ordinaria-041-o-2024/
CATEGORIES:Sesiones del Pleno
END:VEVENT
BEGIN:VEVENT
DTSTART;TZID=America/Bogota:20240829T113000
DTEND;TZID=America/Bogota:20240829T163000
DTSTAMP:20260420T070148
CREATED:20240827T210546Z
LAST-MODIFIED:20240827T210546Z
UID:275244-1724931000-1724949000@www.corteconstitucional.gob.ec
SUMMARY:Sesión jurisdiccional ordinaria  041-O-2024
DESCRIPTION:Las juezas y jueces que conforman el Pleno de la Corte Constitucional realizarán la Sesión jurisdiccional ordinaria 041-O-2024\, el 29 de agosto de 2024\, a partir de las 11h30. \nConoce el orden del día AQUÍ
URL:https://www.corteconstitucional.gob.ec/event/sesion-jurisdiccional-ordinaria-041-o-2024-2/
CATEGORIES:Sesiones del Pleno
END:VEVENT
END:VCALENDAR