BEGIN:VCALENDAR
VERSION:2.0
PRODID:-//Corte Constitucional del Ecuador - ECPv6.10.2//NONSGML v1.0//EN
CALSCALE:GREGORIAN
METHOD:PUBLISH
X-ORIGINAL-URL:https://www.corteconstitucional.gob.ec
X-WR-CALDESC:Eventos para Corte Constitucional del Ecuador
REFRESH-INTERVAL;VALUE=DURATION:PT1H
X-Robots-Tag:noindex
X-PUBLISHED-TTL:PT1H
BEGIN:VTIMEZONE
TZID:America/Bogota
BEGIN:STANDARD
TZOFFSETFROM:-0500
TZOFFSETTO:-0500
TZNAME:-05
DTSTART:20240101T000000
END:STANDARD
END:VTIMEZONE
BEGIN:VEVENT
DTSTART;TZID=America/Bogota:20240606T113000
DTEND;TZID=America/Bogota:20240606T170000
DTSTAMP:20260420T094341
CREATED:20240605T165122Z
LAST-MODIFIED:20240605T192330Z
UID:271023-1717673400-1717693200@www.corteconstitucional.gob.ec
SUMMARY:Sesión jurisdiccional ordinaria Nro. 026-O-2024
DESCRIPTION:Las juezas y jueces constitucionales que conforman el Pleno de la Corte Constitucional realizarán la Sesión Ordinaria del Pleno Nro. 026-O-2024\, el 06 de junio\, a partir de las 11h30. \nConoce el orden del día AQUÍ
URL:https://www.corteconstitucional.gob.ec/event/sesion-jurisdiccional-ordinaria-nro-026-o-2024/
CATEGORIES:Sesiones del Pleno
END:VEVENT
BEGIN:VEVENT
DTSTART;TZID=America/Bogota:20240606T113000
DTEND;TZID=America/Bogota:20240606T170000
DTSTAMP:20260420T094341
CREATED:20240605T165122Z
LAST-MODIFIED:20240605T165122Z
UID:275210-1717673400-1717693200@www.corteconstitucional.gob.ec
SUMMARY:Sesión jurisdiccional ordinaria Nro. 026-O-2024
DESCRIPTION:Las juezas y jueces constitucionales que conforman el Pleno de la Corte Constitucional realizarán la Sesión Ordinaria del Pleno Nro. 026-O-2024\, el 06 de junio\, a partir de las 11h30. \nConoce el orden del día AQUÍ
URL:https://www.corteconstitucional.gob.ec/event/sesion-jurisdiccional-ordinaria-nro-026-o-2024-2/
CATEGORIES:Sesiones del Pleno
END:VEVENT
BEGIN:VEVENT
DTSTART;TZID=America/Bogota:20240611T113000
DTEND;TZID=America/Bogota:20240611T123000
DTSTAMP:20260420T094341
CREATED:20240611T161637Z
LAST-MODIFIED:20240611T161637Z
UID:275213-1718105400-1718109000@www.corteconstitucional.gob.ec
SUMMARY:Sesión jurisdiccional extraordinaria Nro. 011-E-2024
DESCRIPTION:Las juezas y jueces que conforman el Pleno de la Corte Constitucional realizarán la Sesión jurisdiccional extraordinaria Nro. 011-E-2024. \nConoce el orden del día AQUÍ
URL:https://www.corteconstitucional.gob.ec/event/sesion-jurisdiccional-extraordinaria-nro-011-e-2024-2/
CATEGORIES:Sesiones del Pleno
END:VEVENT
BEGIN:VEVENT
DTSTART;TZID=America/Bogota:20240611T113000
DTEND;TZID=America/Bogota:20240611T123000
DTSTAMP:20260420T094341
CREATED:20240611T161637Z
LAST-MODIFIED:20240611T162703Z
UID:271107-1718105400-1718109000@www.corteconstitucional.gob.ec
SUMMARY:Sesión jurisdiccional extraordinaria Nro. 011-E-2024
DESCRIPTION:Las juezas y jueces que conforman el Pleno de la Corte Constitucional realizarán la Sesión jurisdiccional extraordinaria Nro. 011-E-2024. \nConoce el orden del día AQUÍ
URL:https://www.corteconstitucional.gob.ec/event/sesion-jurisdiccional-extraordinaria-nro-011-e-2024/
CATEGORIES:Sesiones del Pleno
END:VEVENT
BEGIN:VEVENT
DTSTART;TZID=America/Bogota:20240613T100000
DTEND;TZID=America/Bogota:20240613T110000
DTSTAMP:20260420T094341
CREATED:20240613T005937Z
LAST-MODIFIED:20240613T005937Z
UID:275217-1718272800-1718276400@www.corteconstitucional.gob.ec
SUMMARY:Sesión administrativa ordinaria 028-O-2024
DESCRIPTION:Las juezas y jueces que conforman el Pleno de la Corte Constitucional realizarán la Sesión administrativa ordinaria 028-O-2024. \nConoce el orden del día AQUÍ
URL:https://www.corteconstitucional.gob.ec/event/sesion-jurisdiccional-ordinaria-028-o-2024-2/
CATEGORIES:Sesiones del Pleno
END:VEVENT
BEGIN:VEVENT
DTSTART;TZID=America/Bogota:20240613T100000
DTEND;TZID=America/Bogota:20240613T110000
DTSTAMP:20260420T094341
CREATED:20240613T005937Z
LAST-MODIFIED:20240613T145347Z
UID:271141-1718272800-1718276400@www.corteconstitucional.gob.ec
SUMMARY:Sesión administrativa ordinaria 028-O-2024
DESCRIPTION:Las juezas y jueces que conforman el Pleno de la Corte Constitucional realizarán la Sesión administrativa ordinaria 028-O-2024. \nConoce el orden del día AQUÍ
URL:https://www.corteconstitucional.gob.ec/event/sesion-jurisdiccional-ordinaria-028-o-2024/
CATEGORIES:Sesiones del Pleno
END:VEVENT
BEGIN:VEVENT
DTSTART;TZID=America/Bogota:20240613T113000
DTEND;TZID=America/Bogota:20240613T123000
DTSTAMP:20260420T094341
CREATED:20240612T222309Z
LAST-MODIFIED:20240613T145332Z
UID:271132-1718278200-1718281800@www.corteconstitucional.gob.ec
SUMMARY:Sesión jurisdiccional ordinaria 027-O-2024
DESCRIPTION:Las juezas y jueces que conforman el Pleno de la Corte Constitucional realizarán la Sesión jurisdiccional ordinaria 027-O-2024. \nConoce le orden del día AQUÍ
URL:https://www.corteconstitucional.gob.ec/event/sesion-jurisdiccional-ordinaria-027-o-2024/
CATEGORIES:Sesiones del Pleno
END:VEVENT
BEGIN:VEVENT
DTSTART;TZID=America/Bogota:20240613T113000
DTEND;TZID=America/Bogota:20240613T123000
DTSTAMP:20260420T094341
CREATED:20240612T222309Z
LAST-MODIFIED:20240612T222309Z
UID:275216-1718278200-1718281800@www.corteconstitucional.gob.ec
SUMMARY:Sesión jurisdiccional ordinaria 027-O-2024
DESCRIPTION:Las juezas y jueces que conforman el Pleno de la Corte Constitucional realizarán la Sesión jurisdiccional ordinaria 027-O-2024. \nConoce le orden del día AQUÍ
URL:https://www.corteconstitucional.gob.ec/event/sesion-jurisdiccional-ordinaria-027-o-2024-2/
CATEGORIES:Sesiones del Pleno
END:VEVENT
BEGIN:VEVENT
DTSTART;TZID=America/Bogota:20240620T100000
DTEND;TZID=America/Bogota:20240620T230000
DTSTAMP:20260420T094341
CREATED:20240619T135413Z
LAST-MODIFIED:20240619T135413Z
UID:275220-1718877600-1718924400@www.corteconstitucional.gob.ec
SUMMARY:Sesión Ordinaria Administrativa 030-O-2024.
DESCRIPTION:Las juezas y jueces que conforman el Pleno de la Corte Constitucional realizarán la Sesión Ordinaria Administrativa 030-O-2024. \nConoce más en el orden del día AQUÍ
URL:https://www.corteconstitucional.gob.ec/event/sesion-ordinaria-administrativa-030-o-2024-2/
CATEGORIES:Sesiones del Pleno
END:VEVENT
BEGIN:VEVENT
DTSTART;TZID=America/Bogota:20240620T100000
DTEND;TZID=America/Bogota:20240620T230000
DTSTAMP:20260420T094341
CREATED:20240619T135413Z
LAST-MODIFIED:20240619T135413Z
UID:271200-1718877600-1718924400@www.corteconstitucional.gob.ec
SUMMARY:Sesión Ordinaria Administrativa 030-O-2024.
DESCRIPTION:Las juezas y jueces que conforman el Pleno de la Corte Constitucional realizarán la Sesión Ordinaria Administrativa 030-O-2024. \nConoce más en el orden del día AQUÍ
URL:https://www.corteconstitucional.gob.ec/event/sesion-ordinaria-administrativa-030-o-2024/
CATEGORIES:Sesiones del Pleno
END:VEVENT
BEGIN:VEVENT
DTSTART;TZID=America/Bogota:20240620T113000
DTEND;TZID=America/Bogota:20240620T150000
DTSTAMP:20260420T094341
CREATED:20240619T134837Z
LAST-MODIFIED:20240619T134837Z
UID:275219-1718883000-1718895600@www.corteconstitucional.gob.ec
SUMMARY:Sesión Jurisdiccional Ordinaria Nro. 029-O-2024.
DESCRIPTION:Las juezas y jueces que conforman el Pleno de la Corte Constitucional realizarán la Sesión Jurisdiccional Ordinaria Nro. 029-O-2024. \nConoce el orden del día AQUÍ \n#CompromisoConstitucional
URL:https://www.corteconstitucional.gob.ec/event/sesion-jurisdiccional-ordinaria-nro-029-o-2024-2/
CATEGORIES:Sesiones del Pleno
END:VEVENT
BEGIN:VEVENT
DTSTART;TZID=America/Bogota:20240620T113000
DTEND;TZID=America/Bogota:20240620T150000
DTSTAMP:20260420T094341
CREATED:20240619T134837Z
LAST-MODIFIED:20240619T134837Z
UID:271194-1718883000-1718895600@www.corteconstitucional.gob.ec
SUMMARY:Sesión Jurisdiccional Ordinaria Nro. 029-O-2024.
DESCRIPTION:Las juezas y jueces que conforman el Pleno de la Corte Constitucional realizarán la Sesión Jurisdiccional Ordinaria Nro. 029-O-2024. \nConoce el orden del día AQUÍ \n#CompromisoConstitucional
URL:https://www.corteconstitucional.gob.ec/event/sesion-jurisdiccional-ordinaria-nro-029-o-2024/
CATEGORIES:Sesiones del Pleno
END:VEVENT
BEGIN:VEVENT
DTSTART;TZID=America/Bogota:20240625T090000
DTEND;TZID=America/Bogota:20240625T133000
DTSTAMP:20260420T094341
CREATED:20240624T204735Z
LAST-MODIFIED:20240624T204735Z
UID:275222-1719306000-1719322200@www.corteconstitucional.gob.ec
SUMMARY:Sesión jurisdiccional extraordinaria 012-E-2024
DESCRIPTION:Las juezas y jueces que conforman el Pleno de la Corte Constitucional realizarán este 25 de junio de 2024 la Sesión jurisdiccional extraordinaria 012-E-2024. \nConoce le orden del día AQUÍ
URL:https://www.corteconstitucional.gob.ec/event/sesion-jurisdiccional-extraordinaria-012-e-2024-2/
CATEGORIES:Sesiones del Pleno
END:VEVENT
BEGIN:VEVENT
DTSTART;TZID=America/Bogota:20240625T090000
DTEND;TZID=America/Bogota:20240625T133000
DTSTAMP:20260420T094341
CREATED:20240624T204735Z
LAST-MODIFIED:20240624T204735Z
UID:271213-1719306000-1719322200@www.corteconstitucional.gob.ec
SUMMARY:Sesión jurisdiccional extraordinaria 012-E-2024
DESCRIPTION:Las juezas y jueces que conforman el Pleno de la Corte Constitucional realizarán este 25 de junio de 2024 la Sesión jurisdiccional extraordinaria 012-E-2024. \nConoce le orden del día AQUÍ
URL:https://www.corteconstitucional.gob.ec/event/sesion-jurisdiccional-extraordinaria-012-e-2024/
CATEGORIES:Sesiones del Pleno
END:VEVENT
BEGIN:VEVENT
DTSTART;TZID=America/Bogota:20240627T113000
DTEND;TZID=America/Bogota:20240627T170000
DTSTAMP:20260420T094341
CREATED:20240626T203831Z
LAST-MODIFIED:20240626T203831Z
UID:275224-1719487800-1719507600@www.corteconstitucional.gob.ec
SUMMARY:Sesión jurisdiccional ordinaria 031-O-2024
DESCRIPTION:Las juezas y jueces que conforman el Pleno de la Corte Constitucional realizarán la Sesión Jurisdiccional ordinaria 031-0-2024. \nMira el orden del día AQUÍ
URL:https://www.corteconstitucional.gob.ec/event/sesion-jurisdiccional-ordinaria-031-o-2024-2/
CATEGORIES:Sesiones del Pleno
END:VEVENT
BEGIN:VEVENT
DTSTART;TZID=America/Bogota:20240627T113000
DTEND;TZID=America/Bogota:20240627T170000
DTSTAMP:20260420T094341
CREATED:20240626T203831Z
LAST-MODIFIED:20240626T203831Z
UID:271295-1719487800-1719507600@www.corteconstitucional.gob.ec
SUMMARY:Sesión jurisdiccional ordinaria 031-O-2024
DESCRIPTION:Las juezas y jueces que conforman el Pleno de la Corte Constitucional realizarán la Sesión Jurisdiccional ordinaria 031-0-2024. \nMira el orden del día AQUÍ
URL:https://www.corteconstitucional.gob.ec/event/sesion-jurisdiccional-ordinaria-031-o-2024/
CATEGORIES:Sesiones del Pleno
END:VEVENT
END:VCALENDAR