BEGIN:VCALENDAR
VERSION:2.0
PRODID:-//Corte Constitucional del Ecuador - ECPv6.10.2//NONSGML v1.0//EN
CALSCALE:GREGORIAN
METHOD:PUBLISH
X-ORIGINAL-URL:https://www.corteconstitucional.gob.ec
X-WR-CALDESC:Eventos para Corte Constitucional del Ecuador
REFRESH-INTERVAL;VALUE=DURATION:PT1H
X-Robots-Tag:noindex
X-PUBLISHED-TTL:PT1H
BEGIN:VTIMEZONE
TZID:America/Bogota
BEGIN:STANDARD
TZOFFSETFROM:-0500
TZOFFSETTO:-0500
TZNAME:-05
DTSTART:20240101T000000
END:STANDARD
END:VTIMEZONE
BEGIN:VEVENT
DTSTART;TZID=America/Bogota:20240502T113000
DTEND;TZID=America/Bogota:20240502T160000
DTSTAMP:20260420T111448
CREATED:20240502T135831Z
LAST-MODIFIED:20240502T135831Z
UID:275203-1714649400-1714665600@www.corteconstitucional.gob.ec
SUMMARY:Sesión jurisdiccional ordinaria 021-O-2024
DESCRIPTION:Las juezas y jueces que conforman el Pleno de la Corte Constitucional sesionarán el 02 de mayo a partir de las 11h30. \nConoce el orden del día AQUÍ
URL:https://www.corteconstitucional.gob.ec/event/sesion-jurisdiccional-ordinaria-021-o-2024-2/
CATEGORIES:Sesiones del Pleno
END:VEVENT
BEGIN:VEVENT
DTSTART;TZID=America/Bogota:20240502T113000
DTEND;TZID=America/Bogota:20240502T160000
DTSTAMP:20260420T111448
CREATED:20240502T135831Z
LAST-MODIFIED:20240502T135852Z
UID:270786-1714649400-1714665600@www.corteconstitucional.gob.ec
SUMMARY:Sesión jurisdiccional ordinaria 021-O-2024
DESCRIPTION:Las juezas y jueces que conforman el Pleno de la Corte Constitucional sesionarán el 02 de mayo a partir de las 11h30. \nConoce el orden del día AQUÍ
URL:https://www.corteconstitucional.gob.ec/event/sesion-jurisdiccional-ordinaria-021-o-2024/
CATEGORIES:Sesiones del Pleno
END:VEVENT
BEGIN:VEVENT
DTSTART;TZID=America/Bogota:20240509T100000
DTEND;TZID=America/Bogota:20240509T110000
DTSTAMP:20260420T111448
CREATED:20240508T172825Z
LAST-MODIFIED:20240508T172825Z
UID:275205-1715248800-1715252400@www.corteconstitucional.gob.ec
SUMMARY:Sesión jurisdiccional ordinaria 022-O-2024
DESCRIPTION:Las juezas y jueces constitucionales realizarán la  Sesión jurisdiccional ordinaria Nro. 022-O-2024 \nConoce más AQUÍ
URL:https://www.corteconstitucional.gob.ec/event/sesion-jurisdiccional-ordinaria-022-o-2024-2/
CATEGORIES:Sesiones del Pleno
END:VEVENT
BEGIN:VEVENT
DTSTART;TZID=America/Bogota:20240509T100000
DTEND;TZID=America/Bogota:20240509T110000
DTSTAMP:20260420T111448
CREATED:20240508T172825Z
LAST-MODIFIED:20240508T172825Z
UID:270849-1715248800-1715252400@www.corteconstitucional.gob.ec
SUMMARY:Sesión jurisdiccional ordinaria 022-O-2024
DESCRIPTION:Las juezas y jueces constitucionales realizarán la  Sesión jurisdiccional ordinaria Nro. 022-O-2024 \nConoce más AQUÍ
URL:https://www.corteconstitucional.gob.ec/event/sesion-jurisdiccional-ordinaria-022-o-2024/
CATEGORIES:Sesiones del Pleno
END:VEVENT
BEGIN:VEVENT
DTSTART;TZID=America/Bogota:20240509T113000
DTEND;TZID=America/Bogota:20240509T163000
DTSTAMP:20260420T111448
CREATED:20240508T172515Z
LAST-MODIFIED:20240508T172515Z
UID:275204-1715254200-1715272200@www.corteconstitucional.gob.ec
SUMMARY:Sesión administrativa ordinaria 023-O-2024
DESCRIPTION:Las juezas y jueces constitucionales realizarán la sesión administrativa ordinaria 023-0-2024. \nConoce más en la convocatoria AQUÍ
URL:https://www.corteconstitucional.gob.ec/event/sesion-administrativa-ordinaria-023-o-2024-2/
CATEGORIES:Sesiones del Pleno
END:VEVENT
BEGIN:VEVENT
DTSTART;TZID=America/Bogota:20240509T113000
DTEND;TZID=America/Bogota:20240509T163000
DTSTAMP:20260420T111448
CREATED:20240508T172515Z
LAST-MODIFIED:20240508T172657Z
UID:270844-1715254200-1715272200@www.corteconstitucional.gob.ec
SUMMARY:Sesión administrativa ordinaria 023-O-2024
DESCRIPTION:Las juezas y jueces constitucionales realizarán la sesión administrativa ordinaria 023-0-2024. \nConoce más en la convocatoria AQUÍ
URL:https://www.corteconstitucional.gob.ec/event/sesion-administrativa-ordinaria-023-o-2024/
CATEGORIES:Sesiones del Pleno
END:VEVENT
BEGIN:VEVENT
DTSTART;TZID=America/Bogota:20240514T103000
DTEND;TZID=America/Bogota:20240514T143000
DTSTAMP:20260420T111448
CREATED:20240514T123225Z
LAST-MODIFIED:20240514T123225Z
UID:275206-1715682600-1715697000@www.corteconstitucional.gob.ec
SUMMARY:Sesión jurisdiccional extraordinaria 009-E-2024
DESCRIPTION:Las juezas y jueces que conforman el Pleno de la Corte Constitucional realizarán la Sesión jurisdiccional extraordinaria 009-E-2024. \nConoce más en la convocatoria AQUÍ
URL:https://www.corteconstitucional.gob.ec/event/sesion-jurisdiccional-extraordinaria-009-e-2024-2/
CATEGORIES:Sesiones del Pleno
END:VEVENT
BEGIN:VEVENT
DTSTART;TZID=America/Bogota:20240514T103000
DTEND;TZID=America/Bogota:20240514T143000
DTSTAMP:20260420T111448
CREATED:20240514T123225Z
LAST-MODIFIED:20240514T123225Z
UID:270868-1715682600-1715697000@www.corteconstitucional.gob.ec
SUMMARY:Sesión jurisdiccional extraordinaria 009-E-2024
DESCRIPTION:Las juezas y jueces que conforman el Pleno de la Corte Constitucional realizarán la Sesión jurisdiccional extraordinaria 009-E-2024. \nConoce más en la convocatoria AQUÍ
URL:https://www.corteconstitucional.gob.ec/event/sesion-jurisdiccional-extraordinaria-009-e-2024/
CATEGORIES:Sesiones del Pleno
END:VEVENT
BEGIN:VEVENT
DTSTART;TZID=America/Bogota:20240514T170000
DTEND;TZID=America/Bogota:20240514T180000
DTSTAMP:20260420T111448
CREATED:20240514T215023Z
LAST-MODIFIED:20240514T215023Z
UID:275207-1715706000-1715709600@www.corteconstitucional.gob.ec
SUMMARY:Sesión jurisdiccional extraordinaria 010-E-2024
DESCRIPTION:Las juezas y jueces que conforman el Pleno de la Corte Constitucional realizarán la Sesión jurisdiccional extraordinaria 010-E-2024. \nConoce más en la convocatoria AQUÍ \n#CompromisoConstitucional
URL:https://www.corteconstitucional.gob.ec/event/sesion-jurisdiccional-extraordinaria-010-e-2024-2-2/
CATEGORIES:Sesiones del Pleno
END:VEVENT
BEGIN:VEVENT
DTSTART;TZID=America/Bogota:20240514T170000
DTEND;TZID=America/Bogota:20240514T180000
DTSTAMP:20260420T111448
CREATED:20240514T215023Z
LAST-MODIFIED:20240514T215023Z
UID:270886-1715706000-1715709600@www.corteconstitucional.gob.ec
SUMMARY:Sesión jurisdiccional extraordinaria 010-E-2024
DESCRIPTION:Las juezas y jueces que conforman el Pleno de la Corte Constitucional realizarán la Sesión jurisdiccional extraordinaria 010-E-2024. \nConoce más en la convocatoria AQUÍ \n#CompromisoConstitucional
URL:https://www.corteconstitucional.gob.ec/event/sesion-jurisdiccional-extraordinaria-010-e-2024-2/
CATEGORIES:Sesiones del Pleno
END:VEVENT
BEGIN:VEVENT
DTSTART;TZID=America/Bogota:20240521T113000
DTEND;TZID=America/Bogota:20240521T163000
DTSTAMP:20260420T111448
CREATED:20240521T230137Z
LAST-MODIFIED:20240521T230137Z
UID:275209-1716291000-1716309000@www.corteconstitucional.gob.ec
SUMMARY:Sesión jurisdiccional ordinaria 025-O-2024
DESCRIPTION:Las juezas y juezas constitucionales que conforman el Pleno de la Corte Constitucional sesionarán el 23 de mayo\, a partir de las 11h30. \nConoce más en el orden del día AQUÍ
URL:https://www.corteconstitucional.gob.ec/event/sesion-jurisdiccional-ordinaria-025-o-2024-2/
CATEGORIES:Sesiones del Pleno
END:VEVENT
BEGIN:VEVENT
DTSTART;TZID=America/Bogota:20240521T113000
DTEND;TZID=America/Bogota:20240521T163000
DTSTAMP:20260420T111448
CREATED:20240521T230137Z
LAST-MODIFIED:20240521T230137Z
UID:270976-1716291000-1716309000@www.corteconstitucional.gob.ec
SUMMARY:Sesión jurisdiccional ordinaria 025-O-2024
DESCRIPTION:Las juezas y juezas constitucionales que conforman el Pleno de la Corte Constitucional sesionarán el 23 de mayo\, a partir de las 11h30. \nConoce más en el orden del día AQUÍ
URL:https://www.corteconstitucional.gob.ec/event/sesion-jurisdiccional-ordinaria-025-o-2024/
CATEGORIES:Sesiones del Pleno
END:VEVENT
END:VCALENDAR