BEGIN:VCALENDAR
VERSION:2.0
PRODID:-//Corte Constitucional del Ecuador - ECPv6.10.2//NONSGML v1.0//EN
CALSCALE:GREGORIAN
METHOD:PUBLISH
X-WR-CALNAME:Corte Constitucional del Ecuador
X-ORIGINAL-URL:https://www.corteconstitucional.gob.ec
X-WR-CALDESC:Eventos para Corte Constitucional del Ecuador
REFRESH-INTERVAL;VALUE=DURATION:PT1H
X-Robots-Tag:noindex
X-PUBLISHED-TTL:PT1H
BEGIN:VTIMEZONE
TZID:America/Bogota
BEGIN:STANDARD
TZOFFSETFROM:-0500
TZOFFSETTO:-0500
TZNAME:-05
DTSTART:20240101T000000
END:STANDARD
END:VTIMEZONE
BEGIN:VEVENT
DTSTART;TZID=America/Bogota:20240205T100000
DTEND;TZID=America/Bogota:20240205T130000
DTSTAMP:20260420T145624
CREATED:20240205T150322Z
LAST-MODIFIED:20240205T150322Z
UID:275165-1707127200-1707138000@www.corteconstitucional.gob.ec
SUMMARY:Sesión jurisdiccional extraordinaria Nro. 002-E-2024
DESCRIPTION:Las juezas y jueces constitucionales que conforman el Pleno de la Corte Constitucional sesionarán hoy\, a partir de las 10h00 de forma telemática. \nConoce el oriden del día AQUÍ
URL:https://www.corteconstitucional.gob.ec/event/sesion-jurisdiccional-extraordinaria-nro-002-e-2024-2/
CATEGORIES:Sesiones del Pleno
END:VEVENT
BEGIN:VEVENT
DTSTART;TZID=America/Bogota:20240205T100000
DTEND;TZID=America/Bogota:20240205T130000
DTSTAMP:20260420T145624
CREATED:20240205T150322Z
LAST-MODIFIED:20240205T150322Z
UID:269498-1707127200-1707138000@www.corteconstitucional.gob.ec
SUMMARY:Sesión jurisdiccional extraordinaria Nro. 002-E-2024
DESCRIPTION:Las juezas y jueces constitucionales que conforman el Pleno de la Corte Constitucional sesionarán hoy\, a partir de las 10h00 de forma telemática. \nConoce el oriden del día AQUÍ
URL:https://www.corteconstitucional.gob.ec/event/sesion-jurisdiccional-extraordinaria-nro-002-e-2024/
CATEGORIES:Sesiones del Pleno
END:VEVENT
BEGIN:VEVENT
DTSTART;TZID=America/Bogota:20240208T113000
DTEND;TZID=America/Bogota:20240208T163000
DTSTAMP:20260420T145624
CREATED:20240206T212113Z
LAST-MODIFIED:20240206T212113Z
UID:275166-1707391800-1707409800@www.corteconstitucional.gob.ec
SUMMARY:Sesión jurisdiccional ordinaria Nro.  007-O-2024
DESCRIPTION:Las juezas y jueces que conforman el Pleno de la Corte Constitucional sesionarán mañana\, a partir de las 11h30. \nAccede al orden del día AQUÍ
URL:https://www.corteconstitucional.gob.ec/event/sesion-jurisdiccional-ordinaria-nro-007-o-2024-2/
CATEGORIES:Sesiones del Pleno
END:VEVENT
BEGIN:VEVENT
DTSTART;TZID=America/Bogota:20240208T113000
DTEND;TZID=America/Bogota:20240208T163000
DTSTAMP:20260420T145624
CREATED:20240206T212113Z
LAST-MODIFIED:20240206T213316Z
UID:269512-1707391800-1707409800@www.corteconstitucional.gob.ec
SUMMARY:Sesión jurisdiccional ordinaria Nro.  007-O-2024
DESCRIPTION:Las juezas y jueces que conforman el Pleno de la Corte Constitucional sesionarán mañana\, a partir de las 11h30. \nAccede al orden del día AQUÍ
URL:https://www.corteconstitucional.gob.ec/event/sesion-jurisdiccional-ordinaria-nro-007-o-2024/
CATEGORIES:Sesiones del Pleno
END:VEVENT
BEGIN:VEVENT
DTSTART;TZID=America/Bogota:20240216T113000
DTEND;TZID=America/Bogota:20240216T163000
DTSTAMP:20260420T145624
CREATED:20240214T215615Z
LAST-MODIFIED:20240214T215615Z
UID:275167-1708083000-1708101000@www.corteconstitucional.gob.ec
SUMMARY:Sesión jurisdiccional extraordinaria Nro. 003-E-2024
DESCRIPTION:Las juezas y jueces constitucionales que conforman el Pleno de la Corte Constitucional sesionarán el 16 de febrero\, a partir de las 11h30 de forma telemática. Conoce el orden del día AQUÍ
URL:https://www.corteconstitucional.gob.ec/event/sesion-jurisdiccional-extraordinaria-nro-003-e-2024-2/
CATEGORIES:Sesiones del Pleno
END:VEVENT
BEGIN:VEVENT
DTSTART;TZID=America/Bogota:20240216T113000
DTEND;TZID=America/Bogota:20240216T163000
DTSTAMP:20260420T145624
CREATED:20240214T215615Z
LAST-MODIFIED:20240214T215831Z
UID:269692-1708083000-1708101000@www.corteconstitucional.gob.ec
SUMMARY:Sesión jurisdiccional extraordinaria Nro. 003-E-2024
DESCRIPTION:Las juezas y jueces constitucionales que conforman el Pleno de la Corte Constitucional sesionarán el 16 de febrero\, a partir de las 11h30 de forma telemática. Conoce el orden del día AQUÍ
URL:https://www.corteconstitucional.gob.ec/event/sesion-jurisdiccional-extraordinaria-nro-003-e-2024/
CATEGORIES:Sesiones del Pleno
END:VEVENT
BEGIN:VEVENT
DTSTART;TZID=America/Bogota:20240221T113000
DTEND;TZID=America/Bogota:20240221T170000
DTSTAMP:20260420T145624
CREATED:20240220T132756Z
LAST-MODIFIED:20240220T132756Z
UID:275168-1708515000-1708534800@www.corteconstitucional.gob.ec
SUMMARY:Sesión jurisdiccional ordinaria Nro. 008-O-2024
DESCRIPTION:Las juezas y jueces que conforman el Pleno de la Corte Constitucional sesionarán a partir de las 11h30. \nAccede al orden del día AQUÍ
URL:https://www.corteconstitucional.gob.ec/event/sesion-jurisdiccional-ordinaria-nro-008-o-2024-2/
CATEGORIES:Sesiones del Pleno
END:VEVENT
BEGIN:VEVENT
DTSTART;TZID=America/Bogota:20240221T113000
DTEND;TZID=America/Bogota:20240221T170000
DTSTAMP:20260420T145624
CREATED:20240220T132756Z
LAST-MODIFIED:20240220T132756Z
UID:269725-1708515000-1708534800@www.corteconstitucional.gob.ec
SUMMARY:Sesión jurisdiccional ordinaria Nro. 008-O-2024
DESCRIPTION:Las juezas y jueces que conforman el Pleno de la Corte Constitucional sesionarán a partir de las 11h30. \nAccede al orden del día AQUÍ
URL:https://www.corteconstitucional.gob.ec/event/sesion-jurisdiccional-ordinaria-nro-008-o-2024/
CATEGORIES:Sesiones del Pleno
END:VEVENT
BEGIN:VEVENT
DTSTART;TZID=America/Bogota:20240228T100000
DTEND;TZID=America/Bogota:20240228T110000
DTSTAMP:20260420T145624
CREATED:20240227T143053Z
LAST-MODIFIED:20240227T143053Z
UID:275171-1709114400-1709118000@www.corteconstitucional.gob.ec
SUMMARY:Sesión administrativa ordinaria Nro. 010-O-2024
DESCRIPTION:Las juezas y jueces que conforman el Pleno de la Corte Constitucional realizarán la Sesión administrativa ordinaria Nro. 010-O-2024\, el 28 de febrero\, a partir de las 10h00\, de forma digital. \nAccede al orden del día AQUÍ 
URL:https://www.corteconstitucional.gob.ec/event/sesion-administrativa-ordinaria-nro-010-o-2024-2/
CATEGORIES:Sesiones del Pleno
END:VEVENT
BEGIN:VEVENT
DTSTART;TZID=America/Bogota:20240228T100000
DTEND;TZID=America/Bogota:20240228T110000
DTSTAMP:20260420T145624
CREATED:20240227T143053Z
LAST-MODIFIED:20240227T143053Z
UID:269739-1709114400-1709118000@www.corteconstitucional.gob.ec
SUMMARY:Sesión administrativa ordinaria Nro. 010-O-2024
DESCRIPTION:Las juezas y jueces que conforman el Pleno de la Corte Constitucional realizarán la Sesión administrativa ordinaria Nro. 010-O-2024\, el 28 de febrero\, a partir de las 10h00\, de forma digital. \nAccede al orden del día AQUÍ 
URL:https://www.corteconstitucional.gob.ec/event/sesion-administrativa-ordinaria-nro-010-o-2024/
CATEGORIES:Sesiones del Pleno
END:VEVENT
BEGIN:VEVENT
DTSTART;TZID=America/Bogota:20240228T113000
DTEND;TZID=America/Bogota:20240228T163000
DTSTAMP:20260420T145624
CREATED:20240227T142835Z
LAST-MODIFIED:20240227T142835Z
UID:275170-1709119800-1709137800@www.corteconstitucional.gob.ec
SUMMARY:Sesión jurisdiccional ordinaria Nro. 009-O-2024
DESCRIPTION:Las juezas y jueces que conforman el Pleno de la Corte Constitucional realizarán la Sesión jurisdiccional ordinaria Nro. 009-O-2024\, el 28 de febrero\, a partir de las 11h30\, de forma digital. \nAccede al orden del día AQUÍ 
URL:https://www.corteconstitucional.gob.ec/event/sesion-jurisdiccional-ordinaria-nro-009-o-2024-2/
CATEGORIES:Sesiones del Pleno
END:VEVENT
BEGIN:VEVENT
DTSTART;TZID=America/Bogota:20240228T113000
DTEND;TZID=America/Bogota:20240228T163000
DTSTAMP:20260420T145624
CREATED:20240227T142835Z
LAST-MODIFIED:20240227T142835Z
UID:269736-1709119800-1709137800@www.corteconstitucional.gob.ec
SUMMARY:Sesión jurisdiccional ordinaria Nro. 009-O-2024
DESCRIPTION:Las juezas y jueces que conforman el Pleno de la Corte Constitucional realizarán la Sesión jurisdiccional ordinaria Nro. 009-O-2024\, el 28 de febrero\, a partir de las 11h30\, de forma digital. \nAccede al orden del día AQUÍ 
URL:https://www.corteconstitucional.gob.ec/event/sesion-jurisdiccional-ordinaria-nro-009-o-2024/
CATEGORIES:Sesiones del Pleno
END:VEVENT
END:VCALENDAR