BEGIN:VCALENDAR
VERSION:2.0
PRODID:-//Corte Constitucional del Ecuador - ECPv6.10.2//NONSGML v1.0//EN
CALSCALE:GREGORIAN
METHOD:PUBLISH
X-WR-CALNAME:Corte Constitucional del Ecuador
X-ORIGINAL-URL:https://www.corteconstitucional.gob.ec
X-WR-CALDESC:Eventos para Corte Constitucional del Ecuador
REFRESH-INTERVAL;VALUE=DURATION:PT1H
X-Robots-Tag:noindex
X-PUBLISHED-TTL:PT1H
BEGIN:VTIMEZONE
TZID:America/Bogota
BEGIN:STANDARD
TZOFFSETFROM:-0500
TZOFFSETTO:-0500
TZNAME:-05
DTSTART:20240101T000000
END:STANDARD
END:VTIMEZONE
BEGIN:VEVENT
DTSTART;TZID=America/Bogota:20240105T100000
DTEND;TZID=America/Bogota:20240105T133000
DTSTAMP:20260420T160549
CREATED:20240104T205040Z
LAST-MODIFIED:20240104T205040Z
UID:268976-1704448800-1704461400@www.corteconstitucional.gob.ec
SUMMARY:Sesión jurisdiccional extraordinaria Nro. 001-E-2024
DESCRIPTION:Las juezas y jueces que conforman el Pleno de la Corte Constitucional realizarán la Sesión jurisdiccional extraordinaria Nro. 001-E-2024. \nOrden del día AQUÍ
URL:https://www.corteconstitucional.gob.ec/event/sesion-jurisdiccional-extraordinaria-nro-001-e-2024/
CATEGORIES:Sesiones del Pleno
END:VEVENT
BEGIN:VEVENT
DTSTART;TZID=America/Bogota:20240105T100000
DTEND;TZID=America/Bogota:20240105T133000
DTSTAMP:20260420T160549
CREATED:20240104T205040Z
LAST-MODIFIED:20240104T205040Z
UID:275152-1704448800-1704461400@www.corteconstitucional.gob.ec
SUMMARY:Sesión jurisdiccional extraordinaria Nro. 001-E-2024
DESCRIPTION:Las juezas y jueces que conforman el Pleno de la Corte Constitucional realizarán la Sesión jurisdiccional extraordinaria Nro. 001-E-2024. \nOrden del día AQUÍ
URL:https://www.corteconstitucional.gob.ec/event/sesion-jurisdiccional-extraordinaria-nro-001-e-2024-2/
CATEGORIES:Sesiones del Pleno
END:VEVENT
BEGIN:VEVENT
DTSTART;TZID=America/Bogota:20240111T100000
DTEND;TZID=America/Bogota:20240111T110000
DTSTAMP:20260420T160549
CREATED:20240110T200428Z
LAST-MODIFIED:20240110T200428Z
UID:269159-1704967200-1704970800@www.corteconstitucional.gob.ec
SUMMARY:Sesión administrativa ordinaria Nro. 002-O-2024
DESCRIPTION:Las juezas y jueces constitucionales que conforman el Pleno de la Corte Constitusional realizará\, este 11 de enero de 2024\, la Sesión administrativa ordinaria Nro. 002-O-2024\, a partir de las 10h00. \nConoce la convocatoria AQUÍ \nMira la sesión en vivo en nuestro canal de YouTube AQUÍ
URL:https://www.corteconstitucional.gob.ec/event/sesion-administrativa-ordinaria-nro-002-o-2024/
CATEGORIES:Sesiones del Pleno
END:VEVENT
BEGIN:VEVENT
DTSTART;TZID=America/Bogota:20240111T100000
DTEND;TZID=America/Bogota:20240111T110000
DTSTAMP:20260420T160549
CREATED:20240110T200428Z
LAST-MODIFIED:20240110T200428Z
UID:275153-1704967200-1704970800@www.corteconstitucional.gob.ec
SUMMARY:Sesión administrativa ordinaria Nro. 002-O-2024
DESCRIPTION:Las juezas y jueces constitucionales que conforman el Pleno de la Corte Constitusional realizará\, este 11 de enero de 2024\, la Sesión administrativa ordinaria Nro. 002-O-2024\, a partir de las 10h00. \nConoce la convocatoria AQUÍ \nMira la sesión en vivo en nuestro canal de YouTube AQUÍ
URL:https://www.corteconstitucional.gob.ec/event/sesion-administrativa-ordinaria-nro-002-o-2024-2/
CATEGORIES:Sesiones del Pleno
END:VEVENT
BEGIN:VEVENT
DTSTART;TZID=America/Bogota:20240111T113000
DTEND;TZID=America/Bogota:20240111T163000
DTSTAMP:20260420T160549
CREATED:20240110T204941Z
LAST-MODIFIED:20240110T204941Z
UID:269169-1704972600-1704990600@www.corteconstitucional.gob.ec
SUMMARY:Sesión jurisdiccional ordinaria Nro. 001-O-2024
DESCRIPTION:Las juezas y jueces que conforman el Pleno de la Corte Constitucional ralizarán la Sesión jurisdiccional ordinaria Nro. 001-O-2024\, la misma se desarrollará el 11 de enero de 2024\, a partir de las 11h30. \nConoce el orden del día AQUÍ
URL:https://www.corteconstitucional.gob.ec/event/sesion-jurisdiccional-ordinaria-nro-001-o-2024/
CATEGORIES:Sesiones del Pleno
END:VEVENT
BEGIN:VEVENT
DTSTART;TZID=America/Bogota:20240111T113000
DTEND;TZID=America/Bogota:20240111T163000
DTSTAMP:20260420T160549
CREATED:20240110T204941Z
LAST-MODIFIED:20240110T204941Z
UID:275154-1704972600-1704990600@www.corteconstitucional.gob.ec
SUMMARY:Sesión jurisdiccional ordinaria Nro. 001-O-2024
DESCRIPTION:Las juezas y jueces que conforman el Pleno de la Corte Constitucional ralizarán la Sesión jurisdiccional ordinaria Nro. 001-O-2024\, la misma se desarrollará el 11 de enero de 2024\, a partir de las 11h30. \nConoce el orden del día AQUÍ
URL:https://www.corteconstitucional.gob.ec/event/sesion-jurisdiccional-ordinaria-nro-001-o-2024-2/
CATEGORIES:Sesiones del Pleno
END:VEVENT
BEGIN:VEVENT
DTSTART;TZID=America/Bogota:20240117T113000
DTEND;TZID=America/Bogota:20240117T153000
DTSTAMP:20260420T160549
CREATED:20240116T200541Z
LAST-MODIFIED:20240116T200541Z
UID:269215-1705491000-1705505400@www.corteconstitucional.gob.ec
SUMMARY:Sesión jurisdiccional ordinaria Nro. 003-O-2024
DESCRIPTION:Las juezas y jueces que conforman el Pleno de la Corte Constitucional realizarán la Sesión Ordinaria Nro. 003-0-2024. \nAccede al orden del día AQUÍ
URL:https://www.corteconstitucional.gob.ec/event/sesion-jurisdiccional-ordinaria-nro-003-o-2024/
CATEGORIES:Sesiones del Pleno
END:VEVENT
BEGIN:VEVENT
DTSTART;TZID=America/Bogota:20240117T113000
DTEND;TZID=America/Bogota:20240117T153000
DTSTAMP:20260420T160549
CREATED:20240116T200541Z
LAST-MODIFIED:20240116T200541Z
UID:275155-1705491000-1705505400@www.corteconstitucional.gob.ec
SUMMARY:Sesión jurisdiccional ordinaria Nro. 003-O-2024
DESCRIPTION:Las juezas y jueces que conforman el Pleno de la Corte Constitucional realizarán la Sesión Ordinaria Nro. 003-0-2024. \nAccede al orden del día AQUÍ
URL:https://www.corteconstitucional.gob.ec/event/sesion-jurisdiccional-ordinaria-nro-003-o-2024-2/
CATEGORIES:Sesiones del Pleno
END:VEVENT
BEGIN:VEVENT
DTSTART;TZID=America/Bogota:20240124T100000
DTEND;TZID=America/Bogota:20240124T110000
DTSTAMP:20260420T160549
CREATED:20240123T141039Z
LAST-MODIFIED:20240123T141039Z
UID:269346-1706090400-1706094000@www.corteconstitucional.gob.ec
SUMMARY:Sesión administrativa ordinaria Nro. 005-O-2024
DESCRIPTION:Las juezas y jueces que conforman el Pleno de la Corte Constitucional realizarán la Sesión administrativa ordinaria Nro. 005-O-2024\, el miércoles 24 de enero del 2024\, a partir de las 10h00. \nAccede al orden del día AQUÍ
URL:https://www.corteconstitucional.gob.ec/event/sesion-administrativa-ordinaria-nro-005-o-2024/
CATEGORIES:Sesiones del Pleno
END:VEVENT
BEGIN:VEVENT
DTSTART;TZID=America/Bogota:20240124T100000
DTEND;TZID=America/Bogota:20240124T110000
DTSTAMP:20260420T160549
CREATED:20240123T141039Z
LAST-MODIFIED:20240123T141039Z
UID:275159-1706090400-1706094000@www.corteconstitucional.gob.ec
SUMMARY:Sesión administrativa ordinaria Nro. 005-O-2024
DESCRIPTION:Las juezas y jueces que conforman el Pleno de la Corte Constitucional realizarán la Sesión administrativa ordinaria Nro. 005-O-2024\, el miércoles 24 de enero del 2024\, a partir de las 10h00. \nAccede al orden del día AQUÍ
URL:https://www.corteconstitucional.gob.ec/event/sesion-administrativa-ordinaria-nro-005-o-2024-2/
CATEGORIES:Sesiones del Pleno
END:VEVENT
BEGIN:VEVENT
DTSTART;TZID=America/Bogota:20240124T113000
DTEND;TZID=America/Bogota:20240124T143000
DTSTAMP:20260420T160549
CREATED:20240123T133123Z
LAST-MODIFIED:20240123T141156Z
UID:269325-1706095800-1706106600@www.corteconstitucional.gob.ec
SUMMARY:Sesión jurisdiccional ordinaria Nro. 004-O-2024
DESCRIPTION:Las juezas y jueces constitucionales que conforman el Pleno de la Corte Constitucional realizarán la Sesión jurisdiccional ordinaria Nro. 004-O-2024\, el miércoles 24 de enero del 2024\, a partir de las 11h30. \nAccede al orden del día AQUÍ
URL:https://www.corteconstitucional.gob.ec/event/sesion-jurisdiccional-ordinaria-nro-004-o-2024/
CATEGORIES:Sesiones del Pleno
END:VEVENT
BEGIN:VEVENT
DTSTART;TZID=America/Bogota:20240124T113000
DTEND;TZID=America/Bogota:20240124T143000
DTSTAMP:20260420T160549
CREATED:20240123T133123Z
LAST-MODIFIED:20240123T133123Z
UID:275158-1706095800-1706106600@www.corteconstitucional.gob.ec
SUMMARY:Sesión jurisdiccional ordinaria Nro. 004-O-2024
DESCRIPTION:Las juezas y jueces constitucionales que conforman el Pleno de la Corte Constitucional realizarán la Sesión jurisdiccional ordinaria Nro. 004-O-2024\, el miércoles 24 de enero del 2024\, a partir de las 11h30. \nAccede al orden del día AQUÍ
URL:https://www.corteconstitucional.gob.ec/event/sesion-jurisdiccional-ordinaria-nro-004-o-2024-2/
CATEGORIES:Sesiones del Pleno
END:VEVENT
BEGIN:VEVENT
DTSTART;TZID=America/Bogota:20240131T113000
DTEND;TZID=America/Bogota:20240131T163000
DTSTAMP:20260420T160549
CREATED:20240130T153124Z
LAST-MODIFIED:20240130T153124Z
UID:275162-1706700600-1706718600@www.corteconstitucional.gob.ec
SUMMARY:Sesión jurisdiccional ordinaria Nro. 006-O-2024
DESCRIPTION:Las juezas y jueces constitucionales que conforman el Pleno de la Corte Constitucional sesionarán el 31 de enero\, a partir de las 11h30. \nAccede al orden del día AQUÍ
URL:https://www.corteconstitucional.gob.ec/event/sesion-jurisdiccional-ordinaria-nro-006-o-2024-2/
CATEGORIES:Sesiones del Pleno
END:VEVENT
BEGIN:VEVENT
DTSTART;TZID=America/Bogota:20240131T113000
DTEND;TZID=America/Bogota:20240131T163000
DTSTAMP:20260420T160549
CREATED:20240130T153124Z
LAST-MODIFIED:20240130T153124Z
UID:269439-1706700600-1706718600@www.corteconstitucional.gob.ec
SUMMARY:Sesión jurisdiccional ordinaria Nro. 006-O-2024
DESCRIPTION:Las juezas y jueces constitucionales que conforman el Pleno de la Corte Constitucional sesionarán el 31 de enero\, a partir de las 11h30. \nAccede al orden del día AQUÍ
URL:https://www.corteconstitucional.gob.ec/event/sesion-jurisdiccional-ordinaria-nro-006-o-2024/
CATEGORIES:Sesiones del Pleno
END:VEVENT
END:VCALENDAR