BEGIN:VCALENDAR
VERSION:2.0
PRODID:-//Corte Constitucional del Ecuador - ECPv6.10.2//NONSGML v1.0//EN
CALSCALE:GREGORIAN
METHOD:PUBLISH
X-WR-CALNAME:Corte Constitucional del Ecuador
X-ORIGINAL-URL:https://www.corteconstitucional.gob.ec
X-WR-CALDESC:Eventos para Corte Constitucional del Ecuador
REFRESH-INTERVAL;VALUE=DURATION:PT1H
X-Robots-Tag:noindex
X-PUBLISHED-TTL:PT1H
BEGIN:VTIMEZONE
TZID:America/Bogota
BEGIN:STANDARD
TZOFFSETFROM:-0500
TZOFFSETTO:-0500
TZNAME:-05
DTSTART:20230101T000000
END:STANDARD
END:VTIMEZONE
BEGIN:VEVENT
DTSTART;TZID=America/Bogota:20231005T153000
DTEND;TZID=America/Bogota:20231005T163000
DTSTAMP:20260420T195048
CREATED:20231005T210001Z
LAST-MODIFIED:20231005T210020Z
UID:267403-1696519800-1696523400@www.corteconstitucional.gob.ec
SUMMARY:Sesión jurisdiccional extraordinaria Nro. 022-E-2023
DESCRIPTION:Las juezas y jueces que conforman el Pleno de la Corte Constitucional fueron convocadas a la Sesión jurisdiccional extraordinaria Nro. 022-E-2023
URL:https://www.corteconstitucional.gob.ec/event/sesion-jurisdiccional-extraordinaria-nro-022-e-2023/
CATEGORIES:Sesiones del Pleno
END:VEVENT
BEGIN:VEVENT
DTSTART;TZID=America/Bogota:20231005T153000
DTEND;TZID=America/Bogota:20231005T163000
DTSTAMP:20260420T195048
CREATED:20231005T210001Z
LAST-MODIFIED:20231005T210001Z
UID:275124-1696519800-1696523400@www.corteconstitucional.gob.ec
SUMMARY:Sesión jurisdiccional extraordinaria Nro. 022-E-2023
DESCRIPTION:Las juezas y jueces que conforman el Pleno de la Corte Constitucional fueron convocadas a la Sesión jurisdiccional extraordinaria Nro. 022-E-2023
URL:https://www.corteconstitucional.gob.ec/event/sesion-jurisdiccional-extraordinaria-nro-022-e-2023-2/
CATEGORIES:Sesiones del Pleno
END:VEVENT
BEGIN:VEVENT
DTSTART;TZID=America/Bogota:20231012T100000
DTEND;TZID=America/Bogota:20231012T233000
DTSTAMP:20260420T195048
CREATED:20231011T133354Z
LAST-MODIFIED:20231016T180432Z
UID:267474-1697104800-1697153400@www.corteconstitucional.gob.ec
SUMMARY:Sesión administrativa ordinaria Nro. 037-O-2023
DESCRIPTION:Las juezas y jueces que conforman el Pleno de la Corte Constitucional realizarán la sesión administrativa ordinaria Nro. 037-O-2023. \nConoce el orden del día AQUÍ  \nSigue en vivo la sesión AQUÍ 
URL:https://www.corteconstitucional.gob.ec/event/sesion-administrativa-ordinaria/
CATEGORIES:Sesiones del Pleno
END:VEVENT
BEGIN:VEVENT
DTSTART;TZID=America/Bogota:20231012T100000
DTEND;TZID=America/Bogota:20231012T233000
DTSTAMP:20260420T195048
CREATED:20231011T133354Z
LAST-MODIFIED:20231011T133354Z
UID:275126-1697104800-1697153400@www.corteconstitucional.gob.ec
SUMMARY:Sesión administrativa ordinaria Nro. 037-O-2023
DESCRIPTION:Las juezas y jueces que conforman el Pleno de la Corte Constitucional realizarán la sesión administrativa ordinaria Nro. 037-O-2023. \nConoce el orden del día AQUÍ  \nSigue en vivo la sesión AQUÍ 
URL:https://www.corteconstitucional.gob.ec/event/sesion-administrativa-ordinaria-2/
CATEGORIES:Sesiones del Pleno
END:VEVENT
BEGIN:VEVENT
DTSTART;TZID=America/Bogota:20231012T113000
DTEND;TZID=America/Bogota:20231012T143000
DTSTAMP:20260420T195048
CREATED:20231011T115924Z
LAST-MODIFIED:20231011T115924Z
UID:275125-1697110200-1697121000@www.corteconstitucional.gob.ec
SUMMARY:Sesión jurisdiccional ordinaria Nro. 036-O-2023
DESCRIPTION:Las juezas y jueces que conforman el Pleno de la Corte Constitucional realizarán la Sesión jurisdiccional ordinaria Nro. 036-O-2023 \n 
URL:https://www.corteconstitucional.gob.ec/event/sesion-jurisdiccional-ordinaria-nro-036-o-2023-2/
CATEGORIES:Sesiones del Pleno
END:VEVENT
BEGIN:VEVENT
DTSTART;TZID=America/Bogota:20231012T113000
DTEND;TZID=America/Bogota:20231012T143000
DTSTAMP:20260420T195048
CREATED:20231011T115924Z
LAST-MODIFIED:20231011T121312Z
UID:267462-1697110200-1697121000@www.corteconstitucional.gob.ec
SUMMARY:Sesión jurisdiccional ordinaria Nro. 036-O-2023
DESCRIPTION:Las juezas y jueces que conforman el Pleno de la Corte Constitucional realizarán la Sesión jurisdiccional ordinaria Nro. 036-O-2023 \n 
URL:https://www.corteconstitucional.gob.ec/event/sesion-jurisdiccional-ordinaria-nro-036-o-2023/
CATEGORIES:Sesiones del Pleno
END:VEVENT
BEGIN:VEVENT
DTSTART;TZID=America/Bogota:20231019T113000
DTEND;TZID=America/Bogota:20231019T170000
DTSTAMP:20260420T195048
CREATED:20231016T175025Z
LAST-MODIFIED:20231016T175025Z
UID:275128-1697715000-1697734800@www.corteconstitucional.gob.ec
SUMMARY:Sesión jurisdiccional ordinaria Nro. 038-O-2023
DESCRIPTION:Las juezas y jueces que conforman el Pleno de la Corte Constitucional realizarán la Sesión Jurisdiccional Ordinaria 038-O-2023\, el miércoles 18 de octubre a partir de las 11h30. \nConoce el orden del día AQUÍ
URL:https://www.corteconstitucional.gob.ec/event/sesion-jurisdiccional-ordinaria-nro-038-o-2023-2/
CATEGORIES:Sesiones del Pleno
END:VEVENT
BEGIN:VEVENT
DTSTART;TZID=America/Bogota:20231019T113000
DTEND;TZID=America/Bogota:20231019T170000
DTSTAMP:20260420T195048
CREATED:20231016T175025Z
LAST-MODIFIED:20231016T180241Z
UID:267488-1697715000-1697734800@www.corteconstitucional.gob.ec
SUMMARY:Sesión jurisdiccional ordinaria Nro. 038-O-2023
DESCRIPTION:Las juezas y jueces que conforman el Pleno de la Corte Constitucional realizarán la Sesión Jurisdiccional Ordinaria 038-O-2023\, el miércoles 18 de octubre a partir de las 11h30. \nConoce el orden del día AQUÍ
URL:https://www.corteconstitucional.gob.ec/event/sesion-jurisdiccional-ordinaria-nro-038-o-2023/
CATEGORIES:Sesiones del Pleno
END:VEVENT
BEGIN:VEVENT
DTSTART;TZID=America/Bogota:20231025T113000
DTEND;TZID=America/Bogota:20231025T163000
DTSTAMP:20260420T195048
CREATED:20231115T003141Z
LAST-MODIFIED:20231115T003141Z
UID:268322-1698233400-1698251400@www.corteconstitucional.gob.ec
SUMMARY:Sesión jurisdiccional ordinaria 039-O-2023
DESCRIPTION:Las juezas y jueces constitucionales que conforman el Pleno de la Corte Constitucional realizarán la sesión jurisdiccional ordinaria Nro. 039-O-2023\, el miércoles 25 de ocutbre a partitr de las 11h30. \nAccede a la convocatoria AQUÍ 
URL:https://www.corteconstitucional.gob.ec/event/sesion-jurisdiccional-ordinaria-039-o-2023/
CATEGORIES:Sesiones del Pleno
END:VEVENT
BEGIN:VEVENT
DTSTART;TZID=America/Bogota:20231025T113000
DTEND;TZID=America/Bogota:20231025T163000
DTSTAMP:20260420T195048
CREATED:20231115T003141Z
LAST-MODIFIED:20231115T003141Z
UID:275130-1698233400-1698251400@www.corteconstitucional.gob.ec
SUMMARY:Sesión jurisdiccional ordinaria 039-O-2023
DESCRIPTION:Las juezas y jueces constitucionales que conforman el Pleno de la Corte Constitucional realizarán la sesión jurisdiccional ordinaria Nro. 039-O-2023\, el miércoles 25 de ocutbre a partitr de las 11h30. \nAccede a la convocatoria AQUÍ 
URL:https://www.corteconstitucional.gob.ec/event/sesion-jurisdiccional-ordinaria-039-o-2023-2/
CATEGORIES:Sesiones del Pleno
END:VEVENT
END:VCALENDAR