BEGIN:VCALENDAR
VERSION:2.0
PRODID:-//Corte Constitucional del Ecuador - ECPv6.10.2//NONSGML v1.0//EN
CALSCALE:GREGORIAN
METHOD:PUBLISH
X-ORIGINAL-URL:https://www.corteconstitucional.gob.ec
X-WR-CALDESC:Eventos para Corte Constitucional del Ecuador
REFRESH-INTERVAL;VALUE=DURATION:PT1H
X-Robots-Tag:noindex
X-PUBLISHED-TTL:PT1H
BEGIN:VTIMEZONE
TZID:America/Bogota
BEGIN:STANDARD
TZOFFSETFROM:-0500
TZOFFSETTO:-0500
TZNAME:-05
DTSTART:20230101T000000
END:STANDARD
END:VTIMEZONE
BEGIN:VEVENT
DTSTART;TZID=America/Bogota:20230607T113000
DTEND;TZID=America/Bogota:20230607T163000
DTSTAMP:20260421T002614
CREATED:20230605T222745Z
LAST-MODIFIED:20230606T190205Z
UID:266350-1686137400-1686155400@www.corteconstitucional.gob.ec
SUMMARY:Sesión Ordinaria del Pleno Nro. 017-O-2023
DESCRIPTION:Las juezas y jueces constitucionales que conforman el Pleno de la Corte Constitucional sesionarán el 07 de junio del 2023\, a partir de las 11h30. \nConoce el orden del día AQUÍ \n 
URL:https://www.corteconstitucional.gob.ec/event/sesion-ordinaria-del-pleno-nro-017-o-2023/
CATEGORIES:Sesiones del Pleno
END:VEVENT
BEGIN:VEVENT
DTSTART;TZID=America/Bogota:20230607T113000
DTEND;TZID=America/Bogota:20230607T163000
DTSTAMP:20260421T002614
CREATED:20230605T222745Z
LAST-MODIFIED:20230605T222745Z
UID:275062-1686137400-1686155400@www.corteconstitucional.gob.ec
SUMMARY:Sesión Ordinaria del Pleno Nro. 017-O-2023
DESCRIPTION:Las juezas y jueces constitucionales que conforman el Pleno de la Corte Constitucional sesionarán el 07 de junio del 2023\, a partir de las 11h30. \nConoce el orden del día AQUÍ \n 
URL:https://www.corteconstitucional.gob.ec/event/sesion-ordinaria-del-pleno-nro-017-o-2023-2/
CATEGORIES:Sesiones del Pleno
END:VEVENT
BEGIN:VEVENT
DTSTART;TZID=America/Bogota:20230608T130000
DTEND;TZID=America/Bogota:20230608T163000
DTSTAMP:20260421T002615
CREATED:20230608T174512Z
LAST-MODIFIED:20230608T174512Z
UID:275064-1686229200-1686241800@www.corteconstitucional.gob.ec
SUMMARY:Sesión extraordinaria del Pleno Nro. 013-E-2023
DESCRIPTION:Las juezas y jueces que conforman el Pleno de la Corte Constitucional realizarán hoy a partir de las 13h00 la sesión extraordinaria del Pleno Nro. 013-E-2023
URL:https://www.corteconstitucional.gob.ec/event/sesion-extraordinaria-del-pleno-nro-013-e-2023-2/
CATEGORIES:Sesiones del Pleno
END:VEVENT
BEGIN:VEVENT
DTSTART;TZID=America/Bogota:20230608T130000
DTEND;TZID=America/Bogota:20230608T163000
DTSTAMP:20260421T002615
CREATED:20230608T174512Z
LAST-MODIFIED:20230608T174512Z
UID:266396-1686229200-1686241800@www.corteconstitucional.gob.ec
SUMMARY:Sesión extraordinaria del Pleno Nro. 013-E-2023
DESCRIPTION:Las juezas y jueces que conforman el Pleno de la Corte Constitucional realizarán hoy a partir de las 13h00 la sesión extraordinaria del Pleno Nro. 013-E-2023
URL:https://www.corteconstitucional.gob.ec/event/sesion-extraordinaria-del-pleno-nro-013-e-2023/
CATEGORIES:Sesiones del Pleno
END:VEVENT
BEGIN:VEVENT
DTSTART;TZID=America/Bogota:20230614T113000
DTEND;TZID=America/Bogota:20230614T160000
DTSTAMP:20260421T002615
CREATED:20230612T204218Z
LAST-MODIFIED:20230612T204218Z
UID:266439-1686742200-1686758400@www.corteconstitucional.gob.ec
SUMMARY:Sesión ordinaria del Pleno Nro. 018-O-2023
DESCRIPTION:Las juezas y jueces que conforman el Pleno de la Corte Constitucional realizarán la sesión Ordinaria Nro. 018-O-2023\, el 14 de junio del 2023\, a partir de las 11h30. \nAccede al orden del día AQUÍ
URL:https://www.corteconstitucional.gob.ec/event/sesion-ordinaria-del-pleno-nro-018-o-2023/
CATEGORIES:Sesiones del Pleno
END:VEVENT
BEGIN:VEVENT
DTSTART;TZID=America/Bogota:20230614T113000
DTEND;TZID=America/Bogota:20230614T160000
DTSTAMP:20260421T002615
CREATED:20230612T204218Z
LAST-MODIFIED:20230612T204218Z
UID:275065-1686742200-1686758400@www.corteconstitucional.gob.ec
SUMMARY:Sesión ordinaria del Pleno Nro. 018-O-2023
DESCRIPTION:Las juezas y jueces que conforman el Pleno de la Corte Constitucional realizarán la sesión Ordinaria Nro. 018-O-2023\, el 14 de junio del 2023\, a partir de las 11h30. \nAccede al orden del día AQUÍ
URL:https://www.corteconstitucional.gob.ec/event/sesion-ordinaria-del-pleno-nro-018-o-2023-2/
CATEGORIES:Sesiones del Pleno
END:VEVENT
BEGIN:VEVENT
DTSTART;TZID=America/Bogota:20230616T110000
DTEND;TZID=America/Bogota:20230616T163000
DTSTAMP:20260421T002615
CREATED:20230616T154528Z
LAST-MODIFIED:20230616T154528Z
UID:275067-1686913200-1686933000@www.corteconstitucional.gob.ec
SUMMARY:Sesión extraordinaria del Pleno Nro. 014-E-2023
DESCRIPTION:Las juezas y jueces que conforman el Pleno de la Corte Constitucional realizarán la Sesión extraordinaria del Pleno Nro. 014-E-2023. \nConoce el orden del día AQUÍ
URL:https://www.corteconstitucional.gob.ec/event/sesion-extraordinaria-del-pleno-nro-014-e-2023-2/
CATEGORIES:Sesiones del Pleno
END:VEVENT
BEGIN:VEVENT
DTSTART;TZID=America/Bogota:20230616T110000
DTEND;TZID=America/Bogota:20230616T163000
DTSTAMP:20260421T002615
CREATED:20230616T154528Z
LAST-MODIFIED:20230616T154528Z
UID:266464-1686913200-1686933000@www.corteconstitucional.gob.ec
SUMMARY:Sesión extraordinaria del Pleno Nro. 014-E-2023
DESCRIPTION:Las juezas y jueces que conforman el Pleno de la Corte Constitucional realizarán la Sesión extraordinaria del Pleno Nro. 014-E-2023. \nConoce el orden del día AQUÍ
URL:https://www.corteconstitucional.gob.ec/event/sesion-extraordinaria-del-pleno-nro-014-e-2023/
CATEGORIES:Sesiones del Pleno
END:VEVENT
BEGIN:VEVENT
DTSTART;TZID=America/Bogota:20230621T101500
DTEND;TZID=America/Bogota:20230621T230000
DTSTAMP:20260421T002615
CREATED:20230620T003510Z
LAST-MODIFIED:20230620T003510Z
UID:275069-1687342500-1687388400@www.corteconstitucional.gob.ec
SUMMARY:Sesión Ordinaria Administrativa del Pleno de la Corte Constitucional Nro. 020-O-2023
DESCRIPTION:Juezas y jueces que conforman el Pleno de la Corte Constitucional Nro. 020-O-2023 realizarán la Sesión Ordinaria Administrativa del Pleno de la Corte Constitucional Nro. 020-O-2023. \nConoce el orden del día AQUÍ
URL:https://www.corteconstitucional.gob.ec/event/sesion-ordinaria-administrativa-del-pleno-de-la-corte-constitucional-nro-020-o-2023-2/
CATEGORIES:Sesiones del Pleno
END:VEVENT
BEGIN:VEVENT
DTSTART;TZID=America/Bogota:20230621T101500
DTEND;TZID=America/Bogota:20230621T230000
DTSTAMP:20260421T002615
CREATED:20230620T003510Z
LAST-MODIFIED:20230620T003510Z
UID:266497-1687342500-1687388400@www.corteconstitucional.gob.ec
SUMMARY:Sesión Ordinaria Administrativa del Pleno de la Corte Constitucional Nro. 020-O-2023
DESCRIPTION:Juezas y jueces que conforman el Pleno de la Corte Constitucional Nro. 020-O-2023 realizarán la Sesión Ordinaria Administrativa del Pleno de la Corte Constitucional Nro. 020-O-2023. \nConoce el orden del día AQUÍ
URL:https://www.corteconstitucional.gob.ec/event/sesion-ordinaria-administrativa-del-pleno-de-la-corte-constitucional-nro-020-o-2023/
CATEGORIES:Sesiones del Pleno
END:VEVENT
BEGIN:VEVENT
DTSTART;TZID=America/Bogota:20230621T113000
DTEND;TZID=America/Bogota:20230621T163000
DTSTAMP:20260421T002615
CREATED:20230620T003210Z
LAST-MODIFIED:20230620T165721Z
UID:266494-1687347000-1687365000@www.corteconstitucional.gob.ec
SUMMARY:Sesión Ordinaria del Pleno de la Corte Constitucional Nro. 019-O-2023
DESCRIPTION:Juezas y jueces que conforman el Pleno de la Corte Constitucional sesionarán el 21 de junio\, a partir de las 11h30. \nConoce el orden del día AQUÍ
URL:https://www.corteconstitucional.gob.ec/event/sesion-ordinaria-del-pleno-de-la-corte-constitucional-nro-019-o-2023/
CATEGORIES:Sesiones del Pleno
END:VEVENT
BEGIN:VEVENT
DTSTART;TZID=America/Bogota:20230621T113000
DTEND;TZID=America/Bogota:20230621T163000
DTSTAMP:20260421T002615
CREATED:20230620T003210Z
LAST-MODIFIED:20230620T003210Z
UID:275068-1687347000-1687365000@www.corteconstitucional.gob.ec
SUMMARY:Sesión Ordinaria del Pleno de la Corte Constitucional Nro. 019-O-2023
DESCRIPTION:Juezas y jueces que conforman el Pleno de la Corte Constitucional sesionarán el 21 de junio\, a partir de las 11h30. \nConoce el orden del día AQUÍ
URL:https://www.corteconstitucional.gob.ec/event/sesion-ordinaria-del-pleno-de-la-corte-constitucional-nro-019-o-2023-2/
CATEGORIES:Sesiones del Pleno
END:VEVENT
BEGIN:VEVENT
DTSTART;TZID=America/Bogota:20230628T113000
DTEND;TZID=America/Bogota:20230628T170000
DTSTAMP:20260421T002615
CREATED:20230627T183751Z
LAST-MODIFIED:20230627T183751Z
UID:266581-1687951800-1687971600@www.corteconstitucional.gob.ec
SUMMARY:Sesión Ordinaria del Pleno Nro. 021-O-2023
DESCRIPTION:Las juezas y jueces que conforman el Pleno de la Corte Constitucional realizarán la Sesión Ordinaria Nro. 021-O-2023. \nConoce el orden del día AQUÍ
URL:https://www.corteconstitucional.gob.ec/event/sesion-ordinaria-del-pleno-nro-021-o-2023/
CATEGORIES:Sesiones del Pleno
END:VEVENT
BEGIN:VEVENT
DTSTART;TZID=America/Bogota:20230628T113000
DTEND;TZID=America/Bogota:20230628T170000
DTSTAMP:20260421T002615
CREATED:20230627T183751Z
LAST-MODIFIED:20230627T183751Z
UID:275074-1687951800-1687971600@www.corteconstitucional.gob.ec
SUMMARY:Sesión Ordinaria del Pleno Nro. 021-O-2023
DESCRIPTION:Las juezas y jueces que conforman el Pleno de la Corte Constitucional realizarán la Sesión Ordinaria Nro. 021-O-2023. \nConoce el orden del día AQUÍ
URL:https://www.corteconstitucional.gob.ec/event/sesion-ordinaria-del-pleno-nro-021-o-2023-2/
CATEGORIES:Sesiones del Pleno
END:VEVENT
END:VCALENDAR