BEGIN:VCALENDAR
VERSION:2.0
PRODID:-//Corte Constitucional del Ecuador - ECPv6.10.2//NONSGML v1.0//EN
CALSCALE:GREGORIAN
METHOD:PUBLISH
X-WR-CALNAME:Corte Constitucional del Ecuador
X-ORIGINAL-URL:https://www.corteconstitucional.gob.ec
X-WR-CALDESC:Eventos para Corte Constitucional del Ecuador
REFRESH-INTERVAL;VALUE=DURATION:PT1H
X-Robots-Tag:noindex
X-PUBLISHED-TTL:PT1H
BEGIN:VTIMEZONE
TZID:America/Bogota
BEGIN:STANDARD
TZOFFSETFROM:-0500
TZOFFSETTO:-0500
TZNAME:-05
DTSTART:20260101T000000
END:STANDARD
END:VTIMEZONE
BEGIN:VEVENT
DTSTART;TZID=America/Bogota:20260421T100000
DTEND;TZID=America/Bogota:20260421T133000
DTSTAMP:20260419T074927
CREATED:20260416T220911Z
LAST-MODIFIED:20260416T220949Z
UID:279696-1776765600-1776778200@www.corteconstitucional.gob.ec
SUMMARY:Rendición de Cuentas Gestión CC 2025
DESCRIPTION:La Corte Constitucional del Ecuador rinde cuentas. La ciudadanía participa. \nRevisa el informe y el formulario⬇️\nhttps://bit.ly/InformeRDC2025\nhttps://bit.ly/FormularioRDC2025 \nEnvía tus preguntas:\nrendicion.cuentas@cce.gob.ec \n#ProtegemosDerechos
URL:https://www.corteconstitucional.gob.ec/event/rendicion-de-cuentas-gestion-cc-2025/
CATEGORIES:Eventos CC
END:VEVENT
END:VCALENDAR