BEGIN:VCALENDAR
VERSION:2.0
PRODID:-//Corte Constitucional del Ecuador - ECPv6.10.2//NONSGML v1.0//EN
CALSCALE:GREGORIAN
METHOD:PUBLISH
X-WR-CALNAME:Corte Constitucional del Ecuador
X-ORIGINAL-URL:https://www.corteconstitucional.gob.ec
X-WR-CALDESC:Eventos para Corte Constitucional del Ecuador
REFRESH-INTERVAL;VALUE=DURATION:PT1H
X-Robots-Tag:noindex
X-PUBLISHED-TTL:PT1H
BEGIN:VTIMEZONE
TZID:America/Bogota
BEGIN:STANDARD
TZOFFSETFROM:-0500
TZOFFSETTO:-0500
TZNAME:-05
DTSTART:20260101T000000
END:STANDARD
END:VTIMEZONE
BEGIN:VEVENT
DTSTART;TZID=America/Bogota:20260206T100000
DTEND;TZID=America/Bogota:20260206T113000
DTSTAMP:20260419T103343
CREATED:20260205T215446Z
LAST-MODIFIED:20260205T215446Z
UID:279067-1770372000-1770377400@www.corteconstitucional.gob.ec
SUMMARY:Caso 19-22-IN
DESCRIPTION:La jueza sustanciadora Claudia Salgado Levy presidirá la audiencia pública telemática del Caso 19-22-IN. \nConoce más AQUÍ
URL:https://www.corteconstitucional.gob.ec/event/caso-19-22-in/
CATEGORIES:Audiencias Públicas
END:VEVENT
BEGIN:VEVENT
DTSTART;TZID=America/Bogota:20260206T100000
DTEND;TZID=America/Bogota:20260206T170000
DTSTAMP:20260419T103343
CREATED:20260206T141545Z
LAST-MODIFIED:20260206T141545Z
UID:279076-1770372000-1770397200@www.corteconstitucional.gob.ec
SUMMARY:Primera Sala de Selección
DESCRIPTION:Las juezas constitucionales Karla Andrade Quevedo y Alejandra Cárdenas Reyes\, y el juez constitucional Raúl Llasag Fernández\, integrantes de la Primera Sala de Selección\, sesionarán el 06 de febrero\, a partir de las 10h00.
URL:https://www.corteconstitucional.gob.ec/event/primera-sala-de-seleccion-5/
CATEGORIES:Sesiones de Salas de Admisión, Selección y Revisión
END:VEVENT
BEGIN:VEVENT
DTSTART;TZID=America/Bogota:20260206T140000
DTEND;TZID=America/Bogota:20260206T170000
DTSTAMP:20260419T103343
CREATED:20260205T150501Z
LAST-MODIFIED:20260205T150501Z
UID:279059-1770386400-1770397200@www.corteconstitucional.gob.ec
SUMMARY:Primer Tribunal de Sala de Admisión
DESCRIPTION:La jueza constitucional Karla Andrade Quevedo y los jueces constitucionales Jorge Benavides Ordóñez y Jhoel Escudero Soliz\, integrantes del Primer Tribunal de Sala de Admisión\, sesionarán el 06 de febrero\, a partir de las 14h00. \n 
URL:https://www.corteconstitucional.gob.ec/event/primer-tribunal-de-sala-de-admision-17/
CATEGORIES:Sesiones de Salas de Admisión, Selección y Revisión
END:VEVENT
BEGIN:VEVENT
DTSTART;TZID=America/Bogota:20260206T150000
DTEND;TZID=America/Bogota:20260206T163000
DTSTAMP:20260419T103343
CREATED:20260129T145600Z
LAST-MODIFIED:20260129T145600Z
UID:278999-1770390000-1770395400@www.corteconstitucional.gob.ec
SUMMARY:Segundo Tribunal de Sala de Admisión
DESCRIPTION:Los jueces constitucionales Raúl Llasag Fernández y José Luis Terán Suárez\, y la jueza constitucional Claudia Salgado Levy\, integrantes del Segundo Tribunal de Sala de Admisión\, sesionarán el 06 de febrero a partir de las 15h00. \n 
URL:https://www.corteconstitucional.gob.ec/event/segundo-tribunal-de-sala-de-admision-17/
CATEGORIES:Sesiones de Salas de Admisión, Selección y Revisión
END:VEVENT
BEGIN:VEVENT
DTSTART;TZID=America/Bogota:20260206T160000
DTEND;TZID=America/Bogota:20260206T170000
DTSTAMP:20260419T103343
CREATED:20260206T140651Z
LAST-MODIFIED:20260206T140651Z
UID:279069-1770393600-1770397200@www.corteconstitucional.gob.ec
SUMMARY:Tercer Tribunal de Sala de Admisión
DESCRIPTION:Los jueces constitucionales Alí Lozada Prado y Richard Ortíz Ortíz\, y la jueza constitucional Alejandra Cárdenas Reyes\, integrantes del Tercer Tribunal de Sala de Admisión\, sesionarán el 06 de febrero\, a partir de las 16h00. \n 
URL:https://www.corteconstitucional.gob.ec/event/tercer-tribunal-de-sala-de-admision-16/
CATEGORIES:Sesiones de Salas de Admisión, Selección y Revisión
END:VEVENT
END:VCALENDAR