BEGIN:VCALENDAR
VERSION:2.0
PRODID:-//Corte Constitucional del Ecuador - ECPv6.10.2//NONSGML v1.0//EN
CALSCALE:GREGORIAN
METHOD:PUBLISH
X-WR-CALNAME:Corte Constitucional del Ecuador
X-ORIGINAL-URL:https://www.corteconstitucional.gob.ec
X-WR-CALDESC:Eventos para Corte Constitucional del Ecuador
REFRESH-INTERVAL;VALUE=DURATION:PT1H
X-Robots-Tag:noindex
X-PUBLISHED-TTL:PT1H
BEGIN:VTIMEZONE
TZID:America/Bogota
BEGIN:STANDARD
TZOFFSETFROM:-0500
TZOFFSETTO:-0500
TZNAME:-05
DTSTART:20250101T000000
END:STANDARD
END:VTIMEZONE
BEGIN:VEVENT
DTSTART;TZID=America/Bogota:20251117T100000
DTEND;TZID=America/Bogota:20251117T163000
DTSTAMP:20260419T141534
CREATED:20251107T150644Z
LAST-MODIFIED:20251107T150644Z
UID:278374-1763373600-1763397000@www.corteconstitucional.gob.ec
SUMMARY:Audiencia pública telemática del Caso 341-22-EP
DESCRIPTION:El juez sustanciador Raúl Llasag Fernández presidirá la audiencia pública telemática del Caso 341-22-EP. \nConoce más AQUÍ
URL:https://www.corteconstitucional.gob.ec/event/audiencia-publica-telematica-del-caso-341-22-ep/
CATEGORIES:Audiencias Públicas
END:VEVENT
END:VCALENDAR