BEGIN:VCALENDAR
VERSION:2.0
PRODID:-//Corte Constitucional del Ecuador - ECPv6.10.2//NONSGML v1.0//EN
CALSCALE:GREGORIAN
METHOD:PUBLISH
X-WR-CALNAME:Corte Constitucional del Ecuador
X-ORIGINAL-URL:https://www.corteconstitucional.gob.ec
X-WR-CALDESC:Eventos para Corte Constitucional del Ecuador
REFRESH-INTERVAL;VALUE=DURATION:PT1H
X-Robots-Tag:noindex
X-PUBLISHED-TTL:PT1H
BEGIN:VTIMEZONE
TZID:America/Bogota
BEGIN:STANDARD
TZOFFSETFROM:-0500
TZOFFSETTO:-0500
TZNAME:-05
DTSTART:20250101T000000
END:STANDARD
END:VTIMEZONE
BEGIN:VEVENT
DTSTART;TZID=America/Bogota:20251114T083000
DTEND;TZID=America/Bogota:20251114T163000
DTSTAMP:20260419T141632
CREATED:20251111T142708Z
LAST-MODIFIED:20251111T142708Z
UID:278391-1763109000-1763137800@www.corteconstitucional.gob.ec
SUMMARY:Tercera Sala de Revisión (14-11-2025)
DESCRIPTION:Las juezas constitucionales Karla Andrade Quevedo y Claudia Salgado Levy; y el juez constitucional Raúl Llasag Fernández\, integrantes de la Tercera Sala de Revisión sesionarán el 14 de noviembre del 2025\, a partir de las 08h30.
URL:https://www.corteconstitucional.gob.ec/event/tercera-sala-de-revision-14-11-2025/
CATEGORIES:Sesiones de Salas de Admisión, Selección y Revisión
END:VEVENT
BEGIN:VEVENT
DTSTART;TZID=America/Bogota:20251114T110000
DTEND;TZID=America/Bogota:20251114T163000
DTSTAMP:20260419T141632
CREATED:20251106T224148Z
LAST-MODIFIED:20251107T142351Z
UID:278344-1763118000-1763137800@www.corteconstitucional.gob.ec
SUMMARY:Segunda Sala de Selección (14/11/2025)
DESCRIPTION:La jueza constitucional Alejandra Cárdenas Reyes\, junto a los jueces constitucionales Jorge Benavides Ordóñez y José Luis Terán Suárez\, integrantes de la Segunda Sala de Selección\, sesionarán el 14 de noviembre del 2025\, a partir de las 11h00.
URL:https://www.corteconstitucional.gob.ec/event/segunda-sala-de-seleccion-18-09-2025/
CATEGORIES:Sesiones de Salas de Admisión, Selección y Revisión
END:VEVENT
BEGIN:VEVENT
DTSTART;TZID=America/Bogota:20251114T143000
DTEND;TZID=America/Bogota:20251114T170000
DTSTAMP:20260419T141632
CREATED:20251107T002910Z
LAST-MODIFIED:20251107T002910Z
UID:278351-1763130600-1763139600@www.corteconstitucional.gob.ec
SUMMARY:Tercer Tribunal de Sala de Admisión (14-11-2025)
DESCRIPTION:Los jueces constitucionales Alí Lozada Prado\, Jorge Benavides Ordóñez y Raúl Llasag Fernández\, integrantes del Tercer Tribunal de Sala de Admisión\, sesionarán el 14 de noviembre del 2025\, a partir de las 14h30.
URL:https://www.corteconstitucional.gob.ec/event/tercer-tribunal-de-sala-de-admision-14-11-2025/
CATEGORIES:Sesiones de Salas de Admisión, Selección y Revisión
END:VEVENT
END:VCALENDAR