BEGIN:VCALENDAR
VERSION:2.0
PRODID:-//Corte Constitucional del Ecuador - ECPv6.10.2//NONSGML v1.0//EN
CALSCALE:GREGORIAN
METHOD:PUBLISH
X-WR-CALNAME:Corte Constitucional del Ecuador
X-ORIGINAL-URL:https://www.corteconstitucional.gob.ec
X-WR-CALDESC:Eventos para Corte Constitucional del Ecuador
REFRESH-INTERVAL;VALUE=DURATION:PT1H
X-Robots-Tag:noindex
X-PUBLISHED-TTL:PT1H
BEGIN:VTIMEZONE
TZID:America/Bogota
BEGIN:STANDARD
TZOFFSETFROM:-0500
TZOFFSETTO:-0500
TZNAME:-05
DTSTART:20250101T000000
END:STANDARD
END:VTIMEZONE
BEGIN:VEVENT
DTSTART;TZID=America/Bogota:20251023T100000
DTEND;TZID=America/Bogota:20251023T113000
DTSTAMP:20260419T153002
CREATED:20251022T211219Z
LAST-MODIFIED:20251022T211219Z
UID:278248-1761213600-1761219000@www.corteconstitucional.gob.ec
SUMMARY:Sesión administrativa ordinaria 043-O-2025
DESCRIPTION:Las y los jueces que conforman el Pleno de la Corte Constitucional realizarán la Sesión administrativa ordinaria 043-O-2025\, el 23 de octubre a partir de las 10h00. \nConoce el orden del día AQUÍ
URL:https://www.corteconstitucional.gob.ec/event/sesion-administrativa-ordinaria-043-o-2025/
CATEGORIES:Sesiones del Pleno
END:VEVENT
BEGIN:VEVENT
DTSTART;TZID=America/Bogota:20251023T103000
DTEND;TZID=America/Bogota:20251023T170000
DTSTAMP:20260419T153002
CREATED:20251022T212216Z
LAST-MODIFIED:20251022T212216Z
UID:278255-1761215400-1761238800@www.corteconstitucional.gob.ec
SUMMARY:Sesión jurisdiccional ordinaria 044-O-2025
DESCRIPTION:Las y los jueces constitucionales que conforman el Pleno de la Corte Constitucional realizarán la Sesión jurisdiccional ordinaria 044-O-2025\, el 23 de octubre del 2025\, a partir de las 10h30. \nConoce el orden del día AQUÍ
URL:https://www.corteconstitucional.gob.ec/event/sesion-jurisdiccional-ordinaria-044-o-2025/
CATEGORIES:Sesiones del Pleno
END:VEVENT
END:VCALENDAR