BEGIN:VCALENDAR
VERSION:2.0
PRODID:-//Corte Constitucional del Ecuador - ECPv6.10.2//NONSGML v1.0//EN
CALSCALE:GREGORIAN
METHOD:PUBLISH
X-WR-CALNAME:Corte Constitucional del Ecuador
X-ORIGINAL-URL:https://www.corteconstitucional.gob.ec
X-WR-CALDESC:Eventos para Corte Constitucional del Ecuador
REFRESH-INTERVAL;VALUE=DURATION:PT1H
X-Robots-Tag:noindex
X-PUBLISHED-TTL:PT1H
BEGIN:VTIMEZONE
TZID:America/Bogota
BEGIN:STANDARD
TZOFFSETFROM:-0500
TZOFFSETTO:-0500
TZNAME:-05
DTSTART:20250101T000000
END:STANDARD
END:VTIMEZONE
BEGIN:VEVENT
DTSTART;TZID=America/Bogota:20251020T110000
DTEND;TZID=America/Bogota:20251020T130000
DTSTAMP:20260419T152936
CREATED:20251020T003331Z
LAST-MODIFIED:20251020T003331Z
UID:278230-1760958000-1760965200@www.corteconstitucional.gob.ec
SUMMARY:Audiencia pública telemática del Caso 1564-22-EP
DESCRIPTION:El juez sustanciador Jorge Benavides Ordóñez presidirá la audiencia pública telemática del Caso 1564-22-EP. \nConoce más AQUÍ
URL:https://www.corteconstitucional.gob.ec/event/audiencia-publica-telematica-del-caso-1564-22-ep/
CATEGORIES:Audiencias Públicas
END:VEVENT
END:VCALENDAR