BEGIN:VCALENDAR
VERSION:2.0
PRODID:-//Corte Constitucional del Ecuador - ECPv6.10.2//NONSGML v1.0//EN
CALSCALE:GREGORIAN
METHOD:PUBLISH
X-WR-CALNAME:Corte Constitucional del Ecuador
X-ORIGINAL-URL:https://www.corteconstitucional.gob.ec
X-WR-CALDESC:Eventos para Corte Constitucional del Ecuador
REFRESH-INTERVAL;VALUE=DURATION:PT1H
X-Robots-Tag:noindex
X-PUBLISHED-TTL:PT1H
BEGIN:VTIMEZONE
TZID:America/Bogota
BEGIN:STANDARD
TZOFFSETFROM:-0500
TZOFFSETTO:-0500
TZNAME:-05
DTSTART:20250101T000000
END:STANDARD
END:VTIMEZONE
BEGIN:VEVENT
DTSTART;TZID=America/Bogota:20251017T123000
DTEND;TZID=America/Bogota:20251017T170000
DTSTAMP:20260419T152838
CREATED:20251015T170907Z
LAST-MODIFIED:20251020T205836Z
UID:278211-1760704200-1760720400@www.corteconstitucional.gob.ec
SUMMARY:Segundo Tribunal de Sala de Admisión
DESCRIPTION:Los jueces constitucionales Jhoel Escudero Soliz y Richard Ortiz Ortiz; y la jueza constitucional Claudia Salgado Levy\, integrantes del Segundo Tribunal de Sala de Admisión\, sesionarán a partir de las 12h30. \n 
URL:https://www.corteconstitucional.gob.ec/event/segundo-tribunal-de-sala-de-admision-13/
CATEGORIES:Sesiones de Salas de Admisión, Selección y Revisión
END:VEVENT
BEGIN:VEVENT
DTSTART;TZID=America/Bogota:20251017T140000
DTEND;TZID=America/Bogota:20251017T153000
DTSTAMP:20260419T152838
CREATED:20251014T212419Z
LAST-MODIFIED:20251020T211908Z
UID:278200-1760709600-1760715000@www.corteconstitucional.gob.ec
SUMMARY:Primer Tribunal de Sala de Admisión (17/10/2025)
DESCRIPTION:Las juezas constitucionales Karla Andrade Quevedo y Alejandra Cárdenas Reyes; y\, el juez constitucional Raúl Llasag Fernández integrantes de Primer Tribunal de Sala de Admisión sesionarán el 17 de octubre del 2025\, a partir de las 14h00.
URL:https://www.corteconstitucional.gob.ec/event/primer-tribunal-de-sala-de-admision-14/
CATEGORIES:Sesiones de Salas de Admisión, Selección y Revisión
END:VEVENT
BEGIN:VEVENT
DTSTART;TZID=America/Bogota:20251017T150000
DTEND;TZID=America/Bogota:20251017T163000
DTSTAMP:20260419T152838
CREATED:20251015T165703Z
LAST-MODIFIED:20251015T165703Z
UID:278204-1760713200-1760718600@www.corteconstitucional.gob.ec
SUMMARY:Tercer Tribunal de la Sala de Admisión
DESCRIPTION:Los jueces constitucionales Alí Lozada Prado\, Jorge Benavides Ordóñez y José Luis Terán Suárez\, integrantes del Tercer Tribunal de la Sala de Admisión\, sesionarán el 17 de octubre del 2025\, a partir de las 15h00.
URL:https://www.corteconstitucional.gob.ec/event/tercer-tribunal-de-la-sala-de-admision-4/
CATEGORIES:Sesiones de Salas de Admisión, Selección y Revisión
END:VEVENT
END:VCALENDAR