BEGIN:VCALENDAR
VERSION:2.0
PRODID:-//Corte Constitucional del Ecuador - ECPv6.10.2//NONSGML v1.0//EN
CALSCALE:GREGORIAN
METHOD:PUBLISH
X-ORIGINAL-URL:https://www.corteconstitucional.gob.ec
X-WR-CALDESC:Eventos para Corte Constitucional del Ecuador
REFRESH-INTERVAL;VALUE=DURATION:PT1H
X-Robots-Tag:noindex
X-PUBLISHED-TTL:PT1H
BEGIN:VTIMEZONE
TZID:America/Bogota
BEGIN:STANDARD
TZOFFSETFROM:-0500
TZOFFSETTO:-0500
TZNAME:-05
DTSTART:20250101T000000
END:STANDARD
END:VTIMEZONE
BEGIN:VEVENT
DTSTART;TZID=America/Bogota:20250919T083000
DTEND;TZID=America/Bogota:20250919T213000
DTSTAMP:20260419T170237
CREATED:20250920T010912Z
LAST-MODIFIED:20250920T231632Z
UID:278037-1758270600-1758317400@www.corteconstitucional.gob.ec
SUMMARY:Primer Tribunal de Sala de Admisión (19/09/2025)
DESCRIPTION:La jueza constitucional Alejandra Cárdenas Reyes\, junto a los jueces constitucionales Raúl Llasag Fernández y Richard Ortiz Ortiz\, integrantes del Primer Tribunal de Sala de Admisión\, sesionarán el 19 de septiembre del 2025\, a partir de las 20h30.
URL:https://www.corteconstitucional.gob.ec/event/primer-tribunal-de-sala-de-admision-19-09-2025/
CATEGORIES:Sesiones de Salas de Admisión, Selección y Revisión
END:VEVENT
BEGIN:VEVENT
DTSTART;TZID=America/Bogota:20250919T203000
DTEND;TZID=America/Bogota:20250919T213000
DTSTAMP:20260419T170237
CREATED:20250920T005008Z
LAST-MODIFIED:20250920T225957Z
UID:278028-1758313800-1758317400@www.corteconstitucional.gob.ec
SUMMARY:Tercer Tribunal de Sala de Admisión (19/09/2025)
DESCRIPTION:Los jueces constitucionales Alí Lozada Prado\, Jorge Benavides Ordóñez y José Luis Terán Suárez\, integrantes del Tercer Tribunal de Sala de Admisión\, sesionarán el 19 de septiembre del 2025\, a partir de las 20h30.
URL:https://www.corteconstitucional.gob.ec/event/tercer-tribunal-de-sala-de-admision-14/
CATEGORIES:Sesiones de Salas de Admisión, Selección y Revisión
END:VEVENT
BEGIN:VEVENT
DTSTART;TZID=America/Bogota:20250919T205000
DTEND;TZID=America/Bogota:20250919T215000
DTSTAMP:20260419T170237
CREATED:20250920T233032Z
LAST-MODIFIED:20250920T233032Z
UID:278047-1758315000-1758318600@www.corteconstitucional.gob.ec
SUMMARY:Segundo Tribunal de Sala de Admisión (19/09/2025)
DESCRIPTION:La jueza constitucional Claudia Salgado Levy\, junto a los jueces constitucionales Jhoel Escudero Soliz y Richard Ortiz Ortiz\, integrantes del Segundo Tribunal de Sala de Admisión\, sesionarán el 19 de septiembre del 2025\, a partir de las 20h50.
URL:https://www.corteconstitucional.gob.ec/event/segundo-tribunal-de-sala-de-admision-19-09-2025/
CATEGORIES:Sesiones de Salas de Admisión, Selección y Revisión
END:VEVENT
END:VCALENDAR