BEGIN:VCALENDAR
VERSION:2.0
PRODID:-//Corte Constitucional del Ecuador - ECPv6.10.2//NONSGML v1.0//EN
CALSCALE:GREGORIAN
METHOD:PUBLISH
X-WR-CALNAME:Corte Constitucional del Ecuador
X-ORIGINAL-URL:https://www.corteconstitucional.gob.ec
X-WR-CALDESC:Eventos para Corte Constitucional del Ecuador
REFRESH-INTERVAL;VALUE=DURATION:PT1H
X-Robots-Tag:noindex
X-PUBLISHED-TTL:PT1H
BEGIN:VTIMEZONE
TZID:America/Bogota
BEGIN:STANDARD
TZOFFSETFROM:-0500
TZOFFSETTO:-0500
TZNAME:-05
DTSTART:20250101T000000
END:STANDARD
END:VTIMEZONE
BEGIN:VEVENT
DTSTART;TZID=America/Bogota:20250813T100000
DTEND;TZID=America/Bogota:20250813T110000
DTSTAMP:20260419T181218
CREATED:20250812T225058Z
LAST-MODIFIED:20250812T225058Z
UID:277605-1755079200-1755082800@www.corteconstitucional.gob.ec
SUMMARY:Sesión administrativa extraordinaria 017-E-2025
DESCRIPTION:
URL:https://www.corteconstitucional.gob.ec/event/sesion-administrativa-extraordinaria-017-e-2025/
CATEGORIES:Sesiones del Pleno
END:VEVENT
BEGIN:VEVENT
DTSTART;TZID=America/Bogota:20250813T100000
DTEND;TZID=America/Bogota:20250813T123000
DTSTAMP:20260419T181218
CREATED:20250808T202131Z
LAST-MODIFIED:20250808T202131Z
UID:277563-1755079200-1755088200@www.corteconstitucional.gob.ec
SUMMARY:Audiencia pública telemática del Caso 348-22-EP
DESCRIPTION:La jueza sustanciadora Karla Andrade Quevedo presidirá la audiencia pública telemática del Caso 348-22-EP. Conoce más AQUÍ: https://shorturl.at/GLvJv
URL:https://www.corteconstitucional.gob.ec/event/audiencia-publica-telematica-del-caso-348-22-ep/
CATEGORIES:Audiencias Públicas
END:VEVENT
END:VCALENDAR