BEGIN:VCALENDAR
VERSION:2.0
PRODID:-//Corte Constitucional del Ecuador - ECPv6.10.2//NONSGML v1.0//EN
CALSCALE:GREGORIAN
METHOD:PUBLISH
X-ORIGINAL-URL:https://www.corteconstitucional.gob.ec
X-WR-CALDESC:Eventos para Corte Constitucional del Ecuador
REFRESH-INTERVAL;VALUE=DURATION:PT1H
X-Robots-Tag:noindex
X-PUBLISHED-TTL:PT1H
BEGIN:VTIMEZONE
TZID:America/Bogota
BEGIN:STANDARD
TZOFFSETFROM:-0500
TZOFFSETTO:-0500
TZNAME:-05
DTSTART:20240101T000000
END:STANDARD
END:VTIMEZONE
BEGIN:VEVENT
DTSTART;TZID=America/Bogota:20240903T100000
DTEND;TZID=America/Bogota:20240903T160000
DTSTAMP:20260420T090919
CREATED:20240903T140925Z
LAST-MODIFIED:20240903T140925Z
UID:275250-1725357600-1725379200@www.corteconstitucional.gob.ec
SUMMARY:Sesión jurisdiccional extraordinaria  015-E-2024
DESCRIPTION:Las juezas y jueces que conforman el Pleno de la Corte Constitucional del Ecuador realizarán la Sesión jurisdiccional extraordinaria 015-E-2024. \nConoce más en el orden del día AQUÍ
URL:https://www.corteconstitucional.gob.ec/event/sesion-jurisdiccional-extraordinaria-015-e-2024-2/
CATEGORIES:Sesiones del Pleno
END:VEVENT
BEGIN:VEVENT
DTSTART;TZID=America/Bogota:20240903T100000
DTEND;TZID=America/Bogota:20240903T160000
DTSTAMP:20260420T090919
CREATED:20240903T140925Z
LAST-MODIFIED:20240903T140925Z
UID:271986-1725357600-1725379200@www.corteconstitucional.gob.ec
SUMMARY:Sesión jurisdiccional extraordinaria  015-E-2024
DESCRIPTION:Las juezas y jueces que conforman el Pleno de la Corte Constitucional del Ecuador realizarán la Sesión jurisdiccional extraordinaria 015-E-2024. \nConoce más en el orden del día AQUÍ
URL:https://www.corteconstitucional.gob.ec/event/sesion-jurisdiccional-extraordinaria-015-e-2024/
CATEGORIES:Sesiones del Pleno
END:VEVENT
BEGIN:VEVENT
DTSTART;TZID=America/Bogota:20240903T100000
DTEND;TZID=America/Bogota:20240903T170000
DTSTAMP:20260420T090919
CREATED:20240828T212728Z
LAST-MODIFIED:20240828T212728Z
UID:275247-1725357600-1725382800@www.corteconstitucional.gob.ec
SUMMARY:Audiencia Pública Telemática del Caso 2-22-EI.
DESCRIPTION:La jueza sustanciadora Teresa Nuques Martínez convoca a la Audiencia Pública Telemática del Caso 2-22-EI.  \nConoce más en la convocatoria AQUÍ https://tinyurl.com/2a3kd3qp
URL:https://www.corteconstitucional.gob.ec/event/audiencia-publica-telematica-del-caso-2-22-ei-2/
CATEGORIES:Audiencias Públicas
END:VEVENT
BEGIN:VEVENT
DTSTART;TZID=America/Bogota:20240903T100000
DTEND;TZID=America/Bogota:20240903T170000
DTSTAMP:20260420T090919
CREATED:20240828T212728Z
LAST-MODIFIED:20240828T212728Z
UID:271943-1725357600-1725382800@www.corteconstitucional.gob.ec
SUMMARY:Audiencia Pública Telemática del Caso 2-22-EI.
DESCRIPTION:La jueza sustanciadora Teresa Nuques Martínez convoca a la Audiencia Pública Telemática del Caso 2-22-EI.  \nConoce más en la convocatoria AQUÍ https://tinyurl.com/2a3kd3qp
URL:https://www.corteconstitucional.gob.ec/event/audiencia-publica-telematica-del-caso-2-22-ei/
CATEGORIES:Audiencias Públicas
END:VEVENT
BEGIN:VEVENT
DTSTART;TZID=America/Bogota:20240903T113000
DTEND;TZID=America/Bogota:20240903T143000
DTSTAMP:20260420T090919
CREATED:20240828T212635Z
LAST-MODIFIED:20240828T212635Z
UID:275246-1725363000-1725373800@www.corteconstitucional.gob.ec
SUMMARY:Audiencia Pública de Pleno de la Corte Constitucional del Caso 11-22- EI
DESCRIPTION:La jueza sustanciadora Daniela Salazar Marín convoca a la Audiencia Pública Telemática del Caso 11-22-EI. \n\nConoce más en la convocatoria AQUÍ: https://tinyurl.com/23nzgscw
URL:https://www.corteconstitucional.gob.ec/event/audiencia-publica-de-pleno-de-la-corte-constitucional-del-caso-11-22-ei-2/
CATEGORIES:Audiencias Públicas
END:VEVENT
BEGIN:VEVENT
DTSTART;TZID=America/Bogota:20240903T113000
DTEND;TZID=America/Bogota:20240903T143000
DTSTAMP:20260420T090919
CREATED:20240828T212635Z
LAST-MODIFIED:20240828T212635Z
UID:271941-1725363000-1725373800@www.corteconstitucional.gob.ec
SUMMARY:Audiencia Pública de Pleno de la Corte Constitucional del Caso 11-22- EI
DESCRIPTION:La jueza sustanciadora Daniela Salazar Marín convoca a la Audiencia Pública Telemática del Caso 11-22-EI. \n\nConoce más en la convocatoria AQUÍ: https://tinyurl.com/23nzgscw
URL:https://www.corteconstitucional.gob.ec/event/audiencia-publica-de-pleno-de-la-corte-constitucional-del-caso-11-22-ei/
CATEGORIES:Audiencias Públicas
END:VEVENT
BEGIN:VEVENT
DTSTART;TZID=America/Bogota:20240903T143000
DTEND;TZID=America/Bogota:20240903T170000
DTSTAMP:20260420T090919
CREATED:20240820T172615Z
LAST-MODIFIED:20240820T172615Z
UID:275236-1725373800-1725382800@www.corteconstitucional.gob.ec
SUMMARY:Audiencia Pública del Pleno - Caso 5-22-EI
DESCRIPTION:#AudienciaPúblicaCC | La jueza sustanciador Karla Andrade Quevedo convoca a las partes procesales a la Audiencia Pública Telemática del Caso 5-22-EI. \nConoce más en la convocatoria\, AQUÍ
URL:https://www.corteconstitucional.gob.ec/event/audiencia-publica-del-pleno-caso-5-22-ei-2/
CATEGORIES:Audiencias Públicas
END:VEVENT
BEGIN:VEVENT
DTSTART;TZID=America/Bogota:20240903T143000
DTEND;TZID=America/Bogota:20240903T170000
DTSTAMP:20260420T090919
CREATED:20240820T172615Z
LAST-MODIFIED:20240829T154408Z
UID:271810-1725373800-1725382800@www.corteconstitucional.gob.ec
SUMMARY:Audiencia Pública del Pleno - Caso 5-22-EI
DESCRIPTION:#AudienciaPúblicaCC | La jueza sustanciador Karla Andrade Quevedo convoca a las partes procesales a la Audiencia Pública Telemática del Caso 5-22-EI. \nConoce más en la convocatoria\, AQUÍ
URL:https://www.corteconstitucional.gob.ec/event/audiencia-publica-del-pleno-caso-5-22-ei/
CATEGORIES:Audiencias Públicas
END:VEVENT
END:VCALENDAR