BEGIN:VCALENDAR
VERSION:2.0
PRODID:-//Corte Constitucional del Ecuador - ECPv6.10.2//NONSGML v1.0//EN
CALSCALE:GREGORIAN
METHOD:PUBLISH
X-WR-CALNAME:Corte Constitucional del Ecuador
X-ORIGINAL-URL:https://www.corteconstitucional.gob.ec
X-WR-CALDESC:Eventos para Corte Constitucional del Ecuador
REFRESH-INTERVAL;VALUE=DURATION:PT1H
X-Robots-Tag:noindex
X-PUBLISHED-TTL:PT1H
BEGIN:VTIMEZONE
TZID:America/Bogota
BEGIN:STANDARD
TZOFFSETFROM:-0500
TZOFFSETTO:-0500
TZNAME:-05
DTSTART:20240101T000000
END:STANDARD
END:VTIMEZONE
BEGIN:VEVENT
DTSTART;TZID=America/Bogota:20240626T100000
DTEND;TZID=America/Bogota:20240626T140000
DTSTAMP:20260420T131607
CREATED:20240613T215847Z
LAST-MODIFIED:20240613T215847Z
UID:271161-1719396000-1719410400@www.corteconstitucional.gob.ec
SUMMARY:Audiencia Pública telemática del caso 2731-23-EP
DESCRIPTION:#AudienciaPúblicaCC | El juez sustanciador Enrique Herrería Bonnet convoca a las partes procesales y a los amicus curiae a la audiencia pública telemática del caso 2731-23-EP.\n\n\n \n\n\nConoce más en la convocatoria⬇️\n\n\nhttps://tinyurl.com/28bh6bmd
URL:https://www.corteconstitucional.gob.ec/event/audiencia-publica-telematica-del-caso-2731-23-ep/
CATEGORIES:Audiencias Públicas
END:VEVENT
BEGIN:VEVENT
DTSTART;TZID=America/Bogota:20240626T100000
DTEND;TZID=America/Bogota:20240626T140000
DTSTAMP:20260420T131607
CREATED:20240613T215847Z
LAST-MODIFIED:20240613T215847Z
UID:275218-1719396000-1719410400@www.corteconstitucional.gob.ec
SUMMARY:Audiencia Pública telemática del caso 2731-23-EP
DESCRIPTION:#AudienciaPúblicaCC | El juez sustanciador Enrique Herrería Bonnet convoca a las partes procesales y a los amicus curiae a la audiencia pública telemática del caso 2731-23-EP.\n\n\n \n\n\nConoce más en la convocatoria⬇️\n\n\nhttps://tinyurl.com/28bh6bmd
URL:https://www.corteconstitucional.gob.ec/event/audiencia-publica-telematica-del-caso-2731-23-ep-2/
CATEGORIES:Audiencias Públicas
END:VEVENT
END:VCALENDAR