BEGIN:VCALENDAR
VERSION:2.0
PRODID:-//Corte Constitucional del Ecuador - ECPv6.10.2//NONSGML v1.0//EN
CALSCALE:GREGORIAN
METHOD:PUBLISH
X-WR-CALNAME:Corte Constitucional del Ecuador
X-ORIGINAL-URL:https://www.corteconstitucional.gob.ec
X-WR-CALDESC:Eventos para Corte Constitucional del Ecuador
REFRESH-INTERVAL;VALUE=DURATION:PT1H
X-Robots-Tag:noindex
X-PUBLISHED-TTL:PT1H
BEGIN:VTIMEZONE
TZID:America/Bogota
BEGIN:STANDARD
TZOFFSETFROM:-0500
TZOFFSETTO:-0500
TZNAME:-05
DTSTART:20240101T000000
END:STANDARD
END:VTIMEZONE
BEGIN:VEVENT
DTSTART;TZID=America/Bogota:20240624T090000
DTEND;TZID=America/Bogota:20240624T103000
DTSTAMP:20260420T131050
CREATED:20240624T212022Z
LAST-MODIFIED:20240624T212022Z
UID:271227-1719219600-1719225000@www.corteconstitucional.gob.ec
SUMMARY:Audiencia pública telemática del Pleno de la Corte Constitucional correspondiente al caso 7-20-EI.
DESCRIPTION:El juez sustanciador Jhoel Escudero Soliz presidirá la audiencia pública telemática del Pleno de la Corte Constitucional correspondiente al caso 7-20-EI.  \nConoce más en la convocatoria AQUÍ  \n#AudienciaPúblicaCC
URL:https://www.corteconstitucional.gob.ec/event/audiencia-publica-telematica-del-pleno-de-la-corte-constitucional-correspondiente-al-caso-7-20-ei/
CATEGORIES:Audiencias Públicas
END:VEVENT
BEGIN:VEVENT
DTSTART;TZID=America/Bogota:20240624T090000
DTEND;TZID=America/Bogota:20240624T103000
DTSTAMP:20260420T131050
CREATED:20240624T212022Z
LAST-MODIFIED:20240624T212022Z
UID:275223-1719219600-1719225000@www.corteconstitucional.gob.ec
SUMMARY:Audiencia pública telemática del Pleno de la Corte Constitucional correspondiente al caso 7-20-EI.
DESCRIPTION:El juez sustanciador Jhoel Escudero Soliz presidirá la audiencia pública telemática del Pleno de la Corte Constitucional correspondiente al caso 7-20-EI.  \nConoce más en la convocatoria AQUÍ  \n#AudienciaPúblicaCC
URL:https://www.corteconstitucional.gob.ec/event/audiencia-publica-telematica-del-pleno-de-la-corte-constitucional-correspondiente-al-caso-7-20-ei-2/
CATEGORIES:Audiencias Públicas
END:VEVENT
END:VCALENDAR