BEGIN:VCALENDAR
VERSION:2.0
PRODID:-//Corte Constitucional del Ecuador - ECPv6.10.2//NONSGML v1.0//EN
CALSCALE:GREGORIAN
METHOD:PUBLISH
X-ORIGINAL-URL:https://www.corteconstitucional.gob.ec
X-WR-CALDESC:Eventos para Corte Constitucional del Ecuador
REFRESH-INTERVAL;VALUE=DURATION:PT1H
X-Robots-Tag:noindex
X-PUBLISHED-TTL:PT1H
BEGIN:VTIMEZONE
TZID:America/Bogota
BEGIN:STANDARD
TZOFFSETFROM:-0500
TZOFFSETTO:-0500
TZNAME:-05
DTSTART:20240101T000000
END:STANDARD
END:VTIMEZONE
BEGIN:VEVENT
DTSTART;TZID=America/Bogota:20240611T113000
DTEND;TZID=America/Bogota:20240611T123000
DTSTAMP:20260420T131246
CREATED:20240611T161637Z
LAST-MODIFIED:20240611T162703Z
UID:271107-1718105400-1718109000@www.corteconstitucional.gob.ec
SUMMARY:Sesión jurisdiccional extraordinaria Nro. 011-E-2024
DESCRIPTION:Las juezas y jueces que conforman el Pleno de la Corte Constitucional realizarán la Sesión jurisdiccional extraordinaria Nro. 011-E-2024. \nConoce el orden del día AQUÍ
URL:https://www.corteconstitucional.gob.ec/event/sesion-jurisdiccional-extraordinaria-nro-011-e-2024/
CATEGORIES:Sesiones del Pleno
END:VEVENT
BEGIN:VEVENT
DTSTART;TZID=America/Bogota:20240611T113000
DTEND;TZID=America/Bogota:20240611T123000
DTSTAMP:20260420T131246
CREATED:20240611T161637Z
LAST-MODIFIED:20240611T161637Z
UID:275213-1718105400-1718109000@www.corteconstitucional.gob.ec
SUMMARY:Sesión jurisdiccional extraordinaria Nro. 011-E-2024
DESCRIPTION:Las juezas y jueces que conforman el Pleno de la Corte Constitucional realizarán la Sesión jurisdiccional extraordinaria Nro. 011-E-2024. \nConoce el orden del día AQUÍ
URL:https://www.corteconstitucional.gob.ec/event/sesion-jurisdiccional-extraordinaria-nro-011-e-2024-2/
CATEGORIES:Sesiones del Pleno
END:VEVENT
BEGIN:VEVENT
DTSTART;TZID=America/Bogota:20240611T113000
DTEND;TZID=America/Bogota:20240611T133000
DTSTAMP:20260420T131246
CREATED:20240611T175050Z
LAST-MODIFIED:20240611T175050Z
UID:275214-1718105400-1718112600@www.corteconstitucional.gob.ec
SUMMARY:Audiencia Pública telemática Caso Nro. 4-20-EI
DESCRIPTION:El juez sustanciador Richard Ortiz Ortiz presidirá la audiencia pública telemática del Pleno de la Corte Constitucional correspondiente al caso 4-20-EI.
URL:https://www.corteconstitucional.gob.ec/event/audiencia-publica-telematica-caso-nro-4-20-ei-2/
CATEGORIES:Audiencias Públicas
END:VEVENT
BEGIN:VEVENT
DTSTART;TZID=America/Bogota:20240611T113000
DTEND;TZID=America/Bogota:20240611T133000
DTSTAMP:20260420T131246
CREATED:20240611T175050Z
LAST-MODIFIED:20240611T175050Z
UID:271111-1718105400-1718112600@www.corteconstitucional.gob.ec
SUMMARY:Audiencia Pública telemática Caso Nro. 4-20-EI
DESCRIPTION:El juez sustanciador Richard Ortiz Ortiz presidirá la audiencia pública telemática del Pleno de la Corte Constitucional correspondiente al caso 4-20-EI.
URL:https://www.corteconstitucional.gob.ec/event/audiencia-publica-telematica-caso-nro-4-20-ei/
CATEGORIES:Audiencias Públicas
END:VEVENT
BEGIN:VEVENT
DTSTART;TZID=America/Bogota:20240611T150000
DTEND;TZID=America/Bogota:20240611T160000
DTSTAMP:20260420T131246
CREATED:20240611T180030Z
LAST-MODIFIED:20240611T180030Z
UID:271119-1718118000-1718121600@www.corteconstitucional.gob.ec
SUMMARY:Audiencia pública telemática del Caso 11-22-AN
DESCRIPTION:La jueza sustanciadora Daniela Salazar Marín convoca a las partes procesales a la audiencia pública telemática del caso 11-22-AN.
URL:https://www.corteconstitucional.gob.ec/event/audiencia-publica-telematica-del-caso-11-22-an/
CATEGORIES:Audiencias Públicas
END:VEVENT
BEGIN:VEVENT
DTSTART;TZID=America/Bogota:20240611T150000
DTEND;TZID=America/Bogota:20240611T160000
DTSTAMP:20260420T131246
CREATED:20240611T180030Z
LAST-MODIFIED:20240611T180030Z
UID:275215-1718118000-1718121600@www.corteconstitucional.gob.ec
SUMMARY:Audiencia pública telemática del Caso 11-22-AN
DESCRIPTION:La jueza sustanciadora Daniela Salazar Marín convoca a las partes procesales a la audiencia pública telemática del caso 11-22-AN.
URL:https://www.corteconstitucional.gob.ec/event/audiencia-publica-telematica-del-caso-11-22-an-2/
CATEGORIES:Audiencias Públicas
END:VEVENT
END:VCALENDAR