BEGIN:VCALENDAR
VERSION:2.0
PRODID:-//Corte Constitucional del Ecuador - ECPv6.10.2//NONSGML v1.0//EN
CALSCALE:GREGORIAN
METHOD:PUBLISH
X-WR-CALNAME:Corte Constitucional del Ecuador
X-ORIGINAL-URL:https://www.corteconstitucional.gob.ec
X-WR-CALDESC:Eventos para Corte Constitucional del Ecuador
REFRESH-INTERVAL;VALUE=DURATION:PT1H
X-Robots-Tag:noindex
X-PUBLISHED-TTL:PT1H
BEGIN:VTIMEZONE
TZID:America/Bogota
BEGIN:STANDARD
TZOFFSETFROM:-0500
TZOFFSETTO:-0500
TZNAME:-05
DTSTART:20240101T000000
END:STANDARD
END:VTIMEZONE
BEGIN:VEVENT
DTSTART;TZID=America/Bogota:20240610T100000
DTEND;TZID=America/Bogota:20240610T110000
DTSTAMP:20260420T131013
CREATED:20240606T192853Z
LAST-MODIFIED:20240606T192853Z
UID:275211-1718013600-1718017200@www.corteconstitucional.gob.ec
SUMMARY:Audiencia pública telemática del caso 51-22-AN.
DESCRIPTION:La jueza sustanciadora Karla Andrade Quevedo convoca a las partes procesales a la audiencia pública telemática del caso 51-22-AN.  \nConoce más AQUÍ: https://tinyurl.com/24kpck25
URL:https://www.corteconstitucional.gob.ec/event/audiencia-publica-telematica-del-caso-51-22-an-2/
CATEGORIES:Audiencias Públicas
END:VEVENT
BEGIN:VEVENT
DTSTART;TZID=America/Bogota:20240610T100000
DTEND;TZID=America/Bogota:20240610T110000
DTSTAMP:20260420T131013
CREATED:20240606T192853Z
LAST-MODIFIED:20240606T192853Z
UID:271030-1718013600-1718017200@www.corteconstitucional.gob.ec
SUMMARY:Audiencia pública telemática del caso 51-22-AN.
DESCRIPTION:La jueza sustanciadora Karla Andrade Quevedo convoca a las partes procesales a la audiencia pública telemática del caso 51-22-AN.  \nConoce más AQUÍ: https://tinyurl.com/24kpck25
URL:https://www.corteconstitucional.gob.ec/event/audiencia-publica-telematica-del-caso-51-22-an/
CATEGORIES:Audiencias Públicas
END:VEVENT
BEGIN:VEVENT
DTSTART;TZID=America/Bogota:20240610T103000
DTEND;TZID=America/Bogota:20240610T170000
DTSTAMP:20260420T131013
CREATED:20240606T201812Z
LAST-MODIFIED:20240606T201812Z
UID:275212-1718015400-1718038800@www.corteconstitucional.gob.ec
SUMMARY:Audiencia telemática reservada del caso 2904-22-EP.
DESCRIPTION:#AudienciaCC | El juez sustanciador Richard Ortiz Ortiz presidirá la audiencia telemática reservada del caso 2904-22-EP.
URL:https://www.corteconstitucional.gob.ec/event/audiencia-telematica-reservada-del-caso-2904-22-ep-2/
CATEGORIES:Audiencias Públicas
END:VEVENT
BEGIN:VEVENT
DTSTART;TZID=America/Bogota:20240610T103000
DTEND;TZID=America/Bogota:20240610T170000
DTSTAMP:20260420T131013
CREATED:20240606T201812Z
LAST-MODIFIED:20240606T201812Z
UID:271037-1718015400-1718038800@www.corteconstitucional.gob.ec
SUMMARY:Audiencia telemática reservada del caso 2904-22-EP.
DESCRIPTION:#AudienciaCC | El juez sustanciador Richard Ortiz Ortiz presidirá la audiencia telemática reservada del caso 2904-22-EP.
URL:https://www.corteconstitucional.gob.ec/event/audiencia-telematica-reservada-del-caso-2904-22-ep/
CATEGORIES:Audiencias Públicas
END:VEVENT
END:VCALENDAR