BEGIN:VCALENDAR
VERSION:2.0
PRODID:-//Corte Constitucional del Ecuador - ECPv6.10.2//NONSGML v1.0//EN
CALSCALE:GREGORIAN
METHOD:PUBLISH
X-ORIGINAL-URL:https://www.corteconstitucional.gob.ec
X-WR-CALDESC:Eventos para Corte Constitucional del Ecuador
REFRESH-INTERVAL;VALUE=DURATION:PT1H
X-Robots-Tag:noindex
X-PUBLISHED-TTL:PT1H
BEGIN:VTIMEZONE
TZID:America/Bogota
BEGIN:STANDARD
TZOFFSETFROM:-0500
TZOFFSETTO:-0500
TZNAME:-05
DTSTART:20240101T000000
END:STANDARD
END:VTIMEZONE
BEGIN:VEVENT
DTSTART;TZID=America/Bogota:20240517T103000
DTEND;TZID=America/Bogota:20240517T170000
DTSTAMP:20260420T142647
CREATED:20240501T173912Z
LAST-MODIFIED:20240501T173912Z
UID:270779-1715941800-1715965200@www.corteconstitucional.gob.ec
SUMMARY:Audiencia pública telemática del Caso 12-21-IS.
DESCRIPTION:#AudienciaPúblicaCC | La jueza sustanciadora Alejandra Cárdenas Reyes convoca a las partes procesales y amicus curiae a la audiencia pública telemática del Caso Nro. 13-20-IA. Conoce más https://tinyurl.com/2ym7d2tu
URL:https://www.corteconstitucional.gob.ec/event/audiencia-publica-telematica-del-caso-12-21-is/
CATEGORIES:Audiencias Públicas
END:VEVENT
BEGIN:VEVENT
DTSTART;TZID=America/Bogota:20240517T103000
DTEND;TZID=America/Bogota:20240517T170000
DTSTAMP:20260420T142647
CREATED:20240501T173912Z
LAST-MODIFIED:20240501T173912Z
UID:275202-1715941800-1715965200@www.corteconstitucional.gob.ec
SUMMARY:Audiencia pública telemática del Caso 12-21-IS.
DESCRIPTION:#AudienciaPúblicaCC | La jueza sustanciadora Alejandra Cárdenas Reyes convoca a las partes procesales y amicus curiae a la audiencia pública telemática del Caso Nro. 13-20-IA. Conoce más https://tinyurl.com/2ym7d2tu
URL:https://www.corteconstitucional.gob.ec/event/audiencia-publica-telematica-del-caso-12-21-is-2/
CATEGORIES:Audiencias Públicas
END:VEVENT
END:VCALENDAR