BEGIN:VCALENDAR
VERSION:2.0
PRODID:-//Corte Constitucional del Ecuador - ECPv6.10.2//NONSGML v1.0//EN
CALSCALE:GREGORIAN
METHOD:PUBLISH
X-ORIGINAL-URL:https://www.corteconstitucional.gob.ec
X-WR-CALDESC:Eventos para Corte Constitucional del Ecuador
REFRESH-INTERVAL;VALUE=DURATION:PT1H
X-Robots-Tag:noindex
X-PUBLISHED-TTL:PT1H
BEGIN:VTIMEZONE
TZID:America/Bogota
BEGIN:STANDARD
TZOFFSETFROM:-0500
TZOFFSETTO:-0500
TZNAME:-05
DTSTART:20240101T000000
END:STANDARD
END:VTIMEZONE
BEGIN:VEVENT
DTSTART;TZID=America/Bogota:20240312T080000
DTEND;TZID=America/Bogota:20240312T170000
DTSTAMP:20260420T164953
CREATED:20240312T142854Z
LAST-MODIFIED:20240312T142854Z
UID:275175-1710230400-1710262800@www.corteconstitucional.gob.ec
SUMMARY:Sesión jurisdiccional extraordinaria 005-E-2024
DESCRIPTION:Las juezas y jueces constitucionales que conforman el Pleno de la Corte Constitucional realizarán la Sesión jurisdiccional extraordinaria 005-E-2024. \nConoce el orden del día AQUÍ
URL:https://www.corteconstitucional.gob.ec/event/sesion-jurisdiccional-extraordinaria-005-e-2024-2/
CATEGORIES:Sesiones del Pleno
END:VEVENT
BEGIN:VEVENT
DTSTART;TZID=America/Bogota:20240312T080000
DTEND;TZID=America/Bogota:20240312T170000
DTSTAMP:20260420T164953
CREATED:20240312T142854Z
LAST-MODIFIED:20240312T142854Z
UID:269993-1710230400-1710262800@www.corteconstitucional.gob.ec
SUMMARY:Sesión jurisdiccional extraordinaria 005-E-2024
DESCRIPTION:Las juezas y jueces constitucionales que conforman el Pleno de la Corte Constitucional realizarán la Sesión jurisdiccional extraordinaria 005-E-2024. \nConoce el orden del día AQUÍ
URL:https://www.corteconstitucional.gob.ec/event/sesion-jurisdiccional-extraordinaria-005-e-2024/
CATEGORIES:Sesiones del Pleno
END:VEVENT
BEGIN:VEVENT
DTSTART;TZID=America/Bogota:20240312T103000
DTEND;TZID=America/Bogota:20240312T113000
DTSTAMP:20260420T164953
CREATED:20240312T050852Z
LAST-MODIFIED:20240312T050852Z
UID:269985-1710239400-1710243000@www.corteconstitucional.gob.ec
SUMMARY:Audiencia Pública telemática de Seguimiento del Caso 1688-14-EP
DESCRIPTION:El Pleno de la Corte Constitucional convoca a la audiencia pública telemática de seguimiento del Caso Nro. 1688-14-EP. \nConoce más AQUÍ  \n#CompromisoConstitucional
URL:https://www.corteconstitucional.gob.ec/event/audiencia-publica-telematica-de-seguimiento-del-caso-1688-14-ep/
CATEGORIES:Audiencias Públicas
END:VEVENT
BEGIN:VEVENT
DTSTART;TZID=America/Bogota:20240312T103000
DTEND;TZID=America/Bogota:20240312T113000
DTSTAMP:20260420T164953
CREATED:20240312T050852Z
LAST-MODIFIED:20240312T050852Z
UID:275173-1710239400-1710243000@www.corteconstitucional.gob.ec
SUMMARY:Audiencia Pública telemática de Seguimiento del Caso 1688-14-EP
DESCRIPTION:El Pleno de la Corte Constitucional convoca a la audiencia pública telemática de seguimiento del Caso Nro. 1688-14-EP. \nConoce más AQUÍ  \n#CompromisoConstitucional
URL:https://www.corteconstitucional.gob.ec/event/audiencia-publica-telematica-de-seguimiento-del-caso-1688-14-ep-2/
CATEGORIES:Audiencias Públicas
END:VEVENT
END:VCALENDAR