BEGIN:VCALENDAR
VERSION:2.0
PRODID:-//Corte Constitucional del Ecuador - ECPv6.10.2//NONSGML v1.0//EN
CALSCALE:GREGORIAN
METHOD:PUBLISH
X-WR-CALNAME:Corte Constitucional del Ecuador
X-ORIGINAL-URL:https://www.corteconstitucional.gob.ec
X-WR-CALDESC:Eventos para Corte Constitucional del Ecuador
REFRESH-INTERVAL;VALUE=DURATION:PT1H
X-Robots-Tag:noindex
X-PUBLISHED-TTL:PT1H
BEGIN:VTIMEZONE
TZID:America/Bogota
BEGIN:STANDARD
TZOFFSETFROM:-0500
TZOFFSETTO:-0500
TZNAME:-05
DTSTART:20240101T000000
END:STANDARD
END:VTIMEZONE
BEGIN:VEVENT
DTSTART;TZID=America/Bogota:20240209T093000
DTEND;TZID=America/Bogota:20240209T113000
DTSTAMP:20260420T181121
CREATED:20240131T173808Z
LAST-MODIFIED:20240131T173808Z
UID:269471-1707471000-1707478200@www.corteconstitucional.gob.ec
SUMMARY:Audiencia Pública telemática del Caso Nro. 28-18-IN
DESCRIPTION:La jueza sustanciadora Alejandra Cárdenas Reyes convoca a las partes procesales\, amicus curiae y terceros interesados a la Audiencia Pública telemática del Caso Nro. 28-18-IN.\n\n\n \n\n\nAccede a la convocatoria AQUÍ
URL:https://www.corteconstitucional.gob.ec/event/audiencia-publica-telematica-del-caso-nro-28-18-in/
CATEGORIES:Audiencias Públicas
END:VEVENT
BEGIN:VEVENT
DTSTART;TZID=America/Bogota:20240209T093000
DTEND;TZID=America/Bogota:20240209T113000
DTSTAMP:20260420T181121
CREATED:20240131T173808Z
LAST-MODIFIED:20240131T173808Z
UID:275164-1707471000-1707478200@www.corteconstitucional.gob.ec
SUMMARY:Audiencia Pública telemática del Caso Nro. 28-18-IN
DESCRIPTION:La jueza sustanciadora Alejandra Cárdenas Reyes convoca a las partes procesales\, amicus curiae y terceros interesados a la Audiencia Pública telemática del Caso Nro. 28-18-IN.\n\n\n \n\n\nAccede a la convocatoria AQUÍ
URL:https://www.corteconstitucional.gob.ec/event/audiencia-publica-telematica-del-caso-nro-28-18-in-2/
CATEGORIES:Audiencias Públicas
END:VEVENT
END:VCALENDAR