BEGIN:VCALENDAR
VERSION:2.0
PRODID:-//Corte Constitucional del Ecuador - ECPv6.10.2//NONSGML v1.0//EN
CALSCALE:GREGORIAN
METHOD:PUBLISH
X-ORIGINAL-URL:https://www.corteconstitucional.gob.ec
X-WR-CALDESC:Eventos para Corte Constitucional del Ecuador
REFRESH-INTERVAL;VALUE=DURATION:PT1H
X-Robots-Tag:noindex
X-PUBLISHED-TTL:PT1H
BEGIN:VTIMEZONE
TZID:America/Bogota
BEGIN:STANDARD
TZOFFSETFROM:-0500
TZOFFSETTO:-0500
TZNAME:-05
DTSTART:20240101T000000
END:STANDARD
END:VTIMEZONE
BEGIN:VEVENT
DTSTART;TZID=America/Bogota:20240126T140000
DTEND;TZID=America/Bogota:20240126T163000
DTSTAMP:20260420T192129
CREATED:20240125T190451Z
LAST-MODIFIED:20240125T190451Z
UID:269432-1706277600-1706286600@www.corteconstitucional.gob.ec
SUMMARY:Audiencia Pública telemática Caso Nro. 804-19-EP
DESCRIPTION:La jueza sustanciadora Alejandra Cárdenas Reyes presidirá la audiencia pública telemática del Caso Nro. 804-19-EP. \n\n\nConoce más AQUÍ
URL:https://www.corteconstitucional.gob.ec/event/audiencia-publica-telematica-caso-nro-804-19-ep/
CATEGORIES:Audiencias Públicas
END:VEVENT
BEGIN:VEVENT
DTSTART;TZID=America/Bogota:20240126T140000
DTEND;TZID=America/Bogota:20240126T163000
DTSTAMP:20260420T192129
CREATED:20240125T190451Z
LAST-MODIFIED:20240125T190451Z
UID:275160-1706277600-1706286600@www.corteconstitucional.gob.ec
SUMMARY:Audiencia Pública telemática Caso Nro. 804-19-EP
DESCRIPTION:La jueza sustanciadora Alejandra Cárdenas Reyes presidirá la audiencia pública telemática del Caso Nro. 804-19-EP. \n\n\nConoce más AQUÍ
URL:https://www.corteconstitucional.gob.ec/event/audiencia-publica-telematica-caso-nro-804-19-ep-2/
CATEGORIES:Audiencias Públicas
END:VEVENT
END:VCALENDAR