BEGIN:VCALENDAR
VERSION:2.0
PRODID:-//Corte Constitucional del Ecuador - ECPv6.10.2//NONSGML v1.0//EN
CALSCALE:GREGORIAN
METHOD:PUBLISH
X-WR-CALNAME:Corte Constitucional del Ecuador
X-ORIGINAL-URL:https://www.corteconstitucional.gob.ec
X-WR-CALDESC:Eventos para Corte Constitucional del Ecuador
REFRESH-INTERVAL;VALUE=DURATION:PT1H
X-Robots-Tag:noindex
X-PUBLISHED-TTL:PT1H
BEGIN:VTIMEZONE
TZID:America/Bogota
BEGIN:STANDARD
TZOFFSETFROM:-0500
TZOFFSETTO:-0500
TZNAME:-05
DTSTART:20230101T000000
END:STANDARD
END:VTIMEZONE
BEGIN:VEVENT
DTSTART;TZID=America/Bogota:20231129T080000
DTEND;TZID=America/Bogota:20231129T173000
DTSTAMP:20260420T202713
CREATED:20231115T012042Z
LAST-MODIFIED:20231115T012042Z
UID:275143-1701244800-1701279000@www.corteconstitucional.gob.ec
SUMMARY:Intercambio de buenas prácticas con altas cortes
DESCRIPTION:En el marco del «1er Encuentro por la Cultura del Precedente» y con el objetivo de conocer e intercambiar experiencias de buenas prácticas con las Cortes\, Salas y Tribunales Constitucionales de otros países\, la Corte Constitucional realiza el encuentro institucional: «Intercambio de Buenas Prácticas con Altas Cortes» para reflexionar y debatir\, principalmente\, sobre el precedente jurisprudencial\, la relevancia en admisión de casos y la subsidiariedad en garantías jurisdiccionales. \nEste encuentro que está dirigido a las y los funcionarios jurisdiccionales de las áreas que conforman la Corte Constitucional\, contará con la participación de magistradas\, magistrados y relatores de las Cortes\, Salas y Tribunales Constitucionales de: Alemania\, Brasil\, Colombia\, España y México. \n 
URL:https://www.corteconstitucional.gob.ec/event/intercambio-de-buenas-practicas-con-altas-cortes-2/
CATEGORIES:Eventos CC
END:VEVENT
BEGIN:VEVENT
DTSTART;TZID=America/Bogota:20231129T080000
DTEND;TZID=America/Bogota:20231129T173000
DTSTAMP:20260420T202713
CREATED:20231115T012042Z
LAST-MODIFIED:20231115T012042Z
UID:268362-1701244800-1701279000@www.corteconstitucional.gob.ec
SUMMARY:Intercambio de buenas prácticas con altas cortes
DESCRIPTION:En el marco del «1er Encuentro por la Cultura del Precedente» y con el objetivo de conocer e intercambiar experiencias de buenas prácticas con las Cortes\, Salas y Tribunales Constitucionales de otros países\, la Corte Constitucional realiza el encuentro institucional: «Intercambio de Buenas Prácticas con Altas Cortes» para reflexionar y debatir\, principalmente\, sobre el precedente jurisprudencial\, la relevancia en admisión de casos y la subsidiariedad en garantías jurisdiccionales. \nEste encuentro que está dirigido a las y los funcionarios jurisdiccionales de las áreas que conforman la Corte Constitucional\, contará con la participación de magistradas\, magistrados y relatores de las Cortes\, Salas y Tribunales Constitucionales de: Alemania\, Brasil\, Colombia\, España y México. \n 
URL:https://www.corteconstitucional.gob.ec/event/intercambio-de-buenas-practicas-con-altas-cortes/
CATEGORIES:Eventos CC
END:VEVENT
END:VCALENDAR