BEGIN:VCALENDAR
VERSION:2.0
PRODID:-//Corte Constitucional del Ecuador - ECPv6.10.2//NONSGML v1.0//EN
CALSCALE:GREGORIAN
METHOD:PUBLISH
X-WR-CALNAME:Corte Constitucional del Ecuador
X-ORIGINAL-URL:https://www.corteconstitucional.gob.ec
X-WR-CALDESC:Eventos para Corte Constitucional del Ecuador
REFRESH-INTERVAL;VALUE=DURATION:PT1H
X-Robots-Tag:noindex
X-PUBLISHED-TTL:PT1H
BEGIN:VTIMEZONE
TZID:America/Bogota
BEGIN:STANDARD
TZOFFSETFROM:-0500
TZOFFSETTO:-0500
TZNAME:-05
DTSTART:20230101T000000
END:STANDARD
END:VTIMEZONE
BEGIN:VEVENT
DTSTART;TZID=America/Bogota:20231124T080000
DTEND;TZID=America/Bogota:20231127T163000
DTSTAMP:20260420T202711
CREATED:20231115T012430Z
LAST-MODIFIED:20231115T012430Z
UID:275144-1700812800-1701102600@www.corteconstitucional.gob.ec
SUMMARY:Curso sobre fuentes del Derecho y constitucionalismo jurídico
DESCRIPTION:El curso se propone hacer una revisión completa de la teoría de las fuentes del Derecho. En particular\, trata de adaptarla a los dos grandes giros de la teoría del Derecho que han tenido lugar en las últimas décadas: el giro argumentativo y el giro constitucionalista. \nCapacitación dirigida al personal jurisdiccional de la Corte Constitucional
URL:https://www.corteconstitucional.gob.ec/event/curso-sobre-fuentes-del-derecho-y-constitucionalismo-juridico-2/
CATEGORIES:Eventos CC
END:VEVENT
BEGIN:VEVENT
DTSTART;TZID=America/Bogota:20231124T080000
DTEND;TZID=America/Bogota:20231127T163000
DTSTAMP:20260420T202711
CREATED:20231115T012430Z
LAST-MODIFIED:20231115T012430Z
UID:268364-1700812800-1701102600@www.corteconstitucional.gob.ec
SUMMARY:Curso sobre fuentes del Derecho y constitucionalismo jurídico
DESCRIPTION:El curso se propone hacer una revisión completa de la teoría de las fuentes del Derecho. En particular\, trata de adaptarla a los dos grandes giros de la teoría del Derecho que han tenido lugar en las últimas décadas: el giro argumentativo y el giro constitucionalista. \nCapacitación dirigida al personal jurisdiccional de la Corte Constitucional
URL:https://www.corteconstitucional.gob.ec/event/curso-sobre-fuentes-del-derecho-y-constitucionalismo-juridico/
CATEGORIES:Eventos CC
END:VEVENT
BEGIN:VEVENT
DTSTART;TZID=America/Bogota:20231127T090000
DTEND;TZID=America/Bogota:20231127T100000
DTSTAMP:20260420T202711
CREATED:20231127T163745Z
LAST-MODIFIED:20231127T163745Z
UID:275147-1701075600-1701079200@www.corteconstitucional.gob.ec
SUMMARY:Audiencia Pública del Pleno de la Corte Constitucional Caso Nro. 8-20-EI
DESCRIPTION:La jueza sustanciadora Daniela Salazar Marín convoca a las partes procesales\, terceros con interés y amicus curiae a la Audiencia Pública del Pleno de la Corte Constitucional del Caso Nro. 8-20-EI.  \nConoce más https://tinyurl.com/ys954ulw
URL:https://www.corteconstitucional.gob.ec/event/audiencia-publica-del-pleno-de-la-corte-constitucional-caso-nro-8-20-ei-2/
CATEGORIES:Audiencias Públicas
END:VEVENT
BEGIN:VEVENT
DTSTART;TZID=America/Bogota:20231127T090000
DTEND;TZID=America/Bogota:20231127T100000
DTSTAMP:20260420T202711
CREATED:20231127T163745Z
LAST-MODIFIED:20231127T163745Z
UID:268512-1701075600-1701079200@www.corteconstitucional.gob.ec
SUMMARY:Audiencia Pública del Pleno de la Corte Constitucional Caso Nro. 8-20-EI
DESCRIPTION:La jueza sustanciadora Daniela Salazar Marín convoca a las partes procesales\, terceros con interés y amicus curiae a la Audiencia Pública del Pleno de la Corte Constitucional del Caso Nro. 8-20-EI.  \nConoce más https://tinyurl.com/ys954ulw
URL:https://www.corteconstitucional.gob.ec/event/audiencia-publica-del-pleno-de-la-corte-constitucional-caso-nro-8-20-ei/
CATEGORIES:Audiencias Públicas
END:VEVENT
END:VCALENDAR