BEGIN:VCALENDAR
VERSION:2.0
PRODID:-//Corte Constitucional del Ecuador - ECPv6.10.2//NONSGML v1.0//EN
CALSCALE:GREGORIAN
METHOD:PUBLISH
X-ORIGINAL-URL:https://www.corteconstitucional.gob.ec
X-WR-CALDESC:Eventos para Corte Constitucional del Ecuador
REFRESH-INTERVAL;VALUE=DURATION:PT1H
X-Robots-Tag:noindex
X-PUBLISHED-TTL:PT1H
BEGIN:VTIMEZONE
TZID:America/Bogota
BEGIN:STANDARD
TZOFFSETFROM:-0500
TZOFFSETTO:-0500
TZNAME:-05
DTSTART:20230101T000000
END:STANDARD
END:VTIMEZONE
BEGIN:VEVENT
DTSTART;TZID=America/Bogota:20231120T150000
DTEND;TZID=America/Bogota:20231120T163000
DTSTAMP:20260420T213548
CREATED:20231115T004518Z
LAST-MODIFIED:20231115T004906Z
UID:268335-1700492400-1700497800@www.corteconstitucional.gob.ec
SUMMARY:Audiencia Pública telemática del Caso Nro. 67-23-IN
DESCRIPTION:#AudienciaPúblicaCC | El juez sustanciador Enrique Herrería Bonnet convoca a las partes procesales a la Audiencia Pública telemática del Caso Nro. 67-23-IN. \nConoce más en la convocatoria AQUÍ
URL:https://www.corteconstitucional.gob.ec/event/audiencia-publica-telematica-del-caso-nro-67-23-in/
CATEGORIES:Audiencias Públicas
END:VEVENT
BEGIN:VEVENT
DTSTART;TZID=America/Bogota:20231120T150000
DTEND;TZID=America/Bogota:20231120T163000
DTSTAMP:20260420T213548
CREATED:20231115T004518Z
LAST-MODIFIED:20231115T004518Z
UID:275136-1700492400-1700497800@www.corteconstitucional.gob.ec
SUMMARY:Audiencia Pública telemática del Caso Nro. 67-23-IN
DESCRIPTION:#AudienciaPúblicaCC | El juez sustanciador Enrique Herrería Bonnet convoca a las partes procesales a la Audiencia Pública telemática del Caso Nro. 67-23-IN. \nConoce más en la convocatoria AQUÍ
URL:https://www.corteconstitucional.gob.ec/event/audiencia-publica-telematica-del-caso-nro-67-23-in-2/
CATEGORIES:Audiencias Públicas
END:VEVENT
END:VCALENDAR