BEGIN:VCALENDAR
VERSION:2.0
PRODID:-//Corte Constitucional del Ecuador - ECPv6.10.2//NONSGML v1.0//EN
CALSCALE:GREGORIAN
METHOD:PUBLISH
X-WR-CALNAME:Corte Constitucional del Ecuador
X-ORIGINAL-URL:https://www.corteconstitucional.gob.ec
X-WR-CALDESC:Eventos para Corte Constitucional del Ecuador
REFRESH-INTERVAL;VALUE=DURATION:PT1H
X-Robots-Tag:noindex
X-PUBLISHED-TTL:PT1H
BEGIN:VTIMEZONE
TZID:America/Bogota
BEGIN:STANDARD
TZOFFSETFROM:-0500
TZOFFSETTO:-0500
TZNAME:-05
DTSTART:20230101T000000
END:STANDARD
END:VTIMEZONE
BEGIN:VEVENT
DTSTART;TZID=America/Bogota:20231115T100000
DTEND;TZID=America/Bogota:20231115T110000
DTSTAMP:20260420T213430
CREATED:20231115T005136Z
LAST-MODIFIED:20231115T005136Z
UID:275138-1700042400-1700046000@www.corteconstitucional.gob.ec
SUMMARY:Sesión administrativa ordinaria Nro. 043-O-2023
DESCRIPTION:Las juezas y los jueces constitucionales que conforman el Pleno de la Corte Constitucional sesionarán el 15 de noviembre\, a partir de las 10h00\, en la Sesión Administrativa Ordinaria Nro. 043.O-2023. \nConoce el orden del día AQUÍ
URL:https://www.corteconstitucional.gob.ec/event/sesion-administrativa-ordinaria-nro-043-o-2023-2/
CATEGORIES:Sesiones del Pleno
END:VEVENT
BEGIN:VEVENT
DTSTART;TZID=America/Bogota:20231115T100000
DTEND;TZID=America/Bogota:20231115T110000
DTSTAMP:20260420T213430
CREATED:20231115T005136Z
LAST-MODIFIED:20231115T005152Z
UID:268339-1700042400-1700046000@www.corteconstitucional.gob.ec
SUMMARY:Sesión administrativa ordinaria Nro. 043-O-2023
DESCRIPTION:Las juezas y los jueces constitucionales que conforman el Pleno de la Corte Constitucional sesionarán el 15 de noviembre\, a partir de las 10h00\, en la Sesión Administrativa Ordinaria Nro. 043.O-2023. \nConoce el orden del día AQUÍ
URL:https://www.corteconstitucional.gob.ec/event/sesion-administrativa-ordinaria-nro-043-o-2023/
CATEGORIES:Sesiones del Pleno
END:VEVENT
BEGIN:VEVENT
DTSTART;TZID=America/Bogota:20231115T113000
DTEND;TZID=America/Bogota:20231115T163000
DTSTAMP:20260420T213430
CREATED:20231115T005233Z
LAST-MODIFIED:20231115T005233Z
UID:275139-1700047800-1700065800@www.corteconstitucional.gob.ec
SUMMARY:Sesión jurisdiccional ordinaria Nro. 042-O-2023
DESCRIPTION:Las juezas y jueces que conforman el Pleno de la Corte Constitucional realizarán la Sesión Ordinaria Jurisdiccional Nro. 042-O-2023\, el miércoles 15 de noviembre\, a partir de las 11h30. \nConoce el orden del día AQUÍ
URL:https://www.corteconstitucional.gob.ec/event/sesion-jurisdiccional-ordinaria-nro-042-o-2023-2/
CATEGORIES:Sesiones del Pleno
END:VEVENT
BEGIN:VEVENT
DTSTART;TZID=America/Bogota:20231115T113000
DTEND;TZID=America/Bogota:20231115T163000
DTSTAMP:20260420T213430
CREATED:20231115T005233Z
LAST-MODIFIED:20231115T005233Z
UID:268341-1700047800-1700065800@www.corteconstitucional.gob.ec
SUMMARY:Sesión jurisdiccional ordinaria Nro. 042-O-2023
DESCRIPTION:Las juezas y jueces que conforman el Pleno de la Corte Constitucional realizarán la Sesión Ordinaria Jurisdiccional Nro. 042-O-2023\, el miércoles 15 de noviembre\, a partir de las 11h30. \nConoce el orden del día AQUÍ
URL:https://www.corteconstitucional.gob.ec/event/sesion-jurisdiccional-ordinaria-nro-042-o-2023/
CATEGORIES:Sesiones del Pleno
END:VEVENT
END:VCALENDAR