BEGIN:VCALENDAR
VERSION:2.0
PRODID:-//Corte Constitucional del Ecuador - ECPv6.10.2//NONSGML v1.0//EN
CALSCALE:GREGORIAN
METHOD:PUBLISH
X-WR-CALNAME:Corte Constitucional del Ecuador
X-ORIGINAL-URL:https://www.corteconstitucional.gob.ec
X-WR-CALDESC:Eventos para Corte Constitucional del Ecuador
REFRESH-INTERVAL;VALUE=DURATION:PT1H
X-Robots-Tag:noindex
X-PUBLISHED-TTL:PT1H
BEGIN:VTIMEZONE
TZID:America/Bogota
BEGIN:STANDARD
TZOFFSETFROM:-0500
TZOFFSETTO:-0500
TZNAME:-05
DTSTART:20230101T000000
END:STANDARD
END:VTIMEZONE
BEGIN:VEVENT
DTSTART;TZID=America/Bogota:20231110T100000
DTEND;TZID=America/Bogota:20231110T110000
DTSTAMP:20260420T213414
CREATED:20231115T005600Z
LAST-MODIFIED:20231115T005600Z
UID:268345-1699610400-1699614000@www.corteconstitucional.gob.ec
SUMMARY:Tercer Tribunal de Sala de Admisión
DESCRIPTION:La jueza constitucional Daniela Salazar Marín y los jueces constitucionales Jhoel Escudero Soliz y Enrique Herrería Bonnet\, integrantes del Tercer Tribunal de Sala de Admisión sesionarán hoy\, a partir de las 09h30.
URL:https://www.corteconstitucional.gob.ec/event/tercer-tribunal-de-sala-de-admision-4/
CATEGORIES:Sesiones de Salas de Admisión, Selección y Revisión
END:VEVENT
BEGIN:VEVENT
DTSTART;TZID=America/Bogota:20231110T100000
DTEND;TZID=America/Bogota:20231110T110000
DTSTAMP:20260420T213414
CREATED:20231115T005600Z
LAST-MODIFIED:20231115T005600Z
UID:275141-1699610400-1699614000@www.corteconstitucional.gob.ec
SUMMARY:Tercer Tribunal de Sala de Admisión
DESCRIPTION:La jueza constitucional Daniela Salazar Marín y los jueces constitucionales Jhoel Escudero Soliz y Enrique Herrería Bonnet\, integrantes del Tercer Tribunal de Sala de Admisión sesionarán hoy\, a partir de las 09h30.
URL:https://www.corteconstitucional.gob.ec/event/tercer-tribunal-de-sala-de-admision-4-2/
CATEGORIES:Sesiones de Salas de Admisión, Selección y Revisión
END:VEVENT
BEGIN:VEVENT
DTSTART;TZID=America/Bogota:20231110T100000
DTEND;TZID=America/Bogota:20231110T123000
DTSTAMP:20260420T213414
CREATED:20231110T040920Z
LAST-MODIFIED:20231110T040920Z
UID:275129-1699610400-1699619400@www.corteconstitucional.gob.ec
SUMMARY:Audiencia Reservada Caso 4-21-DN
DESCRIPTION:El juez sustanciador Richard Ortiz Ortiz convoca a las partes procesales a la Audiencia telemática reservada del Caso Nro. 4-21-DN. \nConvocatoria
URL:https://www.corteconstitucional.gob.ec/event/audiencia-reservada-caso-4-21-dn-2/
CATEGORIES:Audiencias Públicas
END:VEVENT
BEGIN:VEVENT
DTSTART;TZID=America/Bogota:20231110T100000
DTEND;TZID=America/Bogota:20231110T123000
DTSTAMP:20260420T213414
CREATED:20231110T040920Z
LAST-MODIFIED:20231113T211010Z
UID:268223-1699610400-1699619400@www.corteconstitucional.gob.ec
SUMMARY:Audiencia Reservada Caso 4-21-DN
DESCRIPTION:El juez sustanciador Richard Ortiz Ortiz convoca a las partes procesales a la Audiencia telemática reservada del Caso Nro. 4-21-DN. \nConvocatoria
URL:https://www.corteconstitucional.gob.ec/event/audiencia-reservada-caso-4-21-dn/
CATEGORIES:Audiencias Públicas
END:VEVENT
BEGIN:VEVENT
DTSTART;TZID=America/Bogota:20231110T160000
DTEND;TZID=America/Bogota:20231110T170000
DTSTAMP:20260420T213414
CREATED:20231115T005404Z
LAST-MODIFIED:20231115T005404Z
UID:268343-1699632000-1699635600@www.corteconstitucional.gob.ec
SUMMARY:Primer Tribunal de la Sala de Admisión
DESCRIPTION:Las juezas constitucionales Carmen Corral Ponce y Karla Andrade Quevedo; y el juez constitucional Alí Lozada Prado\, integrantes del Primer Tribunal de la Sala de Admisión sesionarán el 10 de noviembre.
URL:https://www.corteconstitucional.gob.ec/event/primer-tribunal-de-la-sala-de-admision-3/
CATEGORIES:Sesiones de Salas de Admisión, Selección y Revisión
END:VEVENT
BEGIN:VEVENT
DTSTART;TZID=America/Bogota:20231110T160000
DTEND;TZID=America/Bogota:20231110T170000
DTSTAMP:20260420T213414
CREATED:20231115T005404Z
LAST-MODIFIED:20231115T005404Z
UID:275140-1699632000-1699635600@www.corteconstitucional.gob.ec
SUMMARY:Primer Tribunal de la Sala de Admisión
DESCRIPTION:Las juezas constitucionales Carmen Corral Ponce y Karla Andrade Quevedo; y el juez constitucional Alí Lozada Prado\, integrantes del Primer Tribunal de la Sala de Admisión sesionarán el 10 de noviembre.
URL:https://www.corteconstitucional.gob.ec/event/primer-tribunal-de-la-sala-de-admision-3-2/
CATEGORIES:Sesiones de Salas de Admisión, Selección y Revisión
END:VEVENT
END:VCALENDAR