BEGIN:VCALENDAR
VERSION:2.0
PRODID:-//Corte Constitucional del Ecuador - ECPv6.10.2//NONSGML v1.0//EN
CALSCALE:GREGORIAN
METHOD:PUBLISH
X-ORIGINAL-URL:https://www.corteconstitucional.gob.ec
X-WR-CALDESC:Eventos para Corte Constitucional del Ecuador
REFRESH-INTERVAL;VALUE=DURATION:PT1H
X-Robots-Tag:noindex
X-PUBLISHED-TTL:PT1H
BEGIN:VTIMEZONE
TZID:America/Bogota
BEGIN:STANDARD
TZOFFSETFROM:-0500
TZOFFSETTO:-0500
TZNAME:-05
DTSTART:20230101T000000
END:STANDARD
END:VTIMEZONE
BEGIN:VEVENT
DTSTART;TZID=America/Bogota:20231019T113000
DTEND;TZID=America/Bogota:20231019T170000
DTSTAMP:20260420T224411
CREATED:20231016T175025Z
LAST-MODIFIED:20231016T175025Z
UID:275128-1697715000-1697734800@www.corteconstitucional.gob.ec
SUMMARY:Sesión jurisdiccional ordinaria Nro. 038-O-2023
DESCRIPTION:Las juezas y jueces que conforman el Pleno de la Corte Constitucional realizarán la Sesión Jurisdiccional Ordinaria 038-O-2023\, el miércoles 18 de octubre a partir de las 11h30. \nConoce el orden del día AQUÍ
URL:https://www.corteconstitucional.gob.ec/event/sesion-jurisdiccional-ordinaria-nro-038-o-2023-2/
CATEGORIES:Sesiones del Pleno
END:VEVENT
BEGIN:VEVENT
DTSTART;TZID=America/Bogota:20231019T113000
DTEND;TZID=America/Bogota:20231019T170000
DTSTAMP:20260420T224411
CREATED:20231016T175025Z
LAST-MODIFIED:20231016T180241Z
UID:267488-1697715000-1697734800@www.corteconstitucional.gob.ec
SUMMARY:Sesión jurisdiccional ordinaria Nro. 038-O-2023
DESCRIPTION:Las juezas y jueces que conforman el Pleno de la Corte Constitucional realizarán la Sesión Jurisdiccional Ordinaria 038-O-2023\, el miércoles 18 de octubre a partir de las 11h30. \nConoce el orden del día AQUÍ
URL:https://www.corteconstitucional.gob.ec/event/sesion-jurisdiccional-ordinaria-nro-038-o-2023/
CATEGORIES:Sesiones del Pleno
END:VEVENT
BEGIN:VEVENT
DTSTART;TZID=America/Bogota:20231019T150000
DTEND;TZID=America/Bogota:20231019T163000
DTSTAMP:20260420T224411
CREATED:20231016T174601Z
LAST-MODIFIED:20231016T174601Z
UID:267484-1697727600-1697733000@www.corteconstitucional.gob.ec
SUMMARY:Audiencia Pública Caso 2903-19-EP
DESCRIPTION:El juez sustanciador Jhoel Escudero Soliz convoca a las partes procesales a la Audiencia Pública telemática del Caso Nro. 2903-19-EP. \nConoce la convocatoria AQUÍ
URL:https://www.corteconstitucional.gob.ec/event/audiencia-publica-caso-2903-19-ep/
CATEGORIES:Audiencias Públicas
END:VEVENT
BEGIN:VEVENT
DTSTART;TZID=America/Bogota:20231019T150000
DTEND;TZID=America/Bogota:20231019T163000
DTSTAMP:20260420T224411
CREATED:20231016T174601Z
LAST-MODIFIED:20231016T174601Z
UID:275127-1697727600-1697733000@www.corteconstitucional.gob.ec
SUMMARY:Audiencia Pública Caso 2903-19-EP
DESCRIPTION:El juez sustanciador Jhoel Escudero Soliz convoca a las partes procesales a la Audiencia Pública telemática del Caso Nro. 2903-19-EP. \nConoce la convocatoria AQUÍ
URL:https://www.corteconstitucional.gob.ec/event/audiencia-publica-caso-2903-19-ep-2/
CATEGORIES:Audiencias Públicas
END:VEVENT
END:VCALENDAR