BEGIN:VCALENDAR
VERSION:2.0
PRODID:-//Corte Constitucional del Ecuador - ECPv6.10.2//NONSGML v1.0//EN
CALSCALE:GREGORIAN
METHOD:PUBLISH
X-ORIGINAL-URL:https://www.corteconstitucional.gob.ec
X-WR-CALDESC:Eventos para Corte Constitucional del Ecuador
REFRESH-INTERVAL;VALUE=DURATION:PT1H
X-Robots-Tag:noindex
X-PUBLISHED-TTL:PT1H
BEGIN:VTIMEZONE
TZID:America/Bogota
BEGIN:STANDARD
TZOFFSETFROM:-0500
TZOFFSETTO:-0500
TZNAME:-05
DTSTART:20230101T000000
END:STANDARD
END:VTIMEZONE
BEGIN:VEVENT
DTSTART;TZID=America/Bogota:20230921T150000
DTEND;TZID=America/Bogota:20230921T163000
DTSTAMP:20260420T235420
CREATED:20230620T201057Z
LAST-MODIFIED:20230914T204915Z
UID:266535-1695308400-1695313800@www.corteconstitucional.gob.ec
SUMMARY:Audiencia Pública Caso Nro. 16-19-AN
DESCRIPTION:El juez sustanciador Jhoel Escudero Soliz difiere la Audiencia Pública telemática del Caso Nro. 16-19-AN para el 17 de agosto\, a partir de las 15h00. \nAccede a la convocatoria AQUÍ \nAccede al diferimiento AQUÍ
URL:https://www.corteconstitucional.gob.ec/event/audiencia-publica-caso-nro-16-19-an/
CATEGORIES:Audiencias Públicas
END:VEVENT
BEGIN:VEVENT
DTSTART;TZID=America/Bogota:20230921T150000
DTEND;TZID=America/Bogota:20230921T163000
DTSTAMP:20260420T235420
CREATED:20230620T201057Z
LAST-MODIFIED:20230620T201057Z
UID:275071-1695308400-1695313800@www.corteconstitucional.gob.ec
SUMMARY:Audiencia Pública Caso Nro. 16-19-AN
DESCRIPTION:El juez sustanciador Jhoel Escudero Soliz difiere la Audiencia Pública telemática del Caso Nro. 16-19-AN para el 17 de agosto\, a partir de las 15h00. \nAccede a la convocatoria AQUÍ \nAccede al diferimiento AQUÍ
URL:https://www.corteconstitucional.gob.ec/event/audiencia-publica-caso-nro-16-19-an-2/
CATEGORIES:Audiencias Públicas
END:VEVENT
END:VCALENDAR