BEGIN:VCALENDAR
VERSION:2.0
PRODID:-//Corte Constitucional del Ecuador - ECPv6.10.2//NONSGML v1.0//EN
CALSCALE:GREGORIAN
METHOD:PUBLISH
X-ORIGINAL-URL:https://www.corteconstitucional.gob.ec
X-WR-CALDESC:Eventos para Corte Constitucional del Ecuador
REFRESH-INTERVAL;VALUE=DURATION:PT1H
X-Robots-Tag:noindex
X-PUBLISHED-TTL:PT1H
BEGIN:VTIMEZONE
TZID:America/Bogota
BEGIN:STANDARD
TZOFFSETFROM:-0500
TZOFFSETTO:-0500
TZNAME:-05
DTSTART:20230101T000000
END:STANDARD
END:VTIMEZONE
BEGIN:VEVENT
DTSTART;TZID=America/Bogota:20230912T153000
DTEND;TZID=America/Bogota:20230912T170000
DTSTAMP:20260420T235438
CREATED:20230912T143247Z
LAST-MODIFIED:20230912T143247Z
UID:267221-1694532600-1694538000@www.corteconstitucional.gob.ec
SUMMARY:Audiencia pública caso Nro. 5-23-UE
DESCRIPTION:La jueza sustanciadora Carmen Corral Ponce convoca a la Audiencia Pública telemática del Caso Nro. 5-23-UE. Conoce más en la convocatoria AQUÍ https://tinyurl.com/yunoa7p4
URL:https://www.corteconstitucional.gob.ec/event/audiencia-publica-caso-nro-5-23-ue/
CATEGORIES:Audiencias Públicas
END:VEVENT
BEGIN:VEVENT
DTSTART;TZID=America/Bogota:20230912T153000
DTEND;TZID=America/Bogota:20230912T170000
DTSTAMP:20260420T235438
CREATED:20230912T143247Z
LAST-MODIFIED:20230912T143247Z
UID:275109-1694532600-1694538000@www.corteconstitucional.gob.ec
SUMMARY:Audiencia pública caso Nro. 5-23-UE
DESCRIPTION:La jueza sustanciadora Carmen Corral Ponce convoca a la Audiencia Pública telemática del Caso Nro. 5-23-UE. Conoce más en la convocatoria AQUÍ https://tinyurl.com/yunoa7p4
URL:https://www.corteconstitucional.gob.ec/event/audiencia-publica-caso-nro-5-23-ue-2/
CATEGORIES:Audiencias Públicas
END:VEVENT
END:VCALENDAR