BEGIN:VCALENDAR
VERSION:2.0
PRODID:-//Corte Constitucional del Ecuador - ECPv6.10.2//NONSGML v1.0//EN
CALSCALE:GREGORIAN
METHOD:PUBLISH
X-WR-CALNAME:Corte Constitucional del Ecuador
X-ORIGINAL-URL:https://www.corteconstitucional.gob.ec
X-WR-CALDESC:Eventos para Corte Constitucional del Ecuador
REFRESH-INTERVAL;VALUE=DURATION:PT1H
X-Robots-Tag:noindex
X-PUBLISHED-TTL:PT1H
BEGIN:VTIMEZONE
TZID:America/Bogota
BEGIN:STANDARD
TZOFFSETFROM:-0500
TZOFFSETTO:-0500
TZNAME:-05
DTSTART:20230101T000000
END:STANDARD
END:VTIMEZONE
BEGIN:VEVENT
DTSTART;TZID=America/Bogota:20230825T093000
DTEND;TZID=America/Bogota:20230825T113000
DTSTAMP:20260421T010211
CREATED:20230803T193120Z
LAST-MODIFIED:20230803T193120Z
UID:275088-1692955800-1692963000@www.corteconstitucional.gob.ec
SUMMARY:Audiencia Pública telemática Caso Nro. 2-18-AN
DESCRIPTION:El juez sustanciador Alí Lozada Prado convoca a las partes procesales a la Audiencia Pública telemática del Caso Nro. 2-18-AN \nAccede a la convocatoria AQUÍ
URL:https://www.corteconstitucional.gob.ec/event/audiencia-publica-telematica-caso-nro-2-18-an-3/
CATEGORIES:Audiencias Públicas
END:VEVENT
BEGIN:VEVENT
DTSTART;TZID=America/Bogota:20230825T093000
DTEND;TZID=America/Bogota:20230825T113000
DTSTAMP:20260421T010211
CREATED:20230803T193120Z
LAST-MODIFIED:20230814T214252Z
UID:266880-1692955800-1692963000@www.corteconstitucional.gob.ec
SUMMARY:Audiencia Pública telemática Caso Nro. 2-18-AN
DESCRIPTION:El juez sustanciador Alí Lozada Prado convoca a las partes procesales a la Audiencia Pública telemática del Caso Nro. 2-18-AN \nAccede a la convocatoria AQUÍ
URL:https://www.corteconstitucional.gob.ec/event/audiencia-publica-telematica-caso-nro-2-18-an/
CATEGORIES:Audiencias Públicas
END:VEVENT
BEGIN:VEVENT
DTSTART;TZID=America/Bogota:20230825T123000
DTEND;TZID=America/Bogota:20230825T133000
DTSTAMP:20260421T010211
CREATED:20230823T194701Z
LAST-MODIFIED:20230823T194701Z
UID:275103-1692966600-1692970200@www.corteconstitucional.gob.ec
SUMMARY:Audiencia Pública telemática del Caso Nro. 1256-19-EP
DESCRIPTION:La jueza sustanciadora Carmen Corral Ponce convoca a las partes procesales a la audiencia pública telemática del Caso Nro. 1256-19-EP. \nConoce más en la convocatoria AQUÍ
URL:https://www.corteconstitucional.gob.ec/event/audiencia-publica-telematica-del-caso-nro-1256-19-ep-2/
CATEGORIES:Audiencias Públicas
END:VEVENT
BEGIN:VEVENT
DTSTART;TZID=America/Bogota:20230825T123000
DTEND;TZID=America/Bogota:20230825T133000
DTSTAMP:20260421T010211
CREATED:20230823T194701Z
LAST-MODIFIED:20230823T201200Z
UID:267115-1692966600-1692970200@www.corteconstitucional.gob.ec
SUMMARY:Audiencia Pública telemática del Caso Nro. 1256-19-EP
DESCRIPTION:La jueza sustanciadora Carmen Corral Ponce convoca a las partes procesales a la audiencia pública telemática del Caso Nro. 1256-19-EP. \nConoce más en la convocatoria AQUÍ
URL:https://www.corteconstitucional.gob.ec/event/audiencia-publica-telematica-del-caso-nro-1256-19-ep/
CATEGORIES:Audiencias Públicas
END:VEVENT
END:VCALENDAR