BEGIN:VCALENDAR
VERSION:2.0
PRODID:-//Corte Constitucional del Ecuador - ECPv6.10.2//NONSGML v1.0//EN
CALSCALE:GREGORIAN
METHOD:PUBLISH
X-ORIGINAL-URL:https://www.corteconstitucional.gob.ec
X-WR-CALDESC:Eventos para Corte Constitucional del Ecuador
REFRESH-INTERVAL;VALUE=DURATION:PT1H
X-Robots-Tag:noindex
X-PUBLISHED-TTL:PT1H
BEGIN:VTIMEZONE
TZID:America/Bogota
BEGIN:STANDARD
TZOFFSETFROM:-0500
TZOFFSETTO:-0500
TZNAME:-05
DTSTART:20230101T000000
END:STANDARD
END:VTIMEZONE
BEGIN:VEVENT
DTSTART;TZID=America/Bogota:20230822T100000
DTEND;TZID=America/Bogota:20230822T120000
DTSTAMP:20260421T010637
CREATED:20230821T194508Z
LAST-MODIFIED:20230821T194508Z
UID:275101-1692698400-1692705600@www.corteconstitucional.gob.ec
SUMMARY:Sesión Jurisdiccional Extraordinaria  Nro. 017-E-2023
DESCRIPTION:Las juezas y jueces que conforman el Pleno de la Corte Constitucional del Ecuador realizarán la sesión jurisdiccional extraordinaria Nro. 017-E-2023\, el martes 22 de agosto\, a partir de las 10h00. \nAccede a la convocatoria AQUÍ
URL:https://www.corteconstitucional.gob.ec/event/sesion-jurisdiccional-extraordinaria-nro-017-e-2023-2/
CATEGORIES:Sesiones del Pleno
END:VEVENT
BEGIN:VEVENT
DTSTART;TZID=America/Bogota:20230822T100000
DTEND;TZID=America/Bogota:20230822T120000
DTSTAMP:20260421T010637
CREATED:20230821T194508Z
LAST-MODIFIED:20230821T194508Z
UID:267080-1692698400-1692705600@www.corteconstitucional.gob.ec
SUMMARY:Sesión Jurisdiccional Extraordinaria  Nro. 017-E-2023
DESCRIPTION:Las juezas y jueces que conforman el Pleno de la Corte Constitucional del Ecuador realizarán la sesión jurisdiccional extraordinaria Nro. 017-E-2023\, el martes 22 de agosto\, a partir de las 10h00. \nAccede a la convocatoria AQUÍ
URL:https://www.corteconstitucional.gob.ec/event/sesion-jurisdiccional-extraordinaria-nro-017-e-2023/
CATEGORIES:Sesiones del Pleno
END:VEVENT
BEGIN:VEVENT
DTSTART;TZID=America/Bogota:20230822T150000
DTEND;TZID=America/Bogota:20230822T163000
DTSTAMP:20260421T010637
CREATED:20230814T201948Z
LAST-MODIFIED:20230814T201948Z
UID:275096-1692716400-1692721800@www.corteconstitucional.gob.ec
SUMMARY:Tercer Tribunal de Sala de Admisión
DESCRIPTION:#SesionesCC | Las juezas constitucionales Karla Andrade Quevedo y Alejandra Cárdenas Reyes; y\, el juez constitucional Richard Ortiz Ortiz\, integrantes del Tercer Tribunal de Sala de Admisión\, sesionarán el 22 de agosto a las 15h00.
URL:https://www.corteconstitucional.gob.ec/event/tercer-tribunal-de-sala-de-admision-2-2/
CATEGORIES:Sesiones de Salas de Admisión, Selección y Revisión
END:VEVENT
BEGIN:VEVENT
DTSTART;TZID=America/Bogota:20230822T150000
DTEND;TZID=America/Bogota:20230822T163000
DTSTAMP:20260421T010637
CREATED:20230814T201948Z
LAST-MODIFIED:20230822T190123Z
UID:266984-1692716400-1692721800@www.corteconstitucional.gob.ec
SUMMARY:Tercer Tribunal de Sala de Admisión
DESCRIPTION:#SesionesCC | Las juezas constitucionales Karla Andrade Quevedo y Alejandra Cárdenas Reyes; y\, el juez constitucional Richard Ortiz Ortiz\, integrantes del Tercer Tribunal de Sala de Admisión\, sesionarán el 22 de agosto a las 15h00.
URL:https://www.corteconstitucional.gob.ec/event/tercer-tribunal-de-sala-de-admision-2/
CATEGORIES:Sesiones de Salas de Admisión, Selección y Revisión
END:VEVENT
BEGIN:VEVENT
DTSTART;TZID=America/Bogota:20230822T153000
DTEND;TZID=America/Bogota:20230822T170000
DTSTAMP:20260421T010637
CREATED:20230818T180033Z
LAST-MODIFIED:20230822T190200Z
UID:267060-1692718200-1692723600@www.corteconstitucional.gob.ec
SUMMARY:Segundo Tribunal de Sala de Admisión
DESCRIPTION:Las juezas constitucionales Carmen Corral Ponce y Teresa Nuques Martínez; y\, el juez constitucional Alí Lozada Prado\, integrantes del Segundo Tribunal de la Sala de Admisión\, sesionarán el 22 de agosto.
URL:https://www.corteconstitucional.gob.ec/event/segundo-tribunal-de-sala-de-admision-3/
CATEGORIES:Sesiones de Salas de Admisión, Selección y Revisión
END:VEVENT
BEGIN:VEVENT
DTSTART;TZID=America/Bogota:20230822T153000
DTEND;TZID=America/Bogota:20230822T170000
DTSTAMP:20260421T010637
CREATED:20230818T180033Z
LAST-MODIFIED:20230818T180033Z
UID:275099-1692718200-1692723600@www.corteconstitucional.gob.ec
SUMMARY:Segundo Tribunal de Sala de Admisión
DESCRIPTION:Las juezas constitucionales Carmen Corral Ponce y Teresa Nuques Martínez; y\, el juez constitucional Alí Lozada Prado\, integrantes del Segundo Tribunal de la Sala de Admisión\, sesionarán el 22 de agosto.
URL:https://www.corteconstitucional.gob.ec/event/segundo-tribunal-de-sala-de-admision-3-2/
CATEGORIES:Sesiones de Salas de Admisión, Selección y Revisión
END:VEVENT
END:VCALENDAR