BEGIN:VCALENDAR
VERSION:2.0
PRODID:-//Corte Constitucional del Ecuador - ECPv6.10.2//NONSGML v1.0//EN
CALSCALE:GREGORIAN
METHOD:PUBLISH
X-WR-CALNAME:Corte Constitucional del Ecuador
X-ORIGINAL-URL:https://www.corteconstitucional.gob.ec
X-WR-CALDESC:Eventos para Corte Constitucional del Ecuador
REFRESH-INTERVAL;VALUE=DURATION:PT1H
X-Robots-Tag:noindex
X-PUBLISHED-TTL:PT1H
BEGIN:VTIMEZONE
TZID:America/Bogota
BEGIN:STANDARD
TZOFFSETFROM:-0500
TZOFFSETTO:-0500
TZNAME:-05
DTSTART:20230101T000000
END:STANDARD
END:VTIMEZONE
BEGIN:VEVENT
DTSTART;TZID=America/Bogota:20230705T113000
DTEND;TZID=America/Bogota:20230707T163000
DTSTAMP:20260421T021502
CREATED:20230703T145030Z
LAST-MODIFIED:20230703T145030Z
UID:275076-1688556600-1688747400@www.corteconstitucional.gob.ec
SUMMARY:Sesión Ordinaria del Pleno Nro. 022-O-2023
DESCRIPTION:Las juezas y jueces constitucionales que conforman el Pleno de la Corte Constitucional realizarán\, este 05 de julio\, la sesión ordinaria Nro. 022-O-2023\, a partir de las 11h30. \nConoce el orden del día AQUÍ
URL:https://www.corteconstitucional.gob.ec/event/sesion-ordinaria-del-pleno-nro-022-o-2023-2/
CATEGORIES:Sesiones del Pleno
END:VEVENT
BEGIN:VEVENT
DTSTART;TZID=America/Bogota:20230705T113000
DTEND;TZID=America/Bogota:20230707T163000
DTSTAMP:20260421T021502
CREATED:20230703T145030Z
LAST-MODIFIED:20230703T145030Z
UID:266611-1688556600-1688747400@www.corteconstitucional.gob.ec
SUMMARY:Sesión Ordinaria del Pleno Nro. 022-O-2023
DESCRIPTION:Las juezas y jueces constitucionales que conforman el Pleno de la Corte Constitucional realizarán\, este 05 de julio\, la sesión ordinaria Nro. 022-O-2023\, a partir de las 11h30. \nConoce el orden del día AQUÍ
URL:https://www.corteconstitucional.gob.ec/event/sesion-ordinaria-del-pleno-nro-022-o-2023/
CATEGORIES:Sesiones del Pleno
END:VEVENT
BEGIN:VEVENT
DTSTART;TZID=America/Bogota:20230706T150000
DTEND;TZID=America/Bogota:20230706T163000
DTSTAMP:20260421T021502
CREATED:20230620T201739Z
LAST-MODIFIED:20230620T201739Z
UID:275072-1688655600-1688661000@www.corteconstitucional.gob.ec
SUMMARY:Audiencia Pública telemática del Caso Nro. 20-19-AN
DESCRIPTION:El juez sustanciador Jhoel Escudero Soliz convoca a las partes procesales y a los amicus curiae a la Audiencia Pública telemática del Caso Nro. 20-19-AN \nConoce la convocatoria AQUÍ
URL:https://www.corteconstitucional.gob.ec/event/audiencia-publica-telematica-del-caso-nro-20-19-an-2/
CATEGORIES:Audiencias Públicas
END:VEVENT
BEGIN:VEVENT
DTSTART;TZID=America/Bogota:20230706T150000
DTEND;TZID=America/Bogota:20230706T163000
DTSTAMP:20260421T021502
CREATED:20230620T201739Z
LAST-MODIFIED:20230620T201739Z
UID:266538-1688655600-1688661000@www.corteconstitucional.gob.ec
SUMMARY:Audiencia Pública telemática del Caso Nro. 20-19-AN
DESCRIPTION:El juez sustanciador Jhoel Escudero Soliz convoca a las partes procesales y a los amicus curiae a la Audiencia Pública telemática del Caso Nro. 20-19-AN \nConoce la convocatoria AQUÍ
URL:https://www.corteconstitucional.gob.ec/event/audiencia-publica-telematica-del-caso-nro-20-19-an/
CATEGORIES:Audiencias Públicas
END:VEVENT
BEGIN:VEVENT
DTSTART;TZID=America/Bogota:20230706T150000
DTEND;TZID=America/Bogota:20230706T170000
DTSTAMP:20260421T021502
CREATED:20230630T210841Z
LAST-MODIFIED:20230630T211153Z
UID:266583-1688655600-1688662800@www.corteconstitucional.gob.ec
SUMMARY:Audiencia Pública telemática del Caso Nro. 224-23-JP
DESCRIPTION:El juez sustanciador Richard Ortiz Ortiz convoca a las partes procesales y a los amicus curiae a la Audiencia Pública telemática del Caso Nro. 224-23-JP. \nConoce más AQUÍ  \n 
URL:https://www.corteconstitucional.gob.ec/event/audiencia-publica-telematica-del-caso-nro-224-23-jp/
CATEGORIES:Audiencias Públicas
END:VEVENT
BEGIN:VEVENT
DTSTART;TZID=America/Bogota:20230706T150000
DTEND;TZID=America/Bogota:20230706T170000
DTSTAMP:20260421T021502
CREATED:20230630T210841Z
LAST-MODIFIED:20230630T210841Z
UID:275075-1688655600-1688662800@www.corteconstitucional.gob.ec
SUMMARY:Audiencia Pública telemática del Caso Nro. 224-23-JP
DESCRIPTION:El juez sustanciador Richard Ortiz Ortiz convoca a las partes procesales y a los amicus curiae a la Audiencia Pública telemática del Caso Nro. 224-23-JP. \nConoce más AQUÍ  \n 
URL:https://www.corteconstitucional.gob.ec/event/audiencia-publica-telematica-del-caso-nro-224-23-jp-2/
CATEGORIES:Audiencias Públicas
END:VEVENT
END:VCALENDAR