BEGIN:VCALENDAR
VERSION:2.0
PRODID:-//Corte Constitucional del Ecuador - ECPv6.10.2//NONSGML v1.0//EN
CALSCALE:GREGORIAN
METHOD:PUBLISH
X-WR-CALNAME:Corte Constitucional del Ecuador
X-ORIGINAL-URL:https://www.corteconstitucional.gob.ec
X-WR-CALDESC:Eventos para Corte Constitucional del Ecuador
REFRESH-INTERVAL;VALUE=DURATION:PT1H
X-Robots-Tag:noindex
X-PUBLISHED-TTL:PT1H
BEGIN:VTIMEZONE
TZID:America/Bogota
BEGIN:STANDARD
TZOFFSETFROM:-0500
TZOFFSETTO:-0500
TZNAME:-05
DTSTART:20230101T000000
END:STANDARD
END:VTIMEZONE
BEGIN:VEVENT
DTSTART;TZID=America/Bogota:20230627T153000
DTEND;TZID=America/Bogota:20230627T163000
DTSTAMP:20260421T021508
CREATED:20230620T150743Z
LAST-MODIFIED:20230622T145528Z
UID:266500-1687879800-1687883400@www.corteconstitucional.gob.ec
SUMMARY:Audiencia Pública Caso Nro.  13-21-AN
DESCRIPTION:La jueza sustanciadora Carmen Corral Ponce convoca a las partes procesales y a los terceros interesados a la Audiencia Pública Caso Nro. 13-21-AN. \nAccede a la convocatoria AQUÍ
URL:https://www.corteconstitucional.gob.ec/event/audiencia-publica-caso-nro-13-21-an/
CATEGORIES:Audiencias Públicas
END:VEVENT
BEGIN:VEVENT
DTSTART;TZID=America/Bogota:20230627T153000
DTEND;TZID=America/Bogota:20230627T163000
DTSTAMP:20260421T021508
CREATED:20230620T150743Z
LAST-MODIFIED:20230620T150743Z
UID:275070-1687879800-1687883400@www.corteconstitucional.gob.ec
SUMMARY:Audiencia Pública Caso Nro.  13-21-AN
DESCRIPTION:La jueza sustanciadora Carmen Corral Ponce convoca a las partes procesales y a los terceros interesados a la Audiencia Pública Caso Nro. 13-21-AN. \nAccede a la convocatoria AQUÍ
URL:https://www.corteconstitucional.gob.ec/event/audiencia-publica-caso-nro-13-21-an-2/
CATEGORIES:Audiencias Públicas
END:VEVENT
END:VCALENDAR