BEGIN:VCALENDAR
VERSION:2.0
PRODID:-//Corte Constitucional del Ecuador - ECPv6.10.2//NONSGML v1.0//EN
CALSCALE:GREGORIAN
METHOD:PUBLISH
X-ORIGINAL-URL:https://www.corteconstitucional.gob.ec
X-WR-CALDESC:Eventos para Corte Constitucional del Ecuador
REFRESH-INTERVAL;VALUE=DURATION:PT1H
X-Robots-Tag:noindex
X-PUBLISHED-TTL:PT1H
BEGIN:VTIMEZONE
TZID:America/Bogota
BEGIN:STANDARD
TZOFFSETFROM:-0500
TZOFFSETTO:-0500
TZNAME:-05
DTSTART:20230101T000000
END:STANDARD
END:VTIMEZONE
BEGIN:VEVENT
DTSTART;TZID=America/Bogota:20230616T110000
DTEND;TZID=America/Bogota:20230616T163000
DTSTAMP:20260421T032355
CREATED:20230616T154528Z
LAST-MODIFIED:20230616T154528Z
UID:275067-1686913200-1686933000@www.corteconstitucional.gob.ec
SUMMARY:Sesión extraordinaria del Pleno Nro. 014-E-2023
DESCRIPTION:Las juezas y jueces que conforman el Pleno de la Corte Constitucional realizarán la Sesión extraordinaria del Pleno Nro. 014-E-2023. \nConoce el orden del día AQUÍ
URL:https://www.corteconstitucional.gob.ec/event/sesion-extraordinaria-del-pleno-nro-014-e-2023-2/
CATEGORIES:Sesiones del Pleno
END:VEVENT
BEGIN:VEVENT
DTSTART;TZID=America/Bogota:20230616T110000
DTEND;TZID=America/Bogota:20230616T163000
DTSTAMP:20260421T032355
CREATED:20230616T154528Z
LAST-MODIFIED:20230616T154528Z
UID:266464-1686913200-1686933000@www.corteconstitucional.gob.ec
SUMMARY:Sesión extraordinaria del Pleno Nro. 014-E-2023
DESCRIPTION:Las juezas y jueces que conforman el Pleno de la Corte Constitucional realizarán la Sesión extraordinaria del Pleno Nro. 014-E-2023. \nConoce el orden del día AQUÍ
URL:https://www.corteconstitucional.gob.ec/event/sesion-extraordinaria-del-pleno-nro-014-e-2023/
CATEGORIES:Sesiones del Pleno
END:VEVENT
BEGIN:VEVENT
DTSTART;TZID=America/Bogota:20230616T150000
DTEND;TZID=America/Bogota:20230616T163000
DTSTAMP:20260421T032355
CREATED:20230606T211128Z
LAST-MODIFIED:20230606T211128Z
UID:275063-1686927600-1686933000@www.corteconstitucional.gob.ec
SUMMARY:Segundo Tribunal de Sala de Admisión
DESCRIPTION:Las juezas constitucionales Karla Andrade Quevedo y Teresa Nuques Martínez; y\, el juez constitucional Richard Ortiz Ortiz\, integrantes del Segundo Tribunal de Sala de Admisión\, sesionarán el 16 de junio del 2023.
URL:https://www.corteconstitucional.gob.ec/event/segundo-tribunal-de-sala-de-admision-6/
CATEGORIES:Sesiones de Salas de Admisión, Selección y Revisión
END:VEVENT
BEGIN:VEVENT
DTSTART;TZID=America/Bogota:20230616T150000
DTEND;TZID=America/Bogota:20230616T163000
DTSTAMP:20260421T032355
CREATED:20230606T211128Z
LAST-MODIFIED:20230606T211128Z
UID:266369-1686927600-1686933000@www.corteconstitucional.gob.ec
SUMMARY:Segundo Tribunal de Sala de Admisión
DESCRIPTION:Las juezas constitucionales Karla Andrade Quevedo y Teresa Nuques Martínez; y\, el juez constitucional Richard Ortiz Ortiz\, integrantes del Segundo Tribunal de Sala de Admisión\, sesionarán el 16 de junio del 2023.
URL:https://www.corteconstitucional.gob.ec/event/segundo-tribunal-de-sala-de-admision/
CATEGORIES:Sesiones de Salas de Admisión, Selección y Revisión
END:VEVENT
END:VCALENDAR