BEGIN:VCALENDAR
VERSION:2.0
PRODID:-//Corte Constitucional del Ecuador - ECPv6.10.2//NONSGML v1.0//EN
CALSCALE:GREGORIAN
METHOD:PUBLISH
X-WR-CALNAME:Corte Constitucional del Ecuador
X-ORIGINAL-URL:https://www.corteconstitucional.gob.ec
X-WR-CALDESC:Eventos para Corte Constitucional del Ecuador
REFRESH-INTERVAL;VALUE=DURATION:PT1H
X-Robots-Tag:noindex
X-PUBLISHED-TTL:PT1H
BEGIN:VTIMEZONE
TZID:America/Bogota
BEGIN:STANDARD
TZOFFSETFROM:-0500
TZOFFSETTO:-0500
TZNAME:-05
DTSTART:20230101T000000
END:STANDARD
END:VTIMEZONE
BEGIN:VEVENT
DTSTART;TZID=America/Bogota:20230608T100000
DTEND;TZID=America/Bogota:20230608T130000
DTSTAMP:20260421T032125
CREATED:20230605T221702Z
LAST-MODIFIED:20230605T221702Z
UID:266340-1686218400-1686229200@www.corteconstitucional.gob.ec
SUMMARY:Audiencia Pública Caso Nro. 2-23-UE
DESCRIPTION:La jueza sustanciadora Karla Andrade Quevedo convoca a la audiencia pública del Caso Nro. 2-23-UE. \nConoce más en la convocatoria AQUÍ
URL:https://www.corteconstitucional.gob.ec/event/audiencia-publica-caso-nro-2-23-ue/
CATEGORIES:Audiencias Públicas
END:VEVENT
BEGIN:VEVENT
DTSTART;TZID=America/Bogota:20230608T100000
DTEND;TZID=America/Bogota:20230608T130000
DTSTAMP:20260421T032125
CREATED:20230605T221702Z
LAST-MODIFIED:20230605T221702Z
UID:275060-1686218400-1686229200@www.corteconstitucional.gob.ec
SUMMARY:Audiencia Pública Caso Nro. 2-23-UE
DESCRIPTION:La jueza sustanciadora Karla Andrade Quevedo convoca a la audiencia pública del Caso Nro. 2-23-UE. \nConoce más en la convocatoria AQUÍ
URL:https://www.corteconstitucional.gob.ec/event/audiencia-publica-caso-nro-2-23-ue-2/
CATEGORIES:Audiencias Públicas
END:VEVENT
BEGIN:VEVENT
DTSTART;TZID=America/Bogota:20230608T130000
DTEND;TZID=America/Bogota:20230608T163000
DTSTAMP:20260421T032125
CREATED:20230608T174512Z
LAST-MODIFIED:20230608T174512Z
UID:266396-1686229200-1686241800@www.corteconstitucional.gob.ec
SUMMARY:Sesión extraordinaria del Pleno Nro. 013-E-2023
DESCRIPTION:Las juezas y jueces que conforman el Pleno de la Corte Constitucional realizarán hoy a partir de las 13h00 la sesión extraordinaria del Pleno Nro. 013-E-2023
URL:https://www.corteconstitucional.gob.ec/event/sesion-extraordinaria-del-pleno-nro-013-e-2023/
CATEGORIES:Sesiones del Pleno
END:VEVENT
BEGIN:VEVENT
DTSTART;TZID=America/Bogota:20230608T130000
DTEND;TZID=America/Bogota:20230608T163000
DTSTAMP:20260421T032125
CREATED:20230608T174512Z
LAST-MODIFIED:20230608T174512Z
UID:275064-1686229200-1686241800@www.corteconstitucional.gob.ec
SUMMARY:Sesión extraordinaria del Pleno Nro. 013-E-2023
DESCRIPTION:Las juezas y jueces que conforman el Pleno de la Corte Constitucional realizarán hoy a partir de las 13h00 la sesión extraordinaria del Pleno Nro. 013-E-2023
URL:https://www.corteconstitucional.gob.ec/event/sesion-extraordinaria-del-pleno-nro-013-e-2023-2/
CATEGORIES:Sesiones del Pleno
END:VEVENT
BEGIN:VEVENT
DTSTART;TZID=America/Bogota:20230608T150000
DTEND;TZID=America/Bogota:20230608T163000
DTSTAMP:20260421T032125
CREATED:20230419T201257Z
LAST-MODIFIED:20230518T171844Z
UID:265871-1686236400-1686241800@www.corteconstitucional.gob.ec
SUMMARY:Audiencia Pública Caso Nro. 2779-22-EP
DESCRIPTION:Juez sustanciador Jhoel Escudero Soliz \nAccede a la convocatoria y conoce más información AQUÍ
URL:https://www.corteconstitucional.gob.ec/event/audiencia-publica-telematica-caso-nro-2779-22-ep/
CATEGORIES:Audiencias Públicas
END:VEVENT
BEGIN:VEVENT
DTSTART;TZID=America/Bogota:20230608T150000
DTEND;TZID=America/Bogota:20230608T163000
DTSTAMP:20260421T032125
CREATED:20230419T201257Z
LAST-MODIFIED:20230419T201257Z
UID:275032-1686236400-1686241800@www.corteconstitucional.gob.ec
SUMMARY:Audiencia Pública Caso Nro. 2779-22-EP
DESCRIPTION:Juez sustanciador Jhoel Escudero Soliz \nAccede a la convocatoria y conoce más información AQUÍ
URL:https://www.corteconstitucional.gob.ec/event/audiencia-publica-telematica-caso-nro-2779-22-ep-2/
CATEGORIES:Audiencias Públicas
END:VEVENT
END:VCALENDAR