BEGIN:VCALENDAR
VERSION:2.0
PRODID:-//Corte Constitucional del Ecuador - ECPv6.10.2//NONSGML v1.0//EN
CALSCALE:GREGORIAN
METHOD:PUBLISH
X-ORIGINAL-URL:https://www.corteconstitucional.gob.ec
X-WR-CALDESC:Eventos para Corte Constitucional del Ecuador
REFRESH-INTERVAL;VALUE=DURATION:PT1H
X-Robots-Tag:noindex
X-PUBLISHED-TTL:PT1H
BEGIN:VTIMEZONE
TZID:America/Bogota
BEGIN:STANDARD
TZOFFSETFROM:-0500
TZOFFSETTO:-0500
TZNAME:-05
DTSTART:20230101T000000
END:STANDARD
END:VTIMEZONE
BEGIN:VEVENT
DTSTART;VALUE=DATE:20230529
DTEND;VALUE=DATE:20230603
DTSTAMP:20260421T032422
CREATED:20230516T212005Z
LAST-MODIFIED:20230516T212005Z
UID:275048-1685318400-1685750399@www.corteconstitucional.gob.ec
SUMMARY:Semana de la Justicia Constitucional
DESCRIPTION:Un encuentro de diálogo e intercambio de conocimientos que busca contribuir y rescatar la memoria histórica del Estado constitucional.
URL:https://www.corteconstitucional.gob.ec/event/semana-de-la-justicia-constitucional-2/
CATEGORIES:Eventos CC
END:VEVENT
BEGIN:VEVENT
DTSTART;VALUE=DATE:20230529
DTEND;VALUE=DATE:20230603
DTSTAMP:20260421T032422
CREATED:20230516T212005Z
LAST-MODIFIED:20230516T212005Z
UID:266183-1685318400-1685750399@www.corteconstitucional.gob.ec
SUMMARY:Semana de la Justicia Constitucional
DESCRIPTION:Un encuentro de diálogo e intercambio de conocimientos que busca contribuir y rescatar la memoria histórica del Estado constitucional.
URL:https://www.corteconstitucional.gob.ec/event/semana-de-la-justicia-constitucional/
CATEGORIES:Eventos CC
END:VEVENT
BEGIN:VEVENT
DTSTART;TZID=America/Bogota:20230531T150000
DTEND;TZID=America/Bogota:20230531T170000
DTSTAMP:20260421T032422
CREATED:20230518T172301Z
LAST-MODIFIED:20230518T172301Z
UID:275052-1685545200-1685552400@www.corteconstitucional.gob.ec
SUMMARY:Foro “La efectividad de las decisiones constitucionales"
DESCRIPTION:En el marco de la #SemanaDeLaJusticiaCC\, este Organismo en coordinación con el Colegio de Jurisprudencia de la Universidad San Francisco de Quito te invitan a participar en el Foro “La efectividad de las decisiones constitucionales».  \nFecha: Miércoles 31/05/2023  \nHora: 15h00 \nLugar: Salón Azul
URL:https://www.corteconstitucional.gob.ec/event/foro-la-efectividad-de-las-decisiones-constitucionales-2/
LOCATION:Universidad San Francisco de Quito – Salón Azul\, Ecuador
CATEGORIES:Eventos CC
END:VEVENT
BEGIN:VEVENT
DTSTART;TZID=America/Bogota:20230531T150000
DTEND;TZID=America/Bogota:20230531T170000
DTSTAMP:20260421T032422
CREATED:20230518T172301Z
LAST-MODIFIED:20230518T172301Z
UID:266215-1685545200-1685552400@www.corteconstitucional.gob.ec
SUMMARY:Foro “La efectividad de las decisiones constitucionales"
DESCRIPTION:En el marco de la #SemanaDeLaJusticiaCC\, este Organismo en coordinación con el Colegio de Jurisprudencia de la Universidad San Francisco de Quito te invitan a participar en el Foro “La efectividad de las decisiones constitucionales».  \nFecha: Miércoles 31/05/2023  \nHora: 15h00 \nLugar: Salón Azul
URL:https://www.corteconstitucional.gob.ec/event/foro-la-efectividad-de-las-decisiones-constitucionales/
LOCATION:Universidad San Francisco de Quito – Salón Azul\, Ecuador
CATEGORIES:Eventos CC
END:VEVENT
END:VCALENDAR