BEGIN:VCALENDAR
VERSION:2.0
PRODID:-//Corte Constitucional del Ecuador - ECPv6.10.2//NONSGML v1.0//EN
CALSCALE:GREGORIAN
METHOD:PUBLISH
X-ORIGINAL-URL:https://www.corteconstitucional.gob.ec
X-WR-CALDESC:Eventos para Corte Constitucional del Ecuador
REFRESH-INTERVAL;VALUE=DURATION:PT1H
X-Robots-Tag:noindex
X-PUBLISHED-TTL:PT1H
BEGIN:VTIMEZONE
TZID:America/Bogota
BEGIN:STANDARD
TZOFFSETFROM:-0500
TZOFFSETTO:-0500
TZNAME:-05
DTSTART:20230101T000000
END:STANDARD
END:VTIMEZONE
BEGIN:VEVENT
DTSTART;TZID=America/Bogota:20230509T090000
DTEND;TZID=America/Bogota:20230509T113000
DTSTAMP:20260421T044158
CREATED:20230509T140153Z
LAST-MODIFIED:20230509T140153Z
UID:275044-1683622800-1683631800@www.corteconstitucional.gob.ec
SUMMARY:Sesión Extraordinaria Nro. 010-E-2023
DESCRIPTION:Las juezas y jueces constitucionales que conforman el Pleno de la Corte Constitucional realizan la Sesión Extraordinaria Nro. 010-E-2023. \nConoce el orden del día AQUÍ
URL:https://www.corteconstitucional.gob.ec/event/sesion-extraordinaria-nro-010-e-2023-2/
CATEGORIES:Sesiones del Pleno
END:VEVENT
BEGIN:VEVENT
DTSTART;TZID=America/Bogota:20230509T090000
DTEND;TZID=America/Bogota:20230509T113000
DTSTAMP:20260421T044158
CREATED:20230509T140153Z
LAST-MODIFIED:20230509T140538Z
UID:266111-1683622800-1683631800@www.corteconstitucional.gob.ec
SUMMARY:Sesión Extraordinaria Nro. 010-E-2023
DESCRIPTION:Las juezas y jueces constitucionales que conforman el Pleno de la Corte Constitucional realizan la Sesión Extraordinaria Nro. 010-E-2023. \nConoce el orden del día AQUÍ
URL:https://www.corteconstitucional.gob.ec/event/sesion-extraordinaria-nro-010-e-2023/
CATEGORIES:Sesiones del Pleno
END:VEVENT
BEGIN:VEVENT
DTSTART;TZID=America/Bogota:20230509T093000
DTEND;TZID=America/Bogota:20230509T133000
DTSTAMP:20260421T044158
CREATED:20230505T193852Z
LAST-MODIFIED:20230505T193852Z
UID:266039-1683624600-1683639000@www.corteconstitucional.gob.ec
SUMMARY:Audiencia Pública telemática del Caso Nro. 2701-21-EP
DESCRIPTION:Jueza sustanciadora Alejandra Cárdenas Reyes. \nAccede a la convocatoria y conoce más AQUÍ
URL:https://www.corteconstitucional.gob.ec/event/audiencia-publica-telematica-del-caso-nro-2701-21-ep/
CATEGORIES:Audiencias Públicas
END:VEVENT
BEGIN:VEVENT
DTSTART;TZID=America/Bogota:20230509T093000
DTEND;TZID=America/Bogota:20230509T133000
DTSTAMP:20260421T044158
CREATED:20230505T193852Z
LAST-MODIFIED:20230505T193852Z
UID:275039-1683624600-1683639000@www.corteconstitucional.gob.ec
SUMMARY:Audiencia Pública telemática del Caso Nro. 2701-21-EP
DESCRIPTION:Jueza sustanciadora Alejandra Cárdenas Reyes. \nAccede a la convocatoria y conoce más AQUÍ
URL:https://www.corteconstitucional.gob.ec/event/audiencia-publica-telematica-del-caso-nro-2701-21-ep-2/
CATEGORIES:Audiencias Públicas
END:VEVENT
END:VCALENDAR